Workbook
Name Z_B5D8397B_B6E1_484A_95FA_0D9D3296DCC0_.wvu.PrintArea: '1'!$A$1:$K$59
Name Z_B5D8397B_B6E1_484A_95FA_0D9D3296DCC0_.wvu.PrintArea: '10'!$A$1:$K$59
Name Z_B5D8397B_B6E1_484A_95FA_0D9D3296DCC0_.wvu.PrintArea: '11'!$A$1:$K$59
Name Z_B5D8397B_B6E1_484A_95FA_0D9D3296DCC0_.wvu.PrintArea: '12'!$A$1:$K$59
Name Z_B5D8397B_B6E1_484A_95FA_0D9D3296DCC0_.wvu.PrintArea: '13'!$A$1:$K$59
Name Z_B5D8397B_B6E1_484A_95FA_0D9D3296DCC0_.wvu.PrintArea: '14'!$A$1:$K$59
Name Z_B5D8397B_B6E1_484A_95FA_0D9D3296DCC0_.wvu.PrintArea: '15'!$A$1:$K$59
Name Z_B5D8397B_B6E1_484A_95FA_0D9D3296DCC0_.wvu.PrintArea: '2'!$A$1:$K$59
Name Z_B5D8397B_B6E1_484A_95FA_0D9D3296DCC0_.wvu.PrintArea: '3'!$A$1:$K$59
Name Z_B5D8397B_B6E1_484A_95FA_0D9D3296DCC0_.wvu.PrintArea: '4'!$A$1:$K$59
Name Z_B5D8397B_B6E1_484A_95FA_0D9D3296DCC0_.wvu.PrintArea: '5'!$A$1:$K$59
Name Z_B5D8397B_B6E1_484A_95FA_0D9D3296DCC0_.wvu.PrintArea: '6'!$A$1:$K$59
Name Z_B5D8397B_B6E1_484A_95FA_0D9D3296DCC0_.wvu.PrintArea: '7'!$A$1:$K$59
Name Z_B5D8397B_B6E1_484A_95FA_0D9D3296DCC0_.wvu.PrintArea: '8'!$A$1:$K$59
Name Z_B5D8397B_B6E1_484A_95FA_0D9D3296DCC0_.wvu.PrintArea: '9'!$A$1:$K$59
Name Z_B5D8397B_B6E1_484A_95FA_0D9D3296DCC0_.wvu.PrintArea: 'F1'!$A$1:$K$59
Name Z_B5D8397B_B6E1_484A_95FA_0D9D3296DCC0_.wvu.PrintArea: 'F2'!$A$1:$K$59
Name Z_B5D8397B_B6E1_484A_95FA_0D9D3296DCC0_.wvu.PrintArea: 'F3'!$A$1:$K$59
Name Z_B5D8397B_B6E1_484A_95FA_0D9D3296DCC0_.wvu.PrintArea: 'F4'!$A$1:$K$59
Name Z_B5D8397B_B6E1_484A_95FA_0D9D3296DCC0_.wvu.PrintArea: 'F5'!$A$1:$K$59
Name Z_B5D8397B_B6E1_484A_95FA_0D9D3296DCC0_.wvu.PrintArea: 'F6'!$A$1:$K$59
Name Z_B5D8397B_B6E1_484A_95FA_0D9D3296DCC0_.wvu.PrintArea: 'F7'!$A$1:$K$59
Name Z_B5D8397B_B6E1_484A_95FA_0D9D3296DCC0_.wvu.PrintArea: 'F8'!$A$1:$K$59
Name Z_B5D8397B_B6E1_484A_95FA_0D9D3296DCC0_.wvu.PrintArea: tocopy!$A$1:$K$59

Sheet Boat Name
A2: Season 2026 | B2: CB Duty 100pts = 1 | C2: 1 | F2: CB DUTY | G2: CB DUTY | H2: Penalty | I2: Standings for the"Pierce Akroyd"perpetual trophy
F3: RACE # | G3: RACE # | H3: To be | I3: Wed. | J3: Sun. | K3: Total | L3: Adjusted
A4: CruisingClass | B4: ModeL | C4: Sail # | D4: PHRF W/L | E4: PHRF R/L | F4: 1 thru 14 | G4: 15 thru 22 | H4: Assessed | I4: Total | J4: Total | K4: Overall | L4: Total | M4: Rank
A5: Carry On | B5: Passport 40 | D5: 172
A6: Cheraz | B6: O'Day 322 | D6: 204
A7: Dilemma | B7: Evelyn 32 | C7: 31748 | D7: 116 | I7: =Wed!AH7 -> 0 | J7: =Sun!V7 -> 0 | K7: =I7+J7 -> 0 | L7: =IF(H7>0,((I7+J7)*(1-H7)),I7+J7) -> 0 | M7: =RANK(L7,$L$5:$L$74,0) -> 25
A8: Dulcinea | B8: Tripp 36 | D8: 81 | H8: 0.1 | I8: =Wed!AH8 -> 353 | J8: =Sun!V8 -> 0 | K8: =I8+J8 -> 353 | L8: =IF(H8>0,((I8+J8)*(1-H8)),I8+J8) -> 317.7 | M8: =RANK(L8,$L$5:$L$74,0) -> 20
A9: Eclipse | B9: J 36 | D9: 105 | I9: =Wed!AH9 -> 0 | J9: =Sun!V9 -> 0 | K9: =I9+J9 -> 0 | L9: =IF(H9>0,((I9+J9)*(1-H9)),I9+J9) -> 0 | M9: =RANK(L9,$L$5:$L$74,0) -> 25
A10: Electra | B10: Dolphin 24 | C10: 233 | D10: 276 | H10: 0.05 | I10: =Wed!AH10 -> 391 | J10: =Sun!V10 -> 0 | K10: =I10+J10 -> 391 | L10: =IF(H10>0,((I10+J10)*(1-H10)),I10+J10) -> 371.45 | M10: =RANK(L10,$L$5:$L$74,0) -> 17
A11: Fast Eddy | B11: O'Day 322 | C11: 1411 | D11: 204 | I11: =Wed!AH11 -> 548 | J11: =Sun!V11 -> 0 | K11: =I11+J11 -> 548 | L11: =IF(H11>0,((I11+J11)*(1-H11)),I11+J11) -> 548 | M11: =RANK(L11,$L$5:$L$74,0) -> 14
A12: Golden Rule | B12: C&C 35 Mk3 | C12: 40681 | D12: 147 | I12: =Wed!AH12 -> 663 | J12: =Sun!V12 -> 0 | K12: =I12+J12 -> 663 | L12: =IF(H12>0,((I12+J12)*(1-H12)),I12+J12) -> 663 | M12: =RANK(L12,$L$5:$L$74,0) -> 13
A13: Grand Cru | B13: Catalina 36 | C13: 1789 | D13: 178 | I13: =Wed!AH13 -> 690 | J13: =Sun!V13 -> 0 | K13: =I13+J13 -> 690 | L13: =IF(H13>0,((I13+J13)*(1-H13)),I13+J13) -> 690 | M13: =RANK(L13,$L$5:$L$74,0) -> 10
A14: Irish Mist | B14: Nonsuch 33 | C14: 6 | D14: 180 | I14: =Wed!AH14 -> 783 | J14: =Sun!V14 -> 80 | K14: =I14+J14 -> 863 | L14: =IF(H14>0,((I14+J14)*(1-H14)),I14+J14) -> 863 | M14: =RANK(L14,$L$5:$L$74,0) -> 6
A15: Jesse Leigh | B15: J 35 | C15: 41470 | D15: 103 | I15: =Wed!AH15 -> 356 | J15: =Sun!V15 -> 0 | K15: =I15+J15 -> 356 | L15: =IF(H15>0,((I15+J15)*(1-H15)),I15+J15) -> 356 | M15: =RANK(L15,$L$5:$L$74,0) -> 18
A16: L'Arch De | B16: Beneteau First 32 | C16: 32733 | D16: 135
A17: Madcap 1.5 | B17: J 105 | D17: 118 | I17: =Wed!AH17 -> 0 | J17: =Sun!V17 -> 0 | K17: =I17+J17 -> 0 | L17: =IF(H17>0,((I17+J17)*(1-H17)),I17+J17) -> 0 | M17: =RANK(L17,$L$5:$L$74,0) -> 25
A18: Magan | B18: Olson 34 | C18: 12795 | D18: 142 | I18: =Wed!AH18 -> 0 | J18: =Sun!V18 -> 0 | K18: =I18+J18 -> 0 | L18: =IF(H18>0,((I18+J18)*(1-H18)),I18+J18) -> 0 | M18: =RANK(L18,$L$5:$L$74,0) -> 25
A19: Meltemi | B19: X 372 | D19: 123 | H19: 0.05 | I19: =Wed!AH19 -> 665 | J19: =Sun!V19 -> 74 | K19: =I19+J19 -> 739 | L19: =IF(H19>0,((I19+J19)*(1-H19)),I19+J19) -> 702.05 | M19: =RANK(L19,$L$5:$L$74,0) -> 9
A20: Nomade | B20: Dufour V35 | C20: 31057 | D20: 167 | I20: =Wed!AH20 -> 0 | J20: =Sun!V20 -> 0 | K20: =I20+J20 -> 0 | L20: =IF(H20>0,((I20+J20)*(1-H20)),I20+J20) -> 0 | M20: =RANK(L20,$L$5:$L$74,0) -> 25
A21: Park Place | B21: O'Day 34 | C21: 41976 | D21: 169 | I21: =Wed!AH21 -> 382 | J21: =Sun!V21 -> 0 | K21: =I21+J21 -> 382 | L21: =IF(H21>0,((I21+J21)*(1-H21)),I21+J21) -> 382 | M21: =RANK(L21,$L$5:$L$74,0) -> 16
A22: Phoenix | B22: X 332 | C22: 259 | D22: 131 | I22: =Wed!AH22 -> 0 | J22: =Sun!V22 -> 0 | K22: =I22+J22 -> 0 | L22: =IF(H22>0,((I22+J22)*(1-H22)),I22+J22) -> 0 | M22: =RANK(L22,$L$5:$L$74,0) -> 25
A23: Restless | B23: Rhodes 41 | C23: 13260 | D23: 192 | I23: =Wed!AH23 -> 0 | J23: =Sun!V23 -> 0 | K23: =I23+J23 -> 0 | L23: =IF(H23>0,((I23+J23)*(1-H23)),I23+J23) -> 0 | M23: =RANK(L23,$L$5:$L$74,0) -> 25
A24: Sagacious | B24: Express 34 | C24: 73048 | D24: 123 | H24: 0.15 | I24: =Wed!AH24 -> 374 | J24: =Sun!V24 -> 0 | K24: =I24+J24 -> 374 | L24: =IF(H24>0,((I24+J24)*(1-H24)),I24+J24) -> 317.9 | M24: =RANK(L24,$L$5:$L$74,0) -> 19
A25: Silent Lady | B25: Catalina 25 | C25: 3972 | D25: 250 | I25: =Wed!AH25 -> 0 | J25: =Sun!V25 -> 0 | K25: =I25+J25 -> 0 | L25: =IF(H25>0,((I25+J25)*(1-H25)),I25+J25) -> 0 | M25: =RANK(L25,$L$5:$L$74,0) -> 25
A26: Spindrift | B26: Jeanneau 36 | D26: 142 | I26: =Wed!AH26 -> 0 | J26: =Sun!V26 -> 0 | K26: =I26+J26 -> 0 | L26: =IF(H26>0,((I26+J26)*(1-H26)),I26+J26) -> 0 | M26: =RANK(L26,$L$5:$L$74,0) -> 25
A27: Towhee | B27: Cal 40 | C27: 1781 | D27: 138 | I27: =Wed!AH27 -> 0 | J27: =Sun!V27 -> 0 | K27: =I27+J27 -> 0 | L27: =IF(H27>0,((I27+J27)*(1-H27)),I27+J27) -> 0 | M27: =RANK(L27,$L$5:$L$74,0) -> 25
A28: Tre Scooch | B28: Catalina 36 | C28: 2195 | D28: 187
A29: Yonder | B29: J-95 | C29: 95007 | D29: 121 | I29: =Wed!AH29 -> 755 | J29: =Sun!V29 -> 0 | K29: =I29+J29 -> 755 | L29: =IF(H29>0,((I29+J29)*(1-H29)),I29+J29) -> 755 | M29: =RANK(L29,$L$5:$L$74,0) -> 7
A30: Glow Boat | B30: F24 | C30: 57 | D30: 80 | I30: =Wed!AH30 -> 676 | J30: =Sun!V30 -> 0 | K30: =I30+J30 -> 676 | L30: =IF(H30>0,((I30+J30)*(1-H30)),I30+J30) -> 676 | M30: =RANK(L30,$L$5:$L$74,0) -> 11
A31: Hooligan | B31: F27 | C31: 57 | D31: 80 | I31: =Wed!AH31 -> 9 | J31: =Sun!V31 -> 0 | K31: =I31+J31 -> 9 | L31: =IF(H31>0,((I31+J31)*(1-H31)),I31+J31) -> 9 | M31: =RANK(L31,$L$5:$L$74,0) -> 24
A32: Holiday Routine | D32: 204 | I32: =Wed!AH32 -> 88 | J32: =Sun!V32 -> 0 | K32: =I32+J32 -> 88 | L32: =IF(H32>0,((I32+J32)*(1-H32)),I32+J32) -> 88 | M32: =RANK(L32,$L$5:$L$74,0) -> 23
A33: Sonas | B33: Oday 322 | D33: 204
I34: =Wed!AH34 -> 0 | J34: =Sun!V34 -> 0 | K34: =I34+J34 -> 0 | L34: =IF(H34>0,((I34+J34)*(1-H34)),I34+J34) -> 0 | M34: =RANK(L34,$L$5:$L$74,0) -> 25
F35: CB DUTY | G35: CB DUTY | H35: Penalty
A36: =A2 -> Season 2026 | F36: RACE # | G36: RACE # | H36: To be | I36: Standings for the"Pierce Akroyd"perpetual trophy
F37: 1 thru 14 | G37: 15 thru 22 | H37: Assesed | I37: Wed. | J37: Sun. | K37: Total | L37: Adjusted
A38: Racing Class | B38: Model | C38: Sail # | D38: W/L PHRF | E38: R/L PHRF | I38: Total | J38: Total | K38: Overall | L38: Total | M38: Rank
A39: Alive | B39: J-105 | C39: 225 | D39: 96 | E39: 90 | I39: =Wed!AH39 -> 809 | J39: =Sun!V39 -> 81 | K39: =I39+J39 -> 890 | L39: =IF(H39>0,((I39+J39)*(1-H39)),I39+J39) -> 890 | M39: =RANK(L39,$L$5:$L$74,0) -> 3
A40: Dilemma | B40: Evelyn 32-2 | C40: 31748 | D40: 96 | E40: 92
A41: Doubledown - Sail Last | B41: Henderson 30 | C41: 121 | D41: 42 | E41: 42
...

Sheet Wed
A1: High Score | B1: Wed. | C1: =LARGE(C5:C34,1) -> 92 | D1: =LARGE(D5:D34,1) -> 87 | E1: =LARGE(E5:E34,1) -> 84 | F1: =LARGE(F5:F34,1) -> 92 | G1: =LARGE(G5:G34,1) -> 94 | H1: =LARGE(H5:H34,1) -> 96 | I1: =LARGE(I5:I34,1) -> 97 | J1: =LARGE(J5:J34,1) -> 94 | ... Q1: =LARGE(Q5:Q34,1) -> 94
A2: ='Boat Name'!A2 -> Season 2026 | C2: 46169 | D2: 46176 | E2: 46183 | F2: 46190 | G2: 46197 | H2: 46204 | I2: 46211 | J2: 46218 | K2: 46225 | L2: 46232 | M2: 8/5/ | N2: 46246 | O2: 46253 | P2: 46260 | Q2: 46267 | S2: Tot. Valid | T2: Wed. | U2: Wed. | AH2: 60% Rule
A3: Valid Wed Races | B3: CB Duty | C3: 1 | D3: 1 | E3: 1 | F3: 1 | G3: 1 | H3: 1 | I3: 1 | J3: 1 | K3: 1 | L3: 1 | M3: 1 | N3: 1 | O3: 1 | P3: 1 | Q3: 1 | R3: Sum | S3: =SUM(C3:Q3) -> 15 | T3: Class | U3: Overall | AH3: # of Races
A4: Boat Name, Cruising | B4: Score | C4: R1 | D4: R2 | E4: R3 | F4: R4 | G4: R5 | H4: R6 | I4: R7 | J4: R8 | K4: R9 | L4: R10 | M4: R11 | N4: R12 | O4: R13 | P4: R14 | Q4: R15 | R4: Total | S4: 60% Total | T4: Standing | U4: Standing | W4: 1 | X4: 2 | Y4: 3 | Z4: 4 | AA4: 5 | AB4: 6 | AC4: 7 | AD4: 8 | AE4: 9 | AF4: 10 | AG4: 11 | AH4: 9
A5: ='Boat Name'!A5 -> Carry On | B5: =IF('Boat Name'!F5>0,IF(OFFSET($B$3,0,'Boat Name'!F5, )=1,IF('Boat Name'!$C$2=0,OFFSET($B$1,0,'Boat Name'!F5),IF('Boat Name'!$C$2=1,OFFSET($B$3,0,'Boat Name'!F5)*100,"")),""),"") | C5: =IF(C$3=1,'1'!$O5,0) -> 0 | D5: =IF(D$3=1,'2'!$O5,0) -> 0 | E5: =IF(E$3=1,'3'!$O5,0) -> 0 | F5: =IF(F$3=1,'4'!$O5,0) -> 0 | G5: =IF(G$3=1,'5'!$O5,0) -> 0 | H5: =IF(H$3=1,'6'!$O5,0) -> 0 | I5: =IF(I$3=1,'7'!$O5,0) -> 0 | J5: =IF(J$3=1,'8'!$O5,0) -> 0 | K5: =IF(K$3=1,'9'!$O5,0) -> 0 | L5: =IF(L$3=1,'10'!$O5,0) -> 0 | M5: =IF(M$3=1,'11'!$O5,0) -> 0 | N5: =IF(N$3=1,'12'!$O5,0) -> 0 | O5: =IF(O$3=1,'13'!$O5,0) -> 0 | P5: =IF(P$3=1,'14'!$O5,0) -> 0 | Q5: =IF(Q$3=1,'15'!$O5,0) -> 0 | R5: =SUM(B5:Q5) -> 0 | S5: =AH5 -> 0 | T5: =RANK(S5,$S$5:$S$34) -> 17 | U5: =RANK(S5,$S$5:$S$74) -> 28 | W5: =LARGE($B5:$Q5,W$4) -> 0 | X5: =LARGE($B5:$Q5,X$4) -> 0 | Y5: =LARGE($B5:$Q5,Y$4) -> 0 | Z5: =LARGE($B5:$Q5,Z$4) -> 0 | AA5: =LARGE($B5:$Q5,AA$4) -> 0 | AB5: =LARGE($B5:$Q5,AB$4) -> 0 | AC5: =LARGE($B5:$Q5,AC$4) -> 0 | AD5: =LARGE($B5:$Q5,AD$4) -> 0 | ... AG5: =LARGE($B5:$Q5,AG$4) -> 0 | AH5: =SUM(W5:OFFSET(W5,0,($AH$4-1))) -> 0
A6: ='Boat Name'!A6 -> Cheraz | B6: =IF('Boat Name'!F6>0,IF(OFFSET($B$3,0,'Boat Name'!F6, )=1,IF('Boat Name'!$C$2=0,OFFSET($B$1,0,'Boat Name'!F6),IF('Boat Name'!$C$2=1,OFFSET($B$3,0,'Boat Name'!F6)*100,"")),""),"") | C6: =IF(C$3=1,'1'!$O6,0) -> 0 | D6: =IF(D$3=1,'2'!$O6,0) -> 0 | E6: =IF(E$3=1,'3'!$O6,0) -> 0 | F6: =IF(F$3=1,'4'!$O6,0) -> 0 | G6: =IF(G$3=1,'5'!$O6,0) -> 0 | H6: =IF(H$3=1,'6'!$O6,0) -> 0 | I6: =IF(I$3=1,'7'!$O6,0) -> 0 | J6: =IF(J$3=1,'8'!$O6,0) -> 0 | K6: =IF(K$3=1,'9'!$O6,0) -> 0 | L6: =IF(L$3=1,'10'!$O6,0) -> 0 | M6: =IF(M$3=1,'11'!$O6,0) -> 0 | N6: =IF(N$3=1,'12'!$O6,0) -> 0 | O6: =IF(O$3=1,'13'!$O6,0) -> 0 | P6: =IF(P$3=1,'14'!$O6,0) -> 0 | Q6: =IF(Q$3=1,'15'!$O6,0) -> 0 | R6: =SUM(B6:Q6) -> 0 | S6: =AH6 -> 0 | T6: =RANK(S6,$S$5:$S$34) -> 17 | U6: =RANK(S6,$S$5:$S$74) -> 28 | W6: =LARGE($B6:$Q6,W$4) -> 0 | X6: =LARGE($B6:$Q6,X$4) -> 0 | Y6: =LARGE($B6:$Q6,Y$4) -> 0 | Z6: =LARGE($B6:$Q6,Z$4) -> 0 | AA6: =LARGE($B6:$Q6,AA$4) -> 0 | AB6: =LARGE($B6:$Q6,AB$4) -> 0 | AC6: =LARGE($B6:$Q6,AC$4) -> 0 | AD6: =LARGE($B6:$Q6,AD$4) -> 0 | ... AG6: =LARGE($B6:$Q6,AG$4) -> 0 | AH6: =SUM(W6:OFFSET(W6,0,($AH$4-1))) -> 0
A7: ='Boat Name'!A7 -> Dilemma | C7: =IF(C$3=1,'1'!$O7,0) -> 0 | D7: =IF(D$3=1,'2'!$O7,0) -> 0 | E7: =IF(E$3=1,'3'!$O7,0) -> 0 | F7: =IF(F$3=1,'4'!$O7,0) -> 0 | G7: =IF(G$3=1,'5'!$O7,0) -> 0 | H7: =IF(H$3=1,'6'!$O7,0) -> 0 | I7: =IF(I$3=1,'7'!$O7,0) -> 0 | J7: =IF(J$3=1,'8'!$O7,0) -> 0 | K7: =IF(K$3=1,'9'!$O7,0) -> 0 | L7: =IF(L$3=1,'10'!$O7,0) -> 0 | M7: =IF(M$3=1,'11'!$O7,0) -> 0 | N7: =IF(N$3=1,'12'!$O7,0) -> 0 | O7: =IF(O$3=1,'13'!$O7,0) -> 0 | P7: =IF(P$3=1,'14'!$O7,0) -> 0 | Q7: =IF(Q$3=1,'15'!$O7,0) -> 0 | R7: =SUM(B7:Q7) -> 0 | S7: =AH7 -> 0 | T7: =RANK(S7,$S$5:$S$34) -> 17 | U7: =RANK(S7,$S$5:$S$74) -> 28 | W7: =LARGE($B7:$Q7,W$4) -> 0 | X7: =LARGE($B7:$Q7,X$4) -> 0 | Y7: =LARGE($B7:$Q7,Y$4) -> 0 | Z7: =LARGE($B7:$Q7,Z$4) -> 0 | AA7: =LARGE($B7:$Q7,AA$4) -> 0 | AB7: =LARGE($B7:$Q7,AB$4) -> 0 | AC7: =LARGE($B7:$Q7,AC$4) -> 0 | AD7: =LARGE($B7:$Q7,AD$4) -> 0 | ... AG7: =LARGE($B7:$Q7,AG$4) -> 0 | AH7: =SUM(W7:OFFSET(W7,0,($AH$4-1))) -> 0
A8: ='Boat Name'!A8 -> Dulcinea | B8: =IF('Boat Name'!F8>0,IF(OFFSET($B$3,0,'Boat Name'!F8, )=1,IF('Boat Name'!$C$2=0,OFFSET($B$1,0,'Boat Name'!F8),IF('Boat Name'!$C$2=1,OFFSET($B$3,0,'Boat Name'!F8)*100,"")),""),"") | C8: =IF(C$3=1,'1'!$O8,0) -> 0 | D8: =IF(D$3=1,'2'!$O8,0) -> 0 | E8: =IF(E$3=1,'3'!$O8,0) -> 0 | F8: =IF(F$3=1,'4'!$O8,0) -> 92 | G8: =IF(G$3=1,'5'!$O8,0) -> 94 | H8: =IF(H$3=1,'6'!$O8,0) -> 0 | I8: =IF(I$3=1,'7'!$O8,0) -> 0 | J8: =IF(J$3=1,'8'!$O8,0) -> 0 | K8: =IF(K$3=1,'9'!$O8,0) -> 80 | L8: =IF(L$3=1,'10'!$O8,0) -> 0 | M8: =IF(M$3=1,'11'!$O8,0) -> 0 | N8: =IF(N$3=1,'12'!$O8,0) -> 0 | O8: =IF(O$3=1,'13'!$O8,0) -> 0 | P8: =IF(P$3=1,'14'!$O8,0) -> 87 | Q8: =IF(Q$3=1,'15'!$O8,0) -> 0 | R8: =SUM(B8:Q8) -> 353 | S8: =AH8 -> 353 | T8: =RANK(S8,$S$5:$S$34) -> 13 | U8: =RANK(S8,$S$5:$S$74) -> 22 | W8: =LARGE($B8:$Q8,W$4) -> 94 | X8: =LARGE($B8:$Q8,X$4) -> 92 | Y8: =LARGE($B8:$Q8,Y$4) -> 87 | Z8: =LARGE($B8:$Q8,Z$4) -> 80 | AA8: =LARGE($B8:$Q8,AA$4) -> 0 | AB8: =LARGE($B8:$Q8,AB$4) -> 0 | AC8: =LARGE($B8:$Q8,AC$4) -> 0 | AD8: =LARGE($B8:$Q8,AD$4) -> 0 | ... AG8: =LARGE($B8:$Q8,AG$4) -> 0 | AH8: =SUM(W8:OFFSET(W8,0,($AH$4-1))) -> 353
A9: ='Boat Name'!A9 -> Eclipse | C9: =IF(C$3=1,'1'!$O9,0) -> 0 | D9: =IF(D$3=1,'2'!$O9,0) -> 0 | E9: =IF(E$3=1,'3'!$O9,0) -> 0 | F9: =IF(F$3=1,'4'!$O9,0) -> 0 | G9: =IF(G$3=1,'5'!$O9,0) -> 0 | H9: =IF(H$3=1,'6'!$O9,0) -> 0 | I9: =IF(I$3=1,'7'!$O9,0) -> 0 | J9: =IF(J$3=1,'8'!$O9,0) -> 0 | K9: =IF(K$3=1,'9'!$O9,0) -> 0 | L9: =IF(L$3=1,'10'!$O9,0) -> 0 | M9: =IF(M$3=1,'11'!$O9,0) -> 0 | N9: =IF(N$3=1,'12'!$O9,0) -> 0 | O9: =IF(O$3=1,'13'!$O9,0) -> 0 | P9: =IF(P$3=1,'14'!$O9,0) -> 0 | Q9: =IF(Q$3=1,'15'!$O9,0) -> 0 | R9: =SUM(B9:Q9) -> 0 | S9: =AH9 -> 0 | T9: =RANK(S9,$S$5:$S$34) -> 17 | U9: =RANK(S9,$S$5:$S$74) -> 28 | W9: =LARGE($B9:$Q9,W$4) -> 0 | X9: =LARGE($B9:$Q9,X$4) -> 0 | Y9: =LARGE($B9:$Q9,Y$4) -> 0 | Z9: =LARGE($B9:$Q9,Z$4) -> 0 | AA9: =LARGE($B9:$Q9,AA$4) -> 0 | AB9: =LARGE($B9:$Q9,AB$4) -> 0 | AC9: =LARGE($B9:$Q9,AC$4) -> 0 | AD9: =LARGE($B9:$Q9,AD$4) -> 0 | ... AG9: =LARGE($B9:$Q9,AG$4) -> 0 | AH9: =SUM(W9:OFFSET(W9,0,($AH$4-1))) -> 0
A10: ='Boat Name'!A10 -> Electra | B10: =IF('Boat Name'!F10>0,IF(OFFSET($B$3,0,'Boat Name'!F10, )=1,IF('Boat Name'!$C$2=0,OFFSET($B$1,0,'Boat Name'!F10),IF('Boat Name'!$C$2=1,OFFSET($B$3,0,'Boat Name'!F10)*100,"")),""),"") | C10: =IF(C$3=1,'1'!$O10,0) -> 0 | D10: =IF(D$3=1,'2'!$O10,0) -> 0 | E10: =IF(E$3=1,'3'!$O10,0) -> 0 | F10: =IF(F$3=1,'4'!$O10,0) -> 0 | G10: =IF(G$3=1,'5'!$O10,0) -> 0 | H10: =IF(H$3=1,'6'!$O10,0) -> 0 | I10: =IF(I$3=1,'7'!$O10,0) -> 0 | J10: =IF(J$3=1,'8'!$O10,0) -> 0 | K10: =IF(K$3=1,'9'!$O10,0) -> 72 | L10: =IF(L$3=1,'10'!$O10,0) -> 0 | M10: =IF(M$3=1,'11'!$O10,0) -> 75 | N10: =IF(N$3=1,'12'!$O10,0) -> 92 | O10: =IF(O$3=1,'13'!$O10,0) -> 75 | P10: =IF(P$3=1,'14'!$O10,0) -> 77 | Q10: =IF(Q$3=1,'15'!$O10,0) -> 0 | R10: =SUM(B10:Q10) -> 391 | S10: =AH10 -> 391 | T10: =RANK(S10,$S$5:$S$34) -> 9 | U10: =RANK(S10,$S$5:$S$74) -> 18 | W10: =LARGE($B10:$Q10,W$4) -> 92 | X10: =LARGE($B10:$Q10,X$4) -> 77 | Y10: =LARGE($B10:$Q10,Y$4) -> 75 | Z10: =LARGE($B10:$Q10,Z$4) -> 75 | AA10: =LARGE($B10:$Q10,AA$4) -> 72 | AB10: =LARGE($B10:$Q10,AB$4) -> 0 | AC10: =LARGE($B10:$Q10,AC$4) -> 0 | AD10: =LARGE($B10:$Q10,AD$4) -> 0 | ... AG10: =LARGE($B10:$Q10,AG$4) -> 0 | AH10: =SUM(W10:OFFSET(W10,0,($AH$4-1))) -> 391
A11: ='Boat Name'!A11 -> Fast Eddy | C11: =IF(C$3=1,'1'!$O11,0) -> 82 | D11: =IF(D$3=1,'2'!$O11,0) -> 0 | E11: =IF(E$3=1,'3'!$O11,0) -> 0 | F11: =IF(F$3=1,'4'!$O11,0) -> 78 | G11: =IF(G$3=1,'5'!$O11,0) -> 80 | H11: =IF(H$3=1,'6'!$O11,0) -> 0 | I11: =IF(I$3=1,'7'!$O11,0) -> 75 | J11: =IF(J$3=1,'8'!$O11,0) -> 0 | K11: =IF(K$3=1,'9'!$O11,0) -> 74 | L11: =IF(L$3=1,'10'!$O11,0) -> 0 | M11: =IF(M$3=1,'11'!$O11,0) -> 0 | N11: =IF(N$3=1,'12'!$O11,0) -> 0 | O11: =IF(O$3=1,'13'!$O11,0) -> 0 | P11: =IF(P$3=1,'14'!$O11,0) -> 75 | Q11: =IF(Q$3=1,'15'!$O11,0) -> 84 | R11: =SUM(B11:Q11) -> 548 | S11: =AH11 -> 548 | T11: =RANK(S11,$S$5:$S$34) -> 8 | U11: =RANK(S11,$S$5:$S$74) -> 16 | W11: =LARGE($B11:$Q11,W$4) -> 84 | X11: =LARGE($B11:$Q11,X$4) -> 82 | Y11: =LARGE($B11:$Q11,Y$4) -> 80 | Z11: =LARGE($B11:$Q11,Z$4) -> 78 | AA11: =LARGE($B11:$Q11,AA$4) -> 75 | AB11: =LARGE($B11:$Q11,AB$4) -> 75 | AC11: =LARGE($B11:$Q11,AC$4) -> 74 | AD11: =LARGE($B11:$Q11,AD$4) -> 0 | ... AG11: =LARGE($B11:$Q11,AG$4) -> 0 | AH11: =SUM(W11:OFFSET(W11,0,($AH$4-1))) -> 548
A12: ='Boat Name'!A12 -> Golden Rule | B12: =IF('Boat Name'!F12>0,IF(OFFSET($B$3,0,'Boat Name'!F12, )=1,IF('Boat Name'!$C$2=0,OFFSET($B$1,0,'Boat Name'!F12),IF('Boat Name'!$C$2=1,OFFSET($B$3,0,'Boat Name'!F12)*100,"")),""),"") | C12: =IF(C$3=1,'1'!$O12,0) -> 0 | D12: =IF(D$3=1,'2'!$O12,0) -> 0 | E12: =IF(E$3=1,'3'!$O12,0) -> 0 | F12: =IF(F$3=1,'4'!$O12,0) -> 0 | G12: =IF(G$3=1,'5'!$O12,0) -> 0 | H12: =IF(H$3=1,'6'!$O12,0) -> 0 | I12: =IF(I$3=1,'7'!$O12,0) -> 91 | J12: =IF(J$3=1,'8'!$O12,0) -> 77 | K12: =IF(K$3=1,'9'!$O12,0) -> 88 | L12: =IF(L$3=1,'10'!$O12,0) -> 86 | M12: =IF(M$3=1,'11'!$O12,0) -> 80 | N12: =IF(N$3=1,'12'!$O12,0) -> 75 | O12: =IF(O$3=1,'13'!$O12,0) -> 83 | P12: =IF(P$3=1,'14'!$O12,0) -> 83 | Q12: =IF(Q$3=1,'15'!$O12,0) -> 0 | R12: =SUM(B12:Q12) -> 663 | S12: =AH12 -> 663 | T12: =RANK(S12,$S$5:$S$34) -> 7 | U12: =RANK(S12,$S$5:$S$74) -> 14 | W12: =LARGE($B12:$Q12,W$4) -> 91 | X12: =LARGE($B12:$Q12,X$4) -> 88 | Y12: =LARGE($B12:$Q12,Y$4) -> 86 | Z12: =LARGE($B12:$Q12,Z$4) -> 83 | AA12: =LARGE($B12:$Q12,AA$4) -> 83 | AB12: =LARGE($B12:$Q12,AB$4) -> 80 | AC12: =LARGE($B12:$Q12,AC$4) -> 77 | AD12: =LARGE($B12:$Q12,AD$4) -> 75 | ... AG12: =LARGE($B12:$Q12,AG$4) -> 0 | AH12: =SUM(W12:OFFSET(W12,0,($AH$4-1))) -> 663
A13: ='Boat Name'!A13 -> Grand Cru | B13: 100 | C13: =IF(C$3=1,'1'!$O13,0) -> 0 | D13: =IF(D$3=1,'2'!$O13,0) -> 73 | E13: =IF(E$3=1,'3'!$O13,0) -> 74 | F13: =IF(F$3=1,'4'!$O13,0) -> 72 | G13: =IF(G$3=1,'5'!$O13,0) -> 74 | H13: =IF(H$3=1,'6'!$O13,0) -> 0 | I13: =IF(I$3=1,'7'!$O13,0) -> 71 | J13: =IF(J$3=1,'8'!$O13,0) -> 74 | K13: =IF(K$3=1,'9'!$O13,0) -> 0 | L13: =IF(L$3=1,'10'!$O13,0) -> 72 | M13: =IF(M$3=1,'11'!$O13,0) -> 73 | N13: =IF(N$3=1,'12'!$O13,0) -> 0 | O13: =IF(O$3=1,'13'!$O13,0) -> 73 | P13: =IF(P$3=1,'14'!$O13,0) -> 71 | Q13: =IF(Q$3=1,'15'!$O13,0) -> 77 | R13: =SUM(B13:Q13) -> 904 | S13: =AH13 -> 690 | T13: =RANK(S13,$S$5:$S$34) -> 3 | U13: =RANK(S13,$S$5:$S$74) -> 10 | W13: =LARGE($B13:$Q13,W$4) -> 100 | X13: =LARGE($B13:$Q13,X$4) -> 77 | Y13: =LARGE($B13:$Q13,Y$4) -> 74 | Z13: =LARGE($B13:$Q13,Z$4) -> 74 | AA13: =LARGE($B13:$Q13,AA$4) -> 74 | AB13: =LARGE($B13:$Q13,AB$4) -> 73 | AC13: =LARGE($B13:$Q13,AC$4) -> 73 | AD13: =LARGE($B13:$Q13,AD$4) -> 73 | ... AG13: =LARGE($B13:$Q13,AG$4) -> 71 | AH13: =SUM(W13:OFFSET(W13,0,($AH$4-1))) -> 690
A14: ='Boat Name'!A14 -> Irish Mist | B14: 100 | C14: =IF(C$3=1,'1'!$O14,0) -> 92 | D14: =IF(D$3=1,'2'!$O14,0) -> 0 | E14: =IF(E$3=1,'3'!$O14,0) -> 0 | F14: =IF(F$3=1,'4'!$O14,0) -> 82 | G14: =IF(G$3=1,'5'!$O14,0) -> 88 | H14: =IF(H$3=1,'6'!$O14,0) -> 0 | I14: =IF(I$3=1,'7'!$O14,0) -> 80 | J14: =IF(J$3=1,'8'!$O14,0) -> 84 | K14: =IF(K$3=1,'9'!$O14,0) -> 84 | L14: =IF(L$3=1,'10'!$O14,0) -> 82 | M14: =IF(M$3=1,'11'!$O14,0) -> 77 | N14: =IF(N$3=1,'12'!$O14,0) -> 0 | O14: =IF(O$3=1,'13'!$O14,0) -> 0 | P14: =IF(P$3=1,'14'!$O14,0) -> 91 | Q14: =IF(Q$3=1,'15'!$O14,0) -> 0 | R14: =SUM(B14:Q14) -> 860 | S14: =AH14 -> 783 | T14: =RANK(S14,$S$5:$S$34) -> 1 | U14: =RANK(S14,$S$5:$S$74) -> 4 | W14: =LARGE($B14:$Q14,W$4) -> 100 | X14: =LARGE($B14:$Q14,X$4) -> 92 | Y14: =LARGE($B14:$Q14,Y$4) -> 91 | Z14: =LARGE($B14:$Q14,Z$4) -> 88 | AA14: =LARGE($B14:$Q14,AA$4) -> 84 | AB14: =LARGE($B14:$Q14,AB$4) -> 84 | AC14: =LARGE($B14:$Q14,AC$4) -> 82 | AD14: =LARGE($B14:$Q14,AD$4) -> 82 | ... AG14: =LARGE($B14:$Q14,AG$4) -> 0 | AH14: =SUM(W14:OFFSET(W14,0,($AH$4-1))) -> 783
A15: ='Boat Name'!A15 -> Jesse Leigh | C15: =IF(C$3=1,'1'!$O15,0) -> 0 | D15: =IF(D$3=1,'2'!$O15,0) -> 0 | E15: =IF(E$3=1,'3'!$O15,0) -> 0 | F15: =IF(F$3=1,'4'!$O15,0) -> 0 | G15: =IF(G$3=1,'5'!$O15,0) -> 0 | H15: =IF(H$3=1,'6'!$O15,0) -> 0 | I15: =IF(I$3=1,'7'!$O15,0) -> 97 | J15: =IF(J$3=1,'8'!$O15,0) -> 80 | K15: =IF(K$3=1,'9'!$O15,0) -> 0 | L15: =IF(L$3=1,'10'!$O15,0) -> 92 | M15: =IF(M$3=1,'11'!$O15,0) -> 0 | N15: =IF(N$3=1,'12'!$O15,0) -> 0 | O15: =IF(O$3=1,'13'!$O15,0) -> 87 | P15: =IF(P$3=1,'14'!$O15,0) -> 0 | Q15: =IF(Q$3=1,'15'!$O15,0) -> 0 | R15: =SUM(B15:Q15) -> 356 | S15: =AH15 -> 356 | T15: =RANK(S15,$S$5:$S$34) -> 12 | U15: =RANK(S15,$S$5:$S$74) -> 21 | W15: =LARGE($B15:$Q15,W$4) -> 97 | X15: =LARGE($B15:$Q15,X$4) -> 92 | Y15: =LARGE($B15:$Q15,Y$4) -> 87 | Z15: =LARGE($B15:$Q15,Z$4) -> 80 | AA15: =LARGE($B15:$Q15,AA$4) -> 0 | AB15: =LARGE($B15:$Q15,AB$4) -> 0 | AC15: =LARGE($B15:$Q15,AC$4) -> 0 | AD15: =LARGE($B15:$Q15,AD$4) -> 0 | ... AG15: =LARGE($B15:$Q15,AG$4) -> 0 | AH15: =SUM(W15:OFFSET(W15,0,($AH$4-1))) -> 356
A16: ='Boat Name'!A16 -> L'Arch De | B16: =IF('Boat Name'!F16>0,IF(OFFSET($B$3,0,'Boat Name'!F16, )=1,IF('Boat Name'!$C$2=0,OFFSET($B$1,0,'Boat Name'!F16),IF('Boat Name'!$C$2=1,OFFSET($B$3,0,'Boat Name'!F16)*100,"")),""),"") | C16: =IF(C$3=1,'1'!$O16,0) -> 72 | D16: =IF(D$3=1,'2'!$O16,0) -> 0 | E16: =IF(E$3=1,'3'!$O16,0) -> 0 | F16: =IF(F$3=1,'4'!$O16,0) -> 0 | G16: =IF(G$3=1,'5'!$O16,0) -> 0 | H16: =IF(H$3=1,'6'!$O16,0) -> 0 | I16: =IF(I$3=1,'7'!$O16,0) -> 0 | J16: =IF(J$3=1,'8'!$O16,0) -> 0 | K16: =IF(K$3=1,'9'!$O16,0) -> 0 | L16: =IF(L$3=1,'10'!$O16,0) -> 0 | M16: =IF(M$3=1,'11'!$O16,0) -> 0 | N16: =IF(N$3=1,'12'!$O16,0) -> 0 | O16: =IF(O$3=1,'13'!$O16,0) -> 0 | P16: =IF(P$3=1,'14'!$O16,0) -> 0 | Q16: =IF(Q$3=1,'15'!$O16,0) -> 0 | R16: =SUM(B16:Q16) -> 72 | S16: =AH16 -> 72 | T16: =RANK(S16,$S$5:$S$34) -> 15 | U16: =RANK(S16,$S$5:$S$74) -> 26 | W16: =LARGE($B16:$Q16,W$4) -> 72 | X16: =LARGE($B16:$Q16,X$4) -> 0 | Y16: =LARGE($B16:$Q16,Y$4) -> 0 | Z16: =LARGE($B16:$Q16,Z$4) -> 0 | AA16: =LARGE($B16:$Q16,AA$4) -> 0 | AB16: =LARGE($B16:$Q16,AB$4) -> 0 | AC16: =LARGE($B16:$Q16,AC$4) -> 0 | AD16: =LARGE($B16:$Q16,AD$4) -> 0 | ... AG16: =LARGE($B16:$Q16,AG$4) -> 0 | AH16: =SUM(W16:OFFSET(W16,0,($AH$4-1))) -> 72
A17: ='Boat Name'!A17 -> Madcap 1.5 | B17: =IF('Boat Name'!F17>0,IF(OFFSET($B$3,0,'Boat Name'!F17, )=1,IF('Boat Name'!$C$2=0,OFFSET($B$1,0,'Boat Name'!F17),IF('Boat Name'!$C$2=1,OFFSET($B$3,0,'Boat Name'!F17)*100,"")),""),"") | C17: =IF(C$3=1,'1'!$O17,0) -> 0 | D17: =IF(D$3=1,'2'!$O17,0) -> 0 | E17: =IF(E$3=1,'3'!$O17,0) -> 0 | F17: =IF(F$3=1,'4'!$O17,0) -> 0 | G17: =IF(G$3=1,'5'!$O17,0) -> 0 | H17: =IF(H$3=1,'6'!$O17,0) -> 0 | I17: =IF(I$3=1,'7'!$O17,0) -> 0 | J17: =IF(J$3=1,'8'!$O17,0) -> 0 | K17: =IF(K$3=1,'9'!$O17,0) -> 0 | L17: =IF(L$3=1,'10'!$O17,0) -> 0 | M17: =IF(M$3=1,'11'!$O17,0) -> 0 | N17: =IF(N$3=1,'12'!$O17,0) -> 0 | O17: =IF(O$3=1,'13'!$O17,0) -> 0 | P17: =IF(P$3=1,'14'!$O17,0) -> 0 | Q17: =IF(Q$3=1,'15'!$O17,0) -> 0 | R17: =SUM(B17:Q17) -> 0 | S17: =AH17 -> 0 | T17: =RANK(S17,$S$5:$S$34) -> 17 | U17: =RANK(S17,$S$5:$S$74) -> 28 | W17: =LARGE($B17:$Q17,W$4) -> 0 | X17: =LARGE($B17:$Q17,X$4) -> 0 | Y17: =LARGE($B17:$Q17,Y$4) -> 0 | Z17: =LARGE($B17:$Q17,Z$4) -> 0 | AA17: =LARGE($B17:$Q17,AA$4) -> 0 | AB17: =LARGE($B17:$Q17,AB$4) -> 0 | AC17: =LARGE($B17:$Q17,AC$4) -> 0 | AD17: =LARGE($B17:$Q17,AD$4) -> 0 | ... AG17: =LARGE($B17:$Q17,AG$4) -> 0 | AH17: =SUM(W17:OFFSET(W17,0,($AH$4-1))) -> 0
A18: ='Boat Name'!A18 -> Magan | C18: =IF(C$3=1,'1'!$O18,0) -> 0 | D18: =IF(D$3=1,'2'!$O18,0) -> 0 | E18: =IF(E$3=1,'3'!$O18,0) -> 0 | F18: =IF(F$3=1,'4'!$O18,0) -> 0 | G18: =IF(G$3=1,'5'!$O18,0) -> 0 | H18: =IF(H$3=1,'6'!$O18,0) -> 0 | I18: =IF(I$3=1,'7'!$O18,0) -> 0 | J18: =IF(J$3=1,'8'!$O18,0) -> 0 | K18: =IF(K$3=1,'9'!$O18,0) -> 0 | L18: =IF(L$3=1,'10'!$O18,0) -> 0 | M18: =IF(M$3=1,'11'!$O18,0) -> 0 | N18: =IF(N$3=1,'12'!$O18,0) -> 0 | O18: =IF(O$3=1,'13'!$O18,0) -> 0 | P18: =IF(P$3=1,'14'!$O18,0) -> 0 | Q18: =IF(Q$3=1,'15'!$O18,0) -> 0 | R18: =SUM(B18:Q18) -> 0 | S18: =AH18 -> 0 | T18: =RANK(S18,$S$5:$S$34) -> 17 | U18: =RANK(S18,$S$5:$S$74) -> 28 | W18: =LARGE($B18:$Q18,W$4) -> 0 | X18: =LARGE($B18:$Q18,X$4) -> 0 | Y18: =LARGE($B18:$Q18,Y$4) -> 0 | Z18: =LARGE($B18:$Q18,Z$4) -> 0 | AA18: =LARGE($B18:$Q18,AA$4) -> 0 | AB18: =LARGE($B18:$Q18,AB$4) -> 0 | AC18: =LARGE($B18:$Q18,AC$4) -> 0 | AD18: =LARGE($B18:$Q18,AD$4) -> 0 | ... AG18: =LARGE($B18:$Q18,AG$4) -> 0 | AH18: =SUM(W18:OFFSET(W18,0,($AH$4-1))) -> 0
A19: ='Boat Name'!A19 -> Meltemi | B19: =IF('Boat Name'!F19>0,IF(OFFSET($B$3,0,'Boat Name'!F19, )=1,IF('Boat Name'!$C$2=0,OFFSET($B$1,0,'Boat Name'!F19),IF('Boat Name'!$C$2=1,OFFSET($B$3,0,'Boat Name'!F19)*100,"")),""),"") | C19: =IF(C$3=1,'1'!$O19,0) -> 86 | D19: =IF(D$3=1,'2'!$O19,0) -> 87 | E19: =IF(E$3=1,'3'!$O19,0) -> 84 | F19: =IF(F$3=1,'4'!$O19,0) -> 0 | G19: =IF(G$3=1,'5'!$O19,0) -> 0 | H19: =IF(H$3=1,'6'!$O19,0) -> 0 | I19: =IF(I$3=1,'7'!$O19,0) -> 83 | J19: =IF(J$3=1,'8'!$O19,0) -> 0 | K19: =IF(K$3=1,'9'!$O19,0) -> 0 | L19: =IF(L$3=1,'10'!$O19,0) -> 0 | M19: =IF(M$3=1,'11'!$O19,0) -> 83 | N19: =IF(N$3=1,'12'!$O19,0) -> 82 | O19: =IF(O$3=1,'13'!$O19,0) -> 80 | P19: =IF(P$3=1,'14'!$O19,0) -> 0 | Q19: =IF(Q$3=1,'15'!$O19,0) -> 80 | R19: =SUM(B19:Q19) -> 665 | S19: =AH19 -> 665 | T19: =RANK(S19,$S$5:$S$34) -> 6 | U19: =RANK(S19,$S$5:$S$74) -> 13 | W19: =LARGE($B19:$Q19,W$4) -> 87 | X19: =LARGE($B19:$Q19,X$4) -> 86 | Y19: =LARGE($B19:$Q19,Y$4) -> 84 | Z19: =LARGE($B19:$Q19,Z$4) -> 83 | AA19: =LARGE($B19:$Q19,AA$4) -> 83 | AB19: =LARGE($B19:$Q19,AB$4) -> 82 | AC19: =LARGE($B19:$Q19,AC$4) -> 80 | AD19: =LARGE($B19:$Q19,AD$4) -> 80 | ... AG19: =LARGE($B19:$Q19,AG$4) -> 0 | AH19: =SUM(W19:OFFSET(W19,0,($AH$4-1))) -> 665
A20: ='Boat Name'!A20 -> Nomade | B20: =IF('Boat Name'!F20>0,IF(OFFSET($B$3,0,'Boat Name'!F20, )=1,IF('Boat Name'!$C$2=0,OFFSET($B$1,0,'Boat Name'!F20),IF('Boat Name'!$C$2=1,OFFSET($B$3,0,'Boat Name'!F20)*100,"")),""),"") | C20: =IF(C$3=1,'1'!$O20,0) -> 0 | D20: =IF(D$3=1,'2'!$O20,0) -> 0 | E20: =IF(E$3=1,'3'!$O20,0) -> 0 | F20: =IF(F$3=1,'4'!$O20,0) -> 0 | G20: =IF(G$3=1,'5'!$O20,0) -> 0 | H20: =IF(H$3=1,'6'!$O20,0) -> 0 | I20: =IF(I$3=1,'7'!$O20,0) -> 0 | J20: =IF(J$3=1,'8'!$O20,0) -> 0 | K20: =IF(K$3=1,'9'!$O20,0) -> 0 | L20: =IF(L$3=1,'10'!$O20,0) -> 0 | M20: =IF(M$3=1,'11'!$O20,0) -> 0 | N20: =IF(N$3=1,'12'!$O20,0) -> 0 | O20: =IF(O$3=1,'13'!$O20,0) -> 0 | P20: =IF(P$3=1,'14'!$O20,0) -> 0 | Q20: =IF(Q$3=1,'15'!$O20,0) -> 0 | R20: =SUM(B20:Q20) -> 0 | S20: =AH20 -> 0 | T20: =RANK(S20,$S$5:$S$34) -> 17 | U20: =RANK(S20,$S$5:$S$74) -> 28 | W20: =LARGE($B20:$Q20,W$4) -> 0 | X20: =LARGE($B20:$Q20,X$4) -> 0 | Y20: =LARGE($B20:$Q20,Y$4) -> 0 | Z20: =LARGE($B20:$Q20,Z$4) -> 0 | AA20: =LARGE($B20:$Q20,AA$4) -> 0 | AB20: =LARGE($B20:$Q20,AB$4) -> 0 | AC20: =LARGE($B20:$Q20,AC$4) -> 0 | AD20: =LARGE($B20:$Q20,AD$4) -> 0 | ... AG20: =LARGE($B20:$Q20,AG$4) -> 0 | AH20: =SUM(W20:OFFSET(W20,0,($AH$4-1))) -> 0
A21: ='Boat Name'!A21 -> Park Place | C21: =IF(C$3=1,'1'!$O21,0) -> 0 | D21: =IF(D$3=1,'2'!$O21,0) -> 0 | E21: =IF(E$3=1,'3'!$O21,0) -> 0 | F21: =IF(F$3=1,'4'!$O21,0) -> 0 | G21: =IF(G$3=1,'5'!$O21,0) -> 0 | H21: =IF(H$3=1,'6'!$O21,0) -> 0 | I21: =IF(I$3=1,'7'!$O21,0) -> 0 | J21: =IF(J$3=1,'8'!$O21,0) -> 94 | K21: =IF(K$3=1,'9'!$O21,0) -> 94 | L21: =IF(L$3=1,'10'!$O21,0) -> 0 | M21: =IF(M$3=1,'11'!$O21,0) -> 97 | N21: =IF(N$3=1,'12'!$O21,0) -> 0 | O21: =IF(O$3=1,'13'!$O21,0) -> 0 | P21: =IF(P$3=1,'14'!$O21,0) -> 97 | Q21: =IF(Q$3=1,'15'!$O21,0) -> 0 | R21: =SUM(B21:Q21) -> 382 | S21: =AH21 -> 382 | T21: =RANK(S21,$S$5:$S$34) -> 10 | U21: =RANK(S21,$S$5:$S$74) -> 19 | W21: =LARGE($B21:$Q21,W$4) -> 97 | X21: =LARGE($B21:$Q21,X$4) -> 97 | Y21: =LARGE($B21:$Q21,Y$4) -> 94 | Z21: =LARGE($B21:$Q21,Z$4) -> 94 | AA21: =LARGE($B21:$Q21,AA$4) -> 0 | AB21: =LARGE($B21:$Q21,AB$4) -> 0 | AC21: =LARGE($B21:$Q21,AC$4) -> 0 | AD21: =LARGE($B21:$Q21,AD$4) -> 0 | ... AG21: =LARGE($B21:$Q21,AG$4) -> 0 | AH21: =SUM(W21:OFFSET(W21,0,($AH$4-1))) -> 382
A22: ='Boat Name'!A22 -> Phoenix | B22: =IF('Boat Name'!F22>0,IF(OFFSET($B$3,0,'Boat Name'!F22, )=1,IF('Boat Name'!$C$2=0,OFFSET($B$1,0,'Boat Name'!F22),IF('Boat Name'!$C$2=1,OFFSET($B$3,0,'Boat Name'!F22)*100,"")),""),"") | C22: =IF(C$3=1,'1'!$O22,0) -> 0 | D22: =IF(D$3=1,'2'!$O22,0) -> 0 | E22: =IF(E$3=1,'3'!$O22,0) -> 0 | F22: =IF(F$3=1,'4'!$O22,0) -> 0 | G22: =IF(G$3=1,'5'!$O22,0) -> 0 | H22: =IF(H$3=1,'6'!$O22,0) -> 0 | I22: =IF(I$3=1,'7'!$O22,0) -> 0 | J22: =IF(J$3=1,'8'!$O22,0) -> 0 | K22: =IF(K$3=1,'9'!$O22,0) -> 0 | L22: =IF(L$3=1,'10'!$O22,0) -> 0 | M22: =IF(M$3=1,'11'!$O22,0) -> 0 | N22: =IF(N$3=1,'12'!$O22,0) -> 0 | O22: =IF(O$3=1,'13'!$O22,0) -> 0 | P22: =IF(P$3=1,'14'!$O22,0) -> 0 | Q22: =IF(Q$3=1,'15'!$O22,0) -> 0 | R22: =SUM(B22:Q22) -> 0 | S22: =AH22 -> 0 | T22: =RANK(S22,$S$5:$S$34) -> 17 | U22: =RANK(S22,$S$5:$S$74) -> 28 | W22: =LARGE($B22:$Q22,W$4) -> 0 | X22: =LARGE($B22:$Q22,X$4) -> 0 | Y22: =LARGE($B22:$Q22,Y$4) -> 0 | Z22: =LARGE($B22:$Q22,Z$4) -> 0 | AA22: =LARGE($B22:$Q22,AA$4) -> 0 | AB22: =LARGE($B22:$Q22,AB$4) -> 0 | AC22: =LARGE($B22:$Q22,AC$4) -> 0 | AD22: =LARGE($B22:$Q22,AD$4) -> 0 | ... AG22: =LARGE($B22:$Q22,AG$4) -> 0 | AH22: =SUM(W22:OFFSET(W22,0,($AH$4-1))) -> 0
A23: ='Boat Name'!A23 -> Restless | C23: =IF(C$3=1,'1'!$O23,0) -> 0 | D23: =IF(D$3=1,'2'!$O23,0) -> 0 | E23: =IF(E$3=1,'3'!$O23,0) -> 0 | F23: =IF(F$3=1,'4'!$O23,0) -> 0 | G23: =IF(G$3=1,'5'!$O23,0) -> 0 | H23: =IF(H$3=1,'6'!$O23,0) -> 0 | I23: =IF(I$3=1,'7'!$O23,0) -> 0 | J23: =IF(J$3=1,'8'!$O23,0) -> 0 | K23: =IF(K$3=1,'9'!$O23,0) -> 0 | L23: =IF(L$3=1,'10'!$O23,0) -> 0 | M23: =IF(M$3=1,'11'!$O23,0) -> 0 | N23: =IF(N$3=1,'12'!$O23,0) -> 0 | O23: =IF(O$3=1,'13'!$O23,0) -> 0 | P23: =IF(P$3=1,'14'!$O23,0) -> 0 | Q23: =IF(Q$3=1,'15'!$O23,0) -> 0 | R23: =SUM(B23:Q23) -> 0 | S23: =AH23 -> 0 | T23: =RANK(S23,$S$5:$S$34) -> 17 | U23: =RANK(S23,$S$5:$S$74) -> 28 | W23: =LARGE($B23:$Q23,W$4) -> 0 | X23: =LARGE($B23:$Q23,X$4) -> 0 | Y23: =LARGE($B23:$Q23,Y$4) -> 0 | Z23: =LARGE($B23:$Q23,Z$4) -> 0 | AA23: =LARGE($B23:$Q23,AA$4) -> 0 | AB23: =LARGE($B23:$Q23,AB$4) -> 0 | AC23: =LARGE($B23:$Q23,AC$4) -> 0 | AD23: =LARGE($B23:$Q23,AD$4) -> 0 | ... AG23: =LARGE($B23:$Q23,AG$4) -> 0 | AH23: =SUM(W23:OFFSET(W23,0,($AH$4-1))) -> 0
A24: ='Boat Name'!A24 -> Sagacious | B24: 100 | C24: =IF(C$3=1,'1'!$O24,0) -> 0 | D24: =IF(D$3=1,'2'!$O24,0) -> 0 | E24: =IF(E$3=1,'3'!$O24,0) -> 0 | F24: =IF(F$3=1,'4'!$O24,0) -> 0 | G24: =IF(G$3=1,'5'!$O24,0) -> 0 | H24: =IF(H$3=1,'6'!$O24,0) -> 0 | I24: =IF(I$3=1,'7'!$O24,0) -> 0 | J24: =IF(J$3=1,'8'!$O24,0) -> 0 | K24: =IF(K$3=1,'9'!$O24,0) -> 0 | L24: =IF(L$3=1,'10'!$O24,0) -> 0 | M24: =IF(M$3=1,'11'!$O24,0) -> 91 | N24: =IF(N$3=1,'12'!$O24,0) -> 86 | O24: =IF(O$3=1,'13'!$O24,0) -> 97 | P24: =IF(P$3=1,'14'!$O24,0) -> 0 | Q24: =IF(Q$3=1,'15'!$O24,0) -> 0 | R24: =SUM(B24:Q24) -> 374 | S24: =AH24 -> 374 | T24: =RANK(S24,$S$5:$S$34) -> 11 | U24: =RANK(S24,$S$5:$S$74) -> 20 | W24: =LARGE($B24:$Q24,W$4) -> 100 | X24: =LARGE($B24:$Q24,X$4) -> 97 | Y24: =LARGE($B24:$Q24,Y$4) -> 91 | Z24: =LARGE($B24:$Q24,Z$4) -> 86 | AA24: =LARGE($B24:$Q24,AA$4) -> 0 | AB24: =LARGE($B24:$Q24,AB$4) -> 0 | AC24: =LARGE($B24:$Q24,AC$4) -> 0 | AD24: =LARGE($B24:$Q24,AD$4) -> 0 | ... AG24: =LARGE($B24:$Q24,AG$4) -> 0 | AH24: =SUM(W24:OFFSET(W24,0,($AH$4-1))) -> 374
A25: ='Boat Name'!A25 -> Silent Lady | B25: =IF('Boat Name'!F25>0,IF(OFFSET($B$3,0,'Boat Name'!F25, )=1,IF('Boat Name'!$C$2=0,OFFSET($B$1,0,'Boat Name'!F25),IF('Boat Name'!$C$2=1,OFFSET($B$3,0,'Boat Name'!F25)*100,"")),""),"") | C25: =IF(C$3=1,'1'!$O25,0) -> 0 | D25: =IF(D$3=1,'2'!$O25,0) -> 0 | E25: =IF(E$3=1,'3'!$O25,0) -> 0 | F25: =IF(F$3=1,'4'!$O25,0) -> 0 | G25: =IF(G$3=1,'5'!$O25,0) -> 0 | H25: =IF(H$3=1,'6'!$O25,0) -> 0 | I25: =IF(I$3=1,'7'!$O25,0) -> 0 | J25: =IF(J$3=1,'8'!$O25,0) -> 0 | K25: =IF(K$3=1,'9'!$O25,0) -> 0 | L25: =IF(L$3=1,'10'!$O25,0) -> 0 | M25: =IF(M$3=1,'11'!$O25,0) -> 0 | N25: =IF(N$3=1,'12'!$O25,0) -> 0 | O25: =IF(O$3=1,'13'!$O25,0) -> 0 | P25: =IF(P$3=1,'14'!$O25,0) -> 0 | Q25: =IF(Q$3=1,'15'!$O25,0) -> 0 | R25: =SUM(B25:Q25) -> 0 | S25: =AH25 -> 0 | T25: =RANK(S25,$S$5:$S$34) -> 17 | U25: =RANK(S25,$S$5:$S$74) -> 28 | W25: =LARGE($B25:$Q25,W$4) -> 0 | X25: =LARGE($B25:$Q25,X$4) -> 0 | Y25: =LARGE($B25:$Q25,Y$4) -> 0 | Z25: =LARGE($B25:$Q25,Z$4) -> 0 | AA25: =LARGE($B25:$Q25,AA$4) -> 0 | AB25: =LARGE($B25:$Q25,AB$4) -> 0 | AC25: =LARGE($B25:$Q25,AC$4) -> 0 | AD25: =LARGE($B25:$Q25,AD$4) -> 0 | ... AG25: =LARGE($B25:$Q25,AG$4) -> 0 | AH25: =SUM(W25:OFFSET(W25,0,($AH$4-1))) -> 0
A26: ='Boat Name'!A26 -> Spindrift | B26: =IF('Boat Name'!F26>0,IF(OFFSET($B$3,0,'Boat Name'!F26, )=1,IF('Boat Name'!$C$2=0,OFFSET($B$1,0,'Boat Name'!F26),IF('Boat Name'!$C$2=1,OFFSET($B$3,0,'Boat Name'!F26)*100,"")),""),"") | C26: =IF(C$3=1,'1'!$O26,0) -> 0 | D26: =IF(D$3=1,'2'!$O26,0) -> 0 | E26: =IF(E$3=1,'3'!$O26,0) -> 0 | F26: =IF(F$3=1,'4'!$O26,0) -> 0 | G26: =IF(G$3=1,'5'!$O26,0) -> 0 | H26: =IF(H$3=1,'6'!$O26,0) -> 0 | I26: =IF(I$3=1,'7'!$O26,0) -> 0 | J26: =IF(J$3=1,'8'!$O26,0) -> 0 | K26: =IF(K$3=1,'9'!$O26,0) -> 0 | L26: =IF(L$3=1,'10'!$O26,0) -> 0 | M26: =IF(M$3=1,'11'!$O26,0) -> 0 | N26: =IF(N$3=1,'12'!$O26,0) -> 0 | O26: =IF(O$3=1,'13'!$O26,0) -> 0 | P26: =IF(P$3=1,'14'!$O26,0) -> 0 | Q26: =IF(Q$3=1,'15'!$O26,0) -> 0 | R26: =SUM(B26:Q26) -> 0 | S26: =AH26 -> 0 | T26: =RANK(S26,$S$5:$S$34) -> 17 | U26: =RANK(S26,$S$5:$S$74) -> 28 | W26: =LARGE($B26:$Q26,W$4) -> 0 | X26: =LARGE($B26:$Q26,X$4) -> 0 | Y26: =LARGE($B26:$Q26,Y$4) -> 0 | Z26: =LARGE($B26:$Q26,Z$4) -> 0 | AA26: =LARGE($B26:$Q26,AA$4) -> 0 | AB26: =LARGE($B26:$Q26,AB$4) -> 0 | AC26: =LARGE($B26:$Q26,AC$4) -> 0 | AD26: =LARGE($B26:$Q26,AD$4) -> 0 | ... AG26: =LARGE($B26:$Q26,AG$4) -> 0 | AH26: =SUM(W26:OFFSET(W26,0,($AH$4-1))) -> 0
A27: ='Boat Name'!A27 -> Towhee | B27: =IF('Boat Name'!F27>0,IF(OFFSET($B$3,0,'Boat Name'!F27, )=1,IF('Boat Name'!$C$2=0,OFFSET($B$1,0,'Boat Name'!F27),IF('Boat Name'!$C$2=1,OFFSET($B$3,0,'Boat Name'!F27)*100,"")),""),"") | C27: =IF(C$3=1,'1'!$O27,0) -> 0 | D27: =IF(D$3=1,'2'!$O27,0) -> 0 | E27: =IF(E$3=1,'3'!$O27,0) -> 0 | F27: =IF(F$3=1,'4'!$O27,0) -> 0 | G27: =IF(G$3=1,'5'!$O27,0) -> 0 | H27: =IF(H$3=1,'6'!$O27,0) -> 0 | I27: =IF(I$3=1,'7'!$O27,0) -> 0 | J27: =IF(J$3=1,'8'!$O27,0) -> 0 | K27: =IF(K$3=1,'9'!$O27,0) -> 0 | L27: =IF(L$3=1,'10'!$O27,0) -> 0 | M27: =IF(M$3=1,'11'!$O27,0) -> 0 | N27: =IF(N$3=1,'12'!$O27,0) -> 0 | O27: =IF(O$3=1,'13'!$O27,0) -> 0 | P27: =IF(P$3=1,'14'!$O27,0) -> 0 | Q27: =IF(Q$3=1,'15'!$O27,0) -> 0 | R27: =SUM(B27:Q27) -> 0 | S27: =AH27 -> 0 | T27: =RANK(S27,$S$5:$S$34) -> 17 | U27: =RANK(S27,$S$5:$S$74) -> 28 | W27: =LARGE($B27:$Q27,W$4) -> 0 | X27: =LARGE($B27:$Q27,X$4) -> 0 | Y27: =LARGE($B27:$Q27,Y$4) -> 0 | Z27: =LARGE($B27:$Q27,Z$4) -> 0 | AA27: =LARGE($B27:$Q27,AA$4) -> 0 | AB27: =LARGE($B27:$Q27,AB$4) -> 0 | AC27: =LARGE($B27:$Q27,AC$4) -> 0 | AD27: =LARGE($B27:$Q27,AD$4) -> 0 | ... AG27: =LARGE($B27:$Q27,AG$4) -> 0 | AH27: =SUM(W27:OFFSET(W27,0,($AH$4-1))) -> 0
A28: ='Boat Name'!A28 -> Tre Scooch | B28: 100 | C28: =IF(C$3=1,'1'!$O28,0) -> 75 | D28: =IF(D$3=1,'2'!$O28,0) -> 77 | E28: =IF(E$3=1,'3'!$O28,0) -> 0 | F28: =IF(F$3=1,'4'!$O28,0) -> 0 | G28: =IF(G$3=1,'5'!$O28,0) -> 72 | H28: =IF(H$3=1,'6'!$O28,0) -> 0 | I28: =IF(I$3=1,'7'!$O28,0) -> 73 | J28: =IF(J$3=1,'8'!$O28,0) -> 0 | K28: =IF(K$3=1,'9'!$O28,0) -> 0 | L28: =IF(L$3=1,'10'!$O28,0) -> 75 | M28: =IF(M$3=1,'11'!$O28,0) -> 71 | N28: =IF(N$3=1,'12'!$O28,0) -> 0 | O28: =IF(O$3=1,'13'!$O28,0) -> 71 | P28: =IF(P$3=1,'14'!$O28,0) -> 73 | Q28: =IF(Q$3=1,'15'!$O28,0) -> 74 | R28: =SUM(B28:Q28) -> 761 | S28: =AH28 -> 690 | T28: =RANK(S28,$S$5:$S$34) -> 3 | U28: =RANK(S28,$S$5:$S$74) -> 10 | W28: =LARGE($B28:$Q28,W$4) -> 100 | X28: =LARGE($B28:$Q28,X$4) -> 77 | Y28: =LARGE($B28:$Q28,Y$4) -> 75 | Z28: =LARGE($B28:$Q28,Z$4) -> 75 | AA28: =LARGE($B28:$Q28,AA$4) -> 74 | AB28: =LARGE($B28:$Q28,AB$4) -> 73 | AC28: =LARGE($B28:$Q28,AC$4) -> 73 | AD28: =LARGE($B28:$Q28,AD$4) -> 72 | ... AG28: =LARGE($B28:$Q28,AG$4) -> 0 | AH28: =SUM(W28:OFFSET(W28,0,($AH$4-1))) -> 690
A29: ='Boat Name'!A29 -> Yonder | B29: =IF('Boat Name'!F29>0,IF(OFFSET($B$3,0,'Boat Name'!F29, )=1,IF('Boat Name'!$C$2=0,OFFSET($B$1,0,'Boat Name'!F29),IF('Boat Name'!$C$2=1,OFFSET($B$3,0,'Boat Name'!F29)*100,"")),""),"") | C29: =IF(C$3=1,'1'!$O29,0) -> 78 | D29: =IF(D$3=1,'2'!$O29,0) -> 81 | E29: =IF(E$3=1,'3'!$O29,0) -> 78 | F29: =IF(F$3=1,'4'!$O29,0) -> 86 | G29: =IF(G$3=1,'5'!$O29,0) -> 84 | H29: =IF(H$3=1,'6'!$O29,0) -> 0 | I29: =IF(I$3=1,'7'!$O29,0) -> 87 | J29: =IF(J$3=1,'8'!$O29,0) -> 72 | K29: =IF(K$3=1,'9'!$O29,0) -> 77 | L29: =IF(L$3=1,'10'!$O29,0) -> 78 | M29: =IF(M$3=1,'11'!$O29,0) -> 87 | N29: =IF(N$3=1,'12'!$O29,0) -> 78 | O29: =IF(O$3=1,'13'!$O29,0) -> 77 | P29: =IF(P$3=1,'14'!$O29,0) -> 80 | Q29: =IF(Q$3=1,'15'!$O29,0) -> 94 | R29: =SUM(B29:Q29) -> 1137 | S29: =AH29 -> 755 | T29: =RANK(S29,$S$5:$S$34) -> 2 | U29: =RANK(S29,$S$5:$S$74) -> 6 | W29: =LARGE($B29:$Q29,W$4) -> 94 | X29: =LARGE($B29:$Q29,X$4) -> 87 | Y29: =LARGE($B29:$Q29,Y$4) -> 87 | Z29: =LARGE($B29:$Q29,Z$4) -> 86 | AA29: =LARGE($B29:$Q29,AA$4) -> 84 | AB29: =LARGE($B29:$Q29,AB$4) -> 81 | AC29: =LARGE($B29:$Q29,AC$4) -> 80 | AD29: =LARGE($B29:$Q29,AD$4) -> 78 | ... AG29: =LARGE($B29:$Q29,AG$4) -> 78 | AH29: =SUM(W29:OFFSET(W29,0,($AH$4-1))) -> 755
A30: ='Boat Name'!A30 -> Glow Boat | B30: 100 | C30: =IF(C$3=1,'1'!$O30,0) -> 0 | D30: =IF(D$3=1,'2'!$O30,0) -> 0 | E30: =IF(E$3=1,'3'!$O30,0) -> 0 | F30: =IF(F$3=1,'4'!$O30,0) -> 75 | G30: =IF(G$3=1,'5'!$O30,0) -> 77 | H30: =IF(H$3=1,'6'!$O30,0) -> 96 | I30: =IF(I$3=1,'7'!$O30,0) -> 77 | J30: =IF(J$3=1,'8'!$O30,0) -> 88 | K30: =IF(K$3=1,'9'!$O30,0) -> 0 | L30: =IF(L$3=1,'10'!$O30,0) -> 0 | M30: =IF(M$3=1,'11'!$O30,0) -> 0 | N30: =IF(N$3=1,'12'!$O30,0) -> 0 | O30: =IF(O$3=1,'13'!$O30,0) -> 91 | P30: =IF(P$3=1,'14'!$O30,0) -> 0 | Q30: =IF(Q$3=1,'15'!$O30,0) -> 72 | R30: =SUM(B30:Q30) -> 676 | S30: =AH30 -> 676 | T30: =RANK(S30,$S$5:$S$34) -> 5 | U30: =RANK(S30,$S$5:$S$74) -> 12 | W30: =LARGE($B30:$Q30,W$4) -> 100 | X30: =LARGE($B30:$Q30,X$4) -> 96 | Y30: =LARGE($B30:$Q30,Y$4) -> 91 | Z30: =LARGE($B30:$Q30,Z$4) -> 88 | AA30: =LARGE($B30:$Q30,AA$4) -> 77 | AB30: =LARGE($B30:$Q30,AB$4) -> 77 | AC30: =LARGE($B30:$Q30,AC$4) -> 75 | AD30: =LARGE($B30:$Q30,AD$4) -> 72 | ... AG30: =LARGE($B30:$Q30,AG$4) -> 0 | AH30: =SUM(W30:OFFSET(W30,0,($AH$4-1))) -> 676
A31: ='Boat Name'!A31 -> Hooligan | B31: =IF('Boat Name'!F31>0,IF(OFFSET($B$3,0,'Boat Name'!F31, )=1,IF('Boat Name'!$C$2=0,OFFSET($B$1,0,'Boat Name'!F31),IF('Boat Name'!$C$2=1,OFFSET($B$3,0,'Boat Name'!F31)*100,"")),""),"") | C31: =IF(C$3=1,'1'!$O31,0) -> 0 | D31: =IF(D$3=1,'2'!$O31,0) -> 0 | E31: =IF(E$3=1,'3'!$O31,0) -> 0 | F31: =IF(F$3=1,'4'!$O31,0) -> 0 | G31: =IF(G$3=1,'5'!$O31,0) -> 0 | H31: =IF(H$3=1,'6'!$O31,0) -> 9 | I31: =IF(I$3=1,'7'!$O31,0) -> 0 | J31: =IF(J$3=1,'8'!$O31,0) -> 0 | K31: =IF(K$3=1,'9'!$O31,0) -> 0 | L31: =IF(L$3=1,'10'!$O31,0) -> 0 | M31: =IF(M$3=1,'11'!$O31,0) -> 0 | N31: =IF(N$3=1,'12'!$O31,0) -> 0 | O31: =IF(O$3=1,'13'!$O31,0) -> 0 | P31: =IF(P$3=1,'14'!$O31,0) -> 0 | Q31: =IF(Q$3=1,'15'!$O31,0) -> 0 | R31: =SUM(B31:Q31) -> 9 | S31: =AH31 -> 9 | T31: =RANK(S31,$S$5:$S$34) -> 16 | U31: =RANK(S31,$S$5:$S$74) -> 27 | W31: =LARGE($B31:$Q31,W$4) -> 9 | X31: =LARGE($B31:$Q31,X$4) -> 0 | Y31: =LARGE($B31:$Q31,Y$4) -> 0 | Z31: =LARGE($B31:$Q31,Z$4) -> 0 | AA31: =LARGE($B31:$Q31,AA$4) -> 0 | AB31: =LARGE($B31:$Q31,AB$4) -> 0 | AC31: =LARGE($B31:$Q31,AC$4) -> 0 | AD31: =LARGE($B31:$Q31,AD$4) -> 0 | ... AG31: =LARGE($B31:$Q31,AG$4) -> 0 | AH31: =SUM(W31:OFFSET(W31,0,($AH$4-1))) -> 9
A32: ='Boat Name'!A32 -> Holiday Routine | B32: =IF('Boat Name'!F32>0,IF(OFFSET($B$3,0,'Boat Name'!F32, )=1,IF('Boat Name'!$C$2=0,OFFSET($B$1,0,'Boat Name'!F32),IF('Boat Name'!$C$2=1,OFFSET($B$3,0,'Boat Name'!F32)*100,"")),""),"") | C32: =IF(C$3=1,'1'!$O32,0) -> 0 | D32: =IF(D$3=1,'2'!$O32,0) -> 0 | E32: =IF(E$3=1,'3'!$O32,0) -> 0 | F32: =IF(F$3=1,'4'!$O32,0) -> 0 | G32: =IF(G$3=1,'5'!$O32,0) -> 0 | H32: =IF(H$3=1,'6'!$O32,0) -> 0 | I32: =IF(I$3=1,'7'!$O32,0) -> 0 | J32: =IF(J$3=1,'8'!$O32,0) -> 0 | K32: =IF(K$3=1,'9'!$O32,0) -> 0 | L32: =IF(L$3=1,'10'!$O32,0) -> 0 | M32: =IF(M$3=1,'11'!$O32,0) -> 0 | N32: =IF(N$3=1,'12'!$O32,0) -> 0 | O32: =IF(O$3=1,'13'!$O32,0) -> 0 | P32: =IF(P$3=1,'14'!$O32,0) -> 0 | Q32: =IF(Q$3=1,'15'!$O32,0) -> 88 | R32: =SUM(B32:Q32) -> 88 | S32: =AH32 -> 88 | T32: =RANK(S32,$S$5:$S$34) -> 14 | U32: =RANK(S32,$S$5:$S$74) -> 25 | W32: =LARGE($B32:$Q32,W$4) -> 88 | X32: =LARGE($B32:$Q32,X$4) -> 0 | Y32: =LARGE($B32:$Q32,Y$4) -> 0 | Z32: =LARGE($B32:$Q32,Z$4) -> 0 | AA32: =LARGE($B32:$Q32,AA$4) -> 0 | AB32: =LARGE($B32:$Q32,AB$4) -> 0 | AC32: =LARGE($B32:$Q32,AC$4) -> 0 | AD32: =LARGE($B32:$Q32,AD$4) -> 0 | ... AG32: =LARGE($B32:$Q32,AG$4) -> 0 | AH32: =SUM(W32:OFFSET(W32,0,($AH$4-1))) -> 88
A33: ='Boat Name'!A33 -> Sonas | B33: =IF('Boat Name'!F33>0,IF(OFFSET($B$3,0,'Boat Name'!F33, )=1,IF('Boat Name'!$C$2=0,OFFSET($B$1,0,'Boat Name'!F33),IF('Boat Name'!$C$2=1,OFFSET($B$3,0,'Boat Name'!F33)*100,"")),""),"") | C33: =IF(C$3=1,'1'!$O33,0) -> 0 | D33: =IF(D$3=1,'2'!$O33,0) -> 0 | E33: =IF(E$3=1,'3'!$O33,0) -> 0 | F33: =IF(F$3=1,'4'!$O33,0) -> 0 | G33: =IF(G$3=1,'5'!$O33,0) -> 0 | H33: =IF(H$3=1,'6'!$O33,0) -> 0 | I33: =IF(I$3=1,'7'!$O33,0) -> 0 | J33: =IF(J$3=1,'8'!$O33,0) -> 0 | K33: =IF(K$3=1,'9'!$O33,0) -> 0 | L33: =IF(L$3=1,'10'!$O33,0) -> 0 | M33: =IF(M$3=1,'11'!$O33,0) -> 0 | N33: =IF(N$3=1,'12'!$O33,0) -> 0 | O33: =IF(O$3=1,'13'!$O33,0) -> 0 | P33: =IF(P$3=1,'14'!$O33,0) -> 0 | Q33: =IF(Q$3=1,'15'!$O33,0) -> 0 | R33: =SUM(B33:Q33) -> 0 | S33: =AH33 -> 0 | T33: =RANK(S33,$S$5:$S$34) -> 17 | U33: =RANK(S33,$S$5:$S$74) -> 28 | W33: =LARGE($B33:$Q33,W$4) -> 0 | X33: =LARGE($B33:$Q33,X$4) -> 0 | Y33: =LARGE($B33:$Q33,Y$4) -> 0 | Z33: =LARGE($B33:$Q33,Z$4) -> 0 | AA33: =LARGE($B33:$Q33,AA$4) -> 0 | AB33: =LARGE($B33:$Q33,AB$4) -> 0 | AC33: =LARGE($B33:$Q33,AC$4) -> 0 | AD33: =LARGE($B33:$Q33,AD$4) -> 0 | ... AG33: =LARGE($B33:$Q33,AG$4) -> 0 | AH33: =SUM(W33:OFFSET(W33,0,($AH$4-1))) -> 0
A34: ='Boat Name'!A34 -> 0 | B34: =IF('Boat Name'!F34>0,IF(OFFSET($B$3,0,'Boat Name'!F34, )=1,IF('Boat Name'!$C$2=0,OFFSET($B$1,0,'Boat Name'!F34),IF('Boat Name'!$C$2=1,OFFSET($B$3,0,'Boat Name'!F34)*100,"")),""),"") | C34: =IF(C$3=1,'1'!$O34,0) -> 0 | D34: =IF(D$3=1,'2'!$O34,0) -> 0 | E34: =IF(E$3=1,'3'!$O34,0) -> 0 | F34: =IF(F$3=1,'4'!$O34,0) -> 0 | G34: =IF(G$3=1,'5'!$O34,0) -> 0 | H34: =IF(H$3=1,'6'!$O34,0) -> 0 | I34: =IF(I$3=1,'7'!$O34,0) -> 0 | J34: =IF(J$3=1,'8'!$O34,0) -> 0 | K34: =IF(K$3=1,'9'!$O34,0) -> 0 | L34: =IF(L$3=1,'10'!$O34,0) -> 0 | M34: =IF(M$3=1,'11'!$O34,0) -> 0 | N34: =IF(N$3=1,'12'!$O34,0) -> 0 | O34: =IF(O$3=1,'13'!$O34,0) -> 0 | P34: =IF(P$3=1,'14'!$O34,0) -> 0 | Q34: =IF(Q$3=1,'15'!$O34,0) -> 0 | R34: =SUM(B34:Q34) -> 0 | S34: =AH34 -> 0 | T34: =RANK(S34,$S$5:$S$34) -> 17 | U34: =RANK(S34,$S$5:$S$74) -> 28 | W34: =LARGE($B34:$Q34,W$4) -> 0 | X34: =LARGE($B34:$Q34,X$4) -> 0 | Y34: =LARGE($B34:$Q34,Y$4) -> 0 | Z34: =LARGE($B34:$Q34,Z$4) -> 0 | AA34: =LARGE($B34:$Q34,AA$4) -> 0 | AB34: =LARGE($B34:$Q34,AB$4) -> 0 | AC34: =LARGE($B34:$Q34,AC$4) -> 0 | AD34: =LARGE($B34:$Q34,AD$4) -> 0 | ... AG34: =LARGE($B34:$Q34,AG$4) -> 0 | AH34: =SUM(W34:OFFSET(W34,0,($AH$4-1))) -> 0
A36: High Score | B36: Wed. | C36: =LARGE(C39:C74,1) -> 94 | D36: =LARGE(D39:D74,1) -> 94 | E36: =LARGE(E39:E74,1) -> 96 | F36: =LARGE(F39:F74,1) -> 94 | G36: =LARGE(G39:G74,1) -> 94 | H36: =LARGE(H39:H74,1) -> 96 | I36: =LARGE(I39:I74,1) -> 92 | J36: =LARGE(J39:J74,1) -> 94 | ... Q36: =LARGE(Q39:Q74,1) -> 96 | AH36: 60% Rule
A37: ='Boat Name'!A36 -> Season 2026 | B37: CB Duty | C37: =C2 -> 46169 | D37: =D2 -> 46176 | E37: =E2 -> 46183 | F37: =F2 -> 46190 | G37: =G2 -> 46197 | H37: =H2 -> 46204 | I37: =I2 -> 46211 | J37: =J2 -> 46218 | ... Q37: =Q2 -> 46267 | R37: Sum | T37: Class | U37: Overall | AH37: # of Races
A38: Boat Name, Racing | B38: Score | C38: R1 | D38: R2 | E38: R3 | F38: R4 | G38: R5 | H38: R6 | I38: R7 | J38: R8 | K38: R9 | L38: R10 | M38: R11 | N38: R12 | O38: R13 | P38: R14 | Q38: R15 | R38: Total | S38: =S4 -> 60% Total | T38: Standing | U38: Standing | W38: 1 | X38: 2 | Y38: 3 | Z38: 4 | AA38: 5 | AB38: 6 | AC38: 7 | AD38: 8 | AE38: 9 | AF38: 10 | AG38: 11 | AH38: =$AH$4 -> 9
A39: ='Boat Name'!A39 -> Alive | B39: 100 | C39: =IF(C$3=1,'1'!$O39,0) -> 77 | D39: =IF(D$3=1,'2'!$O39,0) -> 84 | E39: =IF(E$3=1,'3'!$O39,0) -> 96 | F39: =IF(F$3=1,'4'!$O39,0) -> 80 | G39: =IF(G$3=1,'5'!$O39,0) -> 88 | H39: =IF(H$3=1,'6'!$O39,0) -> 0 | I39: =IF(I$3=1,'7'!$O39,0) -> 75 | J39: =IF(J$3=1,'8'!$O39,0) -> 94 | K39: =IF(K$3=1,'9'!$O39,0) -> 84 | L39: =IF(L$3=1,'10'!$O39,0) -> 90 | M39: =IF(M$3=1,'11'!$O39,0) -> 92 | N39: =IF(N$3=1,'12'!$O39,0) -> 75 | O39: =IF(O$3=1,'13'!$O39,0) -> 75 | P39: =IF(P$3=1,'14'!$O39,0) -> 81 | Q39: =IF(Q$3=1,'15'!$O39,0) -> 0 | R39: =SUM(B39:Q39) -> 1191 | S39: =AH39 -> 809 | T39: =RANK(S39,$S$39:$S$74) -> 2 | U39: =RANK(S39,$S$5:$S$74) -> 2 | W39: =LARGE($B39:$Q39,W$4) -> 100 | X39: =LARGE($B39:$Q39,X$4) -> 96 | Y39: =LARGE($B39:$Q39,Y$4) -> 94 | Z39: =LARGE($B39:$Q39,Z$4) -> 92 | AA39: =LARGE($B39:$Q39,AA$4) -> 90 | AB39: =LARGE($B39:$Q39,AB$4) -> 88 | AC39: =LARGE($B39:$Q39,AC$4) -> 84 | AD39: =LARGE($B39:$Q39,AD$4) -> 84 | ... AG39: =LARGE($B39:$Q39,AG$4) -> 77 | AH39: =SUM(W39:OFFSET(W39,0,($AH$4-1))) -> 809
A40: ='Boat Name'!A40 -> Dilemma | B40: 100 | C40: =IF(C$3=1,'1'!$O40,0) -> 74 | D40: =IF(D$3=1,'2'!$O40,0) -> 0 | E40: =IF(E$3=1,'3'!$O40,0) -> 86 | F40: =IF(F$3=1,'4'!$O40,0) -> 72 | G40: =IF(G$3=1,'5'!$O40,0) -> 74 | H40: =IF(H$3=1,'6'!$O40,0) -> 86 | I40: =IF(I$3=1,'7'!$O40,0) -> 82 | J40: =IF(J$3=1,'8'!$O40,0) -> 72 | K40: =IF(K$3=1,'9'!$O40,0) -> 88 | L40: =IF(L$3=1,'10'!$O40,0) -> 75 | M40: =IF(M$3=1,'11'!$O40,0) -> 75 | N40: =IF(N$3=1,'12'!$O40,0) -> 91 | O40: =IF(O$3=1,'13'!$O40,0) -> 86 | P40: =IF(P$3=1,'14'!$O40,0) -> 87 | Q40: =IF(Q$3=1,'15'!$O40,0) -> 72 | R40: =SUM(B40:Q40) -> 1220 | S40: =AH40 -> 781 | T40: =RANK(S40,$S$39:$S$74) -> 4 | U40: =RANK(S40,$S$5:$S$74) -> 5 | W40: =LARGE($B40:$Q40,W$4) -> 100 | X40: =LARGE($B40:$Q40,X$4) -> 91 | Y40: =LARGE($B40:$Q40,Y$4) -> 88 | Z40: =LARGE($B40:$Q40,Z$4) -> 87 | AA40: =LARGE($B40:$Q40,AA$4) -> 86 | AB40: =LARGE($B40:$Q40,AB$4) -> 86 | AC40: =LARGE($B40:$Q40,AC$4) -> 86 | AD40: =LARGE($B40:$Q40,AD$4) -> 82 | ... AG40: =LARGE($B40:$Q40,AG$4) -> 74 | AH40: =SUM(W40:OFFSET(W40,0,($AH$4-1))) -> 781
A41: ='Boat Name'!A41 -> Doubledown - Sail Last | B41: =IF('Boat Name'!F41>0,IF(OFFSET($B$3,0,'Boat Name'!F41, )=1,IF('Boat Name'!$C$2=0,OFFSET($B$36,0,'Boat Name'!F41),IF('Boat Name'!$C$2=1,OFFSET($B$3,0,'Boat Name'!F41)*100,"")),""),"") | C41: =IF(C$3=1,'1'!$O41,0) -> 0 | D41: =IF(D$3=1,'2'!$O41,0) -> 0 | E41: =IF(E$3=1,'3'!$O41,0) -> 0 | F41: =IF(F$3=1,'4'!$O41,0) -> 0 | G41: =IF(G$3=1,'5'!$O41,0) -> 0 | H41: =IF(H$3=1,'6'!$O41,0) -> 0 | I41: =IF(I$3=1,'7'!$O41,0) -> 0 | J41: =IF(J$3=1,'8'!$O41,0) -> 0 | K41: =IF(K$3=1,'9'!$O41,0) -> 0 | L41: =IF(L$3=1,'10'!$O41,0) -> 0 | M41: =IF(M$3=1,'11'!$O41,0) -> 0 | N41: =IF(N$3=1,'12'!$O41,0) -> 0 | O41: =IF(O$3=1,'13'!$O41,0) -> 0 | P41: =IF(P$3=1,'14'!$O41,0) -> 0 | Q41: =IF(Q$3=1,'15'!$O41,0) -> 0 | R41: =SUM(B41:Q41) -> 0 | S41: =AH41 -> 0 | T41: =RANK(S41,$S$39:$S$74) -> 12 | U41: =RANK(S41,$S$5:$S$74) -> 28 | W41: =LARGE($B41:$Q41,W$4) -> 0 | X41: =LARGE($B41:$Q41,X$4) -> 0 | Y41: =LARGE($B41:$Q41,Y$4) -> 0 | Z41: =LARGE($B41:$Q41,Z$4) -> 0 | AA41: =LARGE($B41:$Q41,AA$4) -> 0 | AB41: =LARGE($B41:$Q41,AB$4) -> 0 | AC41: =LARGE($B41:$Q41,AC$4) -> 0 | AD41: =LARGE($B41:$Q41,AD$4) -> 0 | ... AG41: =LARGE($B41:$Q41,AG$4) -> 0 | AH41: =SUM(W41:OFFSET(W41,0,($AH$4-1))) -> 0
...

Sheet Sun
A1: High Score | B1: Sunday | C1: =LARGE(C5:C34,1) -> 0 | D1: =LARGE(D5:D34,1) -> 0 | E1: =LARGE(E5:E34,1) -> 0 | F1: =LARGE(F5:F34,1) -> 80 | G1: =LARGE(G5:G34,1) -> 0 | H1: =LARGE(H5:H34,1) -> 76 | I1: =LARGE(I5:I34,1) -> 0 | J1: =LARGE(J5:J34,1) -> 0
A2: ='Boat Name'!A2 -> Season 2026 | C2: 46278 | D2: 46285 | E2: 46292 | F2: 46298 | G2: 46306 | H2: 46313 | I2: 46320 | L2: Tot. Valid | M2: Sun. | N2: Sun. | V2: 60% Rule
A3: Valid Sun Races | B3: CB Duty | C3: 0 | D3: 0 | E3: 0 | F3: 1 | G3: 1 | H3: 1 | I3: 0 | J3: 0 | K3: Sum | L3: =SUM(C3:J3) -> 3 | M3: Class | N3: Overall | V3: # of Races
A4: Boat Name, Cruising | B4: Score | C4: R1 | D4: R2 | E4: R3 | F4: R4 | G4: R5 | H4: R6 | I4: R7 | J4: R8 | K4: Total | L4: 60% Total | M4: Standing | N4: Standing | P4: 1 | Q4: 2 | R4: 3 | S4: 4 | T4: 5 | U4: 6 | V4: 5
A5: ='Boat Name'!A5 -> Carry On | B5: =IF('Boat Name'!G5>0,IF(OFFSET($B$3,0,'Boat Name'!G5-14, )=1,IF('Boat Name'!$C$2=0,OFFSET($B$1,0,'Boat Name'!G5-14),IF('Boat Name'!$C$2=1,OFFSET($B$3,0,'Boat Name'!G5-14)*100,"")),""),"") | C5: =IF(C$3=1,'F1'!$O5,0) -> 0 | D5: =IF(D$3=1,'F2'!$O5,0) -> 0 | E5: =IF(E$3=1,'F3'!$O5,0) -> 0 | F5: =IF(F$3=1,'F4'!$O5,0) -> 0 | G5: =IF(G$3=1,'F5'!$O5,0) -> 0 | H5: =IF(H$3=1,'F6'!$O5,0) -> 0 | I5: =IF(I$3=1,'F7'!$O5,0) -> 0 | J5: =IF(J$3=1,'F8'!$O5,0) -> 0 | K5: =SUM(B5:J5) -> 0 | L5: =V5 -> 0 | M5: =RANK(L5,$L$5:$L$34) -> 4 | N5: =RANK(L5,$L$5:$L$64) -> 12 | P5: =LARGE($B5:$J5,P$4) -> 0 | Q5: =LARGE($B5:$J5,Q$4) -> 0 | R5: =LARGE($B5:$J5,R$4) -> 0 | S5: =LARGE($B5:$J5,S$4) -> 0 | T5: =LARGE($B5:$J5,T$4) -> 0 | U5: =LARGE($B5:$J5,U$4) -> 0 | V5: =SUM(P5:OFFSET(P5,0,($V$4-1))) -> 0
A6: ='Boat Name'!A6 -> Cheraz | B6: =IF('Boat Name'!G6>0,IF(OFFSET($B$3,0,'Boat Name'!G6-14, )=1,IF('Boat Name'!$C$2=0,OFFSET($B$1,0,'Boat Name'!G6-14),IF('Boat Name'!$C$2=1,OFFSET($B$3,0,'Boat Name'!G6-14)*100,"")),""),"") | C6: =IF(C$3=1,'F1'!$O6,0) -> 0 | D6: =IF(D$3=1,'F2'!$O6,0) -> 0 | E6: =IF(E$3=1,'F3'!$O6,0) -> 0 | F6: =IF(F$3=1,'F4'!$O6,0) -> 0 | G6: =IF(G$3=1,'F5'!$O6,0) -> 0 | H6: =IF(H$3=1,'F6'!$O6,0) -> 0 | I6: =IF(I$3=1,'F7'!$O6,0) -> 0 | J6: =IF(J$3=1,'F8'!$O6,0) -> 0 | K6: =SUM(B6:J6) -> 0 | L6: =V6 -> 0 | M6: =RANK(L6,$L$5:$L$34) -> 4 | N6: =RANK(L6,$L$5:$L$64) -> 12 | P6: =LARGE($B6:$J6,P$4) -> 0 | Q6: =LARGE($B6:$J6,Q$4) -> 0 | R6: =LARGE($B6:$J6,R$4) -> 0 | S6: =LARGE($B6:$J6,S$4) -> 0 | T6: =LARGE($B6:$J6,T$4) -> 0 | U6: =LARGE($B6:$J6,U$4) -> 0 | V6: =SUM(P6:OFFSET(P6,0,($V$4-1))) -> 0
A7: ='Boat Name'!A7 -> Dilemma | B7: =IF('Boat Name'!G7>0,IF(OFFSET($B$3,0,'Boat Name'!G7-14, )=1,IF('Boat Name'!$C$2=0,OFFSET($B$1,0,'Boat Name'!G7-14),IF('Boat Name'!$C$2=1,OFFSET($B$3,0,'Boat Name'!G7-14)*100,"")),""),"") | C7: =IF(C$3=1,'F1'!$O7,0) -> 0 | D7: =IF(D$3=1,'F2'!$O7,0) -> 0 | E7: =IF(E$3=1,'F3'!$O7,0) -> 0 | F7: =IF(F$3=1,'F4'!$O7,0) -> 0 | G7: =IF(G$3=1,'F5'!$O7,0) -> 0 | H7: =IF(H$3=1,'F6'!$O7,0) -> 0 | I7: =IF(I$3=1,'F7'!$O7,0) -> 0 | J7: =IF(J$3=1,'F8'!$O7,0) -> 0 | K7: =SUM(B7:J7) -> 0 | L7: =V7 -> 0 | M7: =RANK(L7,$L$5:$L$34) -> 4 | N7: =RANK(L7,$L$5:$L$64) -> 12 | P7: =LARGE($B7:$J7,P$4) -> 0 | Q7: =LARGE($B7:$J7,Q$4) -> 0 | R7: =LARGE($B7:$J7,R$4) -> 0 | S7: =LARGE($B7:$J7,S$4) -> 0 | T7: =LARGE($B7:$J7,T$4) -> 0 | U7: =LARGE($B7:$J7,U$4) -> 0 | V7: =SUM(P7:OFFSET(P7,0,($V$4-1))) -> 0
A8: ='Boat Name'!A8 -> Dulcinea | B8: =IF('Boat Name'!G8>0,IF(OFFSET($B$3,0,'Boat Name'!G8-14, )=1,IF('Boat Name'!$C$2=0,OFFSET($B$1,0,'Boat Name'!G8-14),IF('Boat Name'!$C$2=1,OFFSET($B$3,0,'Boat Name'!G8-14)*100,"")),""),"") | C8: =IF(C$3=1,'F1'!$O8,0) -> 0 | D8: =IF(D$3=1,'F2'!$O8,0) -> 0 | E8: =IF(E$3=1,'F3'!$O8,0) -> 0 | F8: =IF(F$3=1,'F4'!$O8,0) -> 0 | G8: =IF(G$3=1,'F5'!$O8,0) -> 0 | H8: =IF(H$3=1,'F6'!$O8,0) -> 0 | I8: =IF(I$3=1,'F7'!$O8,0) -> 0 | J8: =IF(J$3=1,'F8'!$O8,0) -> 0 | K8: =SUM(B8:J8) -> 0 | L8: =V8 -> 0 | M8: =RANK(L8,$L$5:$L$34) -> 4 | N8: =RANK(L8,$L$5:$L$64) -> 12 | P8: =LARGE($B8:$J8,P$4) -> 0 | Q8: =LARGE($B8:$J8,Q$4) -> 0 | R8: =LARGE($B8:$J8,R$4) -> 0 | S8: =LARGE($B8:$J8,S$4) -> 0 | T8: =LARGE($B8:$J8,T$4) -> 0 | U8: =LARGE($B8:$J8,U$4) -> 0 | V8: =SUM(P8:OFFSET(P8,0,($V$4-1))) -> 0
A9: ='Boat Name'!A9 -> Eclipse | B9: =IF('Boat Name'!G9>0,IF(OFFSET($B$3,0,'Boat Name'!G9-14, )=1,IF('Boat Name'!$C$2=0,OFFSET($B$1,0,'Boat Name'!G9-14),IF('Boat Name'!$C$2=1,OFFSET($B$3,0,'Boat Name'!G9-14)*100,"")),""),"") | C9: =IF(C$3=1,'F1'!$O9,0) -> 0 | D9: =IF(D$3=1,'F2'!$O9,0) -> 0 | E9: =IF(E$3=1,'F3'!$O9,0) -> 0 | F9: =IF(F$3=1,'F4'!$O9,0) -> 0 | G9: =IF(G$3=1,'F5'!$O9,0) -> 0 | H9: =IF(H$3=1,'F6'!$O9,0) -> 0 | I9: =IF(I$3=1,'F7'!$O9,0) -> 0 | J9: =IF(J$3=1,'F8'!$O9,0) -> 0 | K9: =SUM(B9:J9) -> 0 | L9: =V9 -> 0 | M9: =RANK(L9,$L$5:$L$34) -> 4 | N9: =RANK(L9,$L$5:$L$64) -> 12 | P9: =LARGE($B9:$J9,P$4) -> 0 | Q9: =LARGE($B9:$J9,Q$4) -> 0 | R9: =LARGE($B9:$J9,R$4) -> 0 | S9: =LARGE($B9:$J9,S$4) -> 0 | T9: =LARGE($B9:$J9,T$4) -> 0 | U9: =LARGE($B9:$J9,U$4) -> 0 | V9: =SUM(P9:OFFSET(P9,0,($V$4-1))) -> 0
A10: ='Boat Name'!A10 -> Electra | B10: =IF('Boat Name'!G10>0,IF(OFFSET($B$3,0,'Boat Name'!G10-14, )=1,IF('Boat Name'!$C$2=0,OFFSET($B$1,0,'Boat Name'!G10-14),IF('Boat Name'!$C$2=1,OFFSET($B$3,0,'Boat Name'!G10-14)*100,"")),""),"") | C10: =IF(C$3=1,'F1'!$O10,0) -> 0 | D10: =IF(D$3=1,'F2'!$O10,0) -> 0 | E10: =IF(E$3=1,'F3'!$O10,0) -> 0 | F10: =IF(F$3=1,'F4'!$O10,0) -> 0 | G10: =IF(G$3=1,'F5'!$O10,0) -> 0 | H10: =IF(H$3=1,'F6'!$O10,0) -> 0 | I10: =IF(I$3=1,'F7'!$O10,0) -> 0 | J10: =IF(J$3=1,'F8'!$O10,0) -> 0 | K10: =SUM(B10:J10) -> 0 | L10: =V10 -> 0 | M10: =RANK(L10,$L$5:$L$34) -> 4 | N10: =RANK(L10,$L$5:$L$64) -> 12 | P10: =LARGE($B10:$J10,P$4) -> 0 | Q10: =LARGE($B10:$J10,Q$4) -> 0 | R10: =LARGE($B10:$J10,R$4) -> 0 | S10: =LARGE($B10:$J10,S$4) -> 0 | T10: =LARGE($B10:$J10,T$4) -> 0 | U10: =LARGE($B10:$J10,U$4) -> 0 | V10: =SUM(P10:OFFSET(P10,0,($V$4-1))) -> 0
A11: ='Boat Name'!A11 -> Fast Eddy | B11: =IF('Boat Name'!G11>0,IF(OFFSET($B$3,0,'Boat Name'!G11-14, )=1,IF('Boat Name'!$C$2=0,OFFSET($B$1,0,'Boat Name'!G11-14),IF('Boat Name'!$C$2=1,OFFSET($B$3,0,'Boat Name'!G11-14)*100,"")),""),"") | C11: =IF(C$3=1,'F1'!$O11,0) -> 0 | D11: =IF(D$3=1,'F2'!$O11,0) -> 0 | E11: =IF(E$3=1,'F3'!$O11,0) -> 0 | F11: =IF(F$3=1,'F4'!$O11,0) -> 0 | G11: =IF(G$3=1,'F5'!$O11,0) -> 0 | H11: =IF(H$3=1,'F6'!$O11,0) -> 0 | I11: =IF(I$3=1,'F7'!$O11,0) -> 0 | J11: =IF(J$3=1,'F8'!$O11,0) -> 0 | K11: =SUM(B11:J11) -> 0 | L11: =V11 -> 0 | M11: =RANK(L11,$L$5:$L$34) -> 4 | N11: =RANK(L11,$L$5:$L$64) -> 12 | P11: =LARGE($B11:$J11,P$4) -> 0 | Q11: =LARGE($B11:$J11,Q$4) -> 0 | R11: =LARGE($B11:$J11,R$4) -> 0 | S11: =LARGE($B11:$J11,S$4) -> 0 | T11: =LARGE($B11:$J11,T$4) -> 0 | U11: =LARGE($B11:$J11,U$4) -> 0 | V11: =SUM(P11:OFFSET(P11,0,($V$4-1))) -> 0
A12: ='Boat Name'!A12 -> Golden Rule | B12: =IF('Boat Name'!G12>0,IF(OFFSET($B$3,0,'Boat Name'!G12-14, )=1,IF('Boat Name'!$C$2=0,OFFSET($B$1,0,'Boat Name'!G12-14),IF('Boat Name'!$C$2=1,OFFSET($B$3,0,'Boat Name'!G12-14)*100,"")),""),"") | C12: =IF(C$3=1,'F1'!$O12,0) -> 0 | D12: =IF(D$3=1,'F2'!$O12,0) -> 0 | E12: =IF(E$3=1,'F3'!$O12,0) -> 0 | F12: =IF(F$3=1,'F4'!$O12,0) -> 0 | G12: =IF(G$3=1,'F5'!$O12,0) -> 0 | H12: =IF(H$3=1,'F6'!$O12,0) -> 0 | I12: =IF(I$3=1,'F7'!$O12,0) -> 0 | J12: =IF(J$3=1,'F8'!$O12,0) -> 0 | K12: =SUM(B12:J12) -> 0 | L12: =V12 -> 0 | M12: =RANK(L12,$L$5:$L$34) -> 4 | N12: =RANK(L12,$L$5:$L$64) -> 12 | P12: =LARGE($B12:$J12,P$4) -> 0 | Q12: =LARGE($B12:$J12,Q$4) -> 0 | R12: =LARGE($B12:$J12,R$4) -> 0 | S12: =LARGE($B12:$J12,S$4) -> 0 | T12: =LARGE($B12:$J12,T$4) -> 0 | U12: =LARGE($B12:$J12,U$4) -> 0 | V12: =SUM(P12:OFFSET(P12,0,($V$4-1))) -> 0
A13: ='Boat Name'!A13 -> Grand Cru | B13: =IF('Boat Name'!G13>0,IF(OFFSET($B$3,0,'Boat Name'!G13-14, )=1,IF('Boat Name'!$C$2=0,OFFSET($B$1,0,'Boat Name'!G13-14),IF('Boat Name'!$C$2=1,OFFSET($B$3,0,'Boat Name'!G13-14)*100,"")),""),"") | C13: =IF(C$3=1,'F1'!$O13,0) -> 0 | D13: =IF(D$3=1,'F2'!$O13,0) -> 0 | E13: =IF(E$3=1,'F3'!$O13,0) -> 0 | F13: =IF(F$3=1,'F4'!$O13,0) -> 0 | G13: =IF(G$3=1,'F5'!$O13,0) -> 0 | H13: =IF(H$3=1,'F6'!$O13,0) -> 0 | I13: =IF(I$3=1,'F7'!$O13,0) -> 0 | J13: =IF(J$3=1,'F8'!$O13,0) -> 0 | K13: =SUM(B13:J13) -> 0 | L13: =V13 -> 0 | M13: =RANK(L13,$L$5:$L$34) -> 4 | N13: =RANK(L13,$L$5:$L$64) -> 12 | P13: =LARGE($B13:$J13,P$4) -> 0 | Q13: =LARGE($B13:$J13,Q$4) -> 0 | R13: =LARGE($B13:$J13,R$4) -> 0 | S13: =LARGE($B13:$J13,S$4) -> 0 | T13: =LARGE($B13:$J13,T$4) -> 0 | U13: =LARGE($B13:$J13,U$4) -> 0 | V13: =SUM(P13:OFFSET(P13,0,($V$4-1))) -> 0
A14: ='Boat Name'!A14 -> Irish Mist | B14: =IF('Boat Name'!G14>0,IF(OFFSET($B$3,0,'Boat Name'!G14-14, )=1,IF('Boat Name'!$C$2=0,OFFSET($B$1,0,'Boat Name'!G14-14),IF('Boat Name'!$C$2=1,OFFSET($B$3,0,'Boat Name'!G14-14)*100,"")),""),"") | C14: =IF(C$3=1,'F1'!$O14,0) -> 0 | D14: =IF(D$3=1,'F2'!$O14,0) -> 0 | E14: =IF(E$3=1,'F3'!$O14,0) -> 0 | F14: =IF(F$3=1,'F4'!$O14,0) -> 80 | G14: =IF(G$3=1,'F5'!$O14,0) -> 0 | H14: =IF(H$3=1,'F6'!$O14,0) -> 0 | I14: =IF(I$3=1,'F7'!$O14,0) -> 0 | J14: =IF(J$3=1,'F8'!$O14,0) -> 0 | K14: =SUM(B14:J14) -> 80 | L14: =V14 -> 80 | M14: =RANK(L14,$L$5:$L$34) -> 1 | N14: =RANK(L14,$L$5:$L$64) -> 7 | P14: =LARGE($B14:$J14,P$4) -> 80 | Q14: =LARGE($B14:$J14,Q$4) -> 0 | R14: =LARGE($B14:$J14,R$4) -> 0 | S14: =LARGE($B14:$J14,S$4) -> 0 | T14: =LARGE($B14:$J14,T$4) -> 0 | U14: =LARGE($B14:$J14,U$4) -> 0 | V14: =SUM(P14:OFFSET(P14,0,($V$4-1))) -> 80
A15: ='Boat Name'!A15 -> Jesse Leigh | B15: =IF('Boat Name'!G15>0,IF(OFFSET($B$3,0,'Boat Name'!G15-14, )=1,IF('Boat Name'!$C$2=0,OFFSET($B$1,0,'Boat Name'!G15-14),IF('Boat Name'!$C$2=1,OFFSET($B$3,0,'Boat Name'!G15-14)*100,"")),""),"") | C15: =IF(C$3=1,'F1'!$O15,0) -> 0 | D15: =IF(D$3=1,'F2'!$O15,0) -> 0 | E15: =IF(E$3=1,'F3'!$O15,0) -> 0 | F15: =IF(F$3=1,'F4'!$O15,0) -> 0 | G15: =IF(G$3=1,'F5'!$O15,0) -> 0 | H15: =IF(H$3=1,'F6'!$O15,0) -> 0 | I15: =IF(I$3=1,'F7'!$O15,0) -> 0 | J15: =IF(J$3=1,'F8'!$O15,0) -> 0 | K15: =SUM(B15:J15) -> 0 | L15: =V15 -> 0 | M15: =RANK(L15,$L$5:$L$34) -> 4 | N15: =RANK(L15,$L$5:$L$64) -> 12 | P15: =LARGE($B15:$J15,P$4) -> 0 | Q15: =LARGE($B15:$J15,Q$4) -> 0 | R15: =LARGE($B15:$J15,R$4) -> 0 | S15: =LARGE($B15:$J15,S$4) -> 0 | T15: =LARGE($B15:$J15,T$4) -> 0 | U15: =LARGE($B15:$J15,U$4) -> 0 | V15: =SUM(P15:OFFSET(P15,0,($V$4-1))) -> 0
A16: ='Boat Name'!A16 -> L'Arch De | B16: =IF('Boat Name'!G16>0,IF(OFFSET($B$3,0,'Boat Name'!G16-14, )=1,IF('Boat Name'!$C$2=0,OFFSET($B$1,0,'Boat Name'!G16-14),IF('Boat Name'!$C$2=1,OFFSET($B$3,0,'Boat Name'!G16-14)*100,"")),""),"") | C16: =IF(C$3=1,'F1'!$O16,0) -> 0 | D16: =IF(D$3=1,'F2'!$O16,0) -> 0 | E16: =IF(E$3=1,'F3'!$O16,0) -> 0 | F16: =IF(F$3=1,'F4'!$O16,0) -> 0 | G16: =IF(G$3=1,'F5'!$O16,0) -> 0 | H16: =IF(H$3=1,'F6'!$O16,0) -> 0 | I16: =IF(I$3=1,'F7'!$O16,0) -> 0 | J16: =IF(J$3=1,'F8'!$O16,0) -> 0 | K16: =SUM(B16:J16) -> 0 | L16: =V16 -> 0 | M16: =RANK(L16,$L$5:$L$34) -> 4 | N16: =RANK(L16,$L$5:$L$64) -> 12 | P16: =LARGE($B16:$J16,P$4) -> 0 | Q16: =LARGE($B16:$J16,Q$4) -> 0 | R16: =LARGE($B16:$J16,R$4) -> 0 | S16: =LARGE($B16:$J16,S$4) -> 0 | T16: =LARGE($B16:$J16,T$4) -> 0 | U16: =LARGE($B16:$J16,U$4) -> 0 | V16: =SUM(P16:OFFSET(P16,0,($V$4-1))) -> 0
