Workbook
Name Z_B5D8397B_B6E1_484A_95FA_0D9D3296DCC0_.wvu.PrintArea: '1'!$A$1:$K$59
Name Z_B5D8397B_B6E1_484A_95FA_0D9D3296DCC0_.wvu.PrintArea: '10'!$A$1:$K$59
Name Z_B5D8397B_B6E1_484A_95FA_0D9D3296DCC0_.wvu.PrintArea: '11'!$A$1:$K$59
Name Z_B5D8397B_B6E1_484A_95FA_0D9D3296DCC0_.wvu.PrintArea: '12'!$A$1:$K$59
Name Z_B5D8397B_B6E1_484A_95FA_0D9D3296DCC0_.wvu.PrintArea: '13'!$A$1:$K$59
Name Z_B5D8397B_B6E1_484A_95FA_0D9D3296DCC0_.wvu.PrintArea: '14'!$A$1:$K$59
Name Z_B5D8397B_B6E1_484A_95FA_0D9D3296DCC0_.wvu.PrintArea: '15'!$A$1:$K$59
Name Z_B5D8397B_B6E1_484A_95FA_0D9D3296DCC0_.wvu.PrintArea: '2'!$A$1:$K$59
Name Z_B5D8397B_B6E1_484A_95FA_0D9D3296DCC0_.wvu.PrintArea: '3'!$A$1:$K$59
Name Z_B5D8397B_B6E1_484A_95FA_0D9D3296DCC0_.wvu.PrintArea: '4'!$A$1:$K$59
Name Z_B5D8397B_B6E1_484A_95FA_0D9D3296DCC0_.wvu.PrintArea: '5'!$A$1:$K$59
Name Z_B5D8397B_B6E1_484A_95FA_0D9D3296DCC0_.wvu.PrintArea: '6'!$A$1:$K$59
Name Z_B5D8397B_B6E1_484A_95FA_0D9D3296DCC0_.wvu.PrintArea: '7'!$A$1:$K$59
Name Z_B5D8397B_B6E1_484A_95FA_0D9D3296DCC0_.wvu.PrintArea: '8'!$A$1:$K$59
Name Z_B5D8397B_B6E1_484A_95FA_0D9D3296DCC0_.wvu.PrintArea: '9'!$A$1:$K$59
Name Z_B5D8397B_B6E1_484A_95FA_0D9D3296DCC0_.wvu.PrintArea: 'F1'!$A$1:$K$59
Name Z_B5D8397B_B6E1_484A_95FA_0D9D3296DCC0_.wvu.PrintArea: 'F2'!$A$1:$K$59
Name Z_B5D8397B_B6E1_484A_95FA_0D9D3296DCC0_.wvu.PrintArea: 'F3'!$A$1:$K$59
Name Z_B5D8397B_B6E1_484A_95FA_0D9D3296DCC0_.wvu.PrintArea: 'F4'!$A$1:$K$59
Name Z_B5D8397B_B6E1_484A_95FA_0D9D3296DCC0_.wvu.PrintArea: 'F5'!$A$1:$K$59
Name Z_B5D8397B_B6E1_484A_95FA_0D9D3296DCC0_.wvu.PrintArea: 'F6'!$A$1:$K$59
Name Z_B5D8397B_B6E1_484A_95FA_0D9D3296DCC0_.wvu.PrintArea: 'F7'!$A$1:$K$59
Name Z_B5D8397B_B6E1_484A_95FA_0D9D3296DCC0_.wvu.PrintArea: 'F8'!$A$1:$K$59
Name Z_B5D8397B_B6E1_484A_95FA_0D9D3296DCC0_.wvu.PrintArea: tocopy!$A$1:$K$59

Sheet Boat Name
A2: Season 2026 | B2: CB Duty 100pts = 1 | C2: 1 | F2: CB DUTY | G2: CB DUTY | H2: Penalty | I2: Standings for the"Pierce Akroyd"perpetual trophy
F3: RACE # | G3: RACE # | H3: To be | I3: Wed. | J3: Sun. | K3: Total | L3: Adjusted
A4: CruisingClass | B4: ModeL | C4: Sail # | D4: PHRF W/L | E4: PHRF R/L | F4: 1 thru 14 | G4: 15 thru 22 | H4: Assessed | I4: Total | J4: Total | K4: Overall | L4: Total | M4: Rank
A5: Carry On | B5: Passport 40 | D5: 172
A6: Cheraz | B6: O'Day 322 | D6: 204
A7: Dilemma | B7: Evelyn 32 | C7: 31748 | D7: 116 | I7: =Wed!AH7 -> 0 | J7: =Sun!V7 -> 0 | K7: =I7+J7 -> 0 | L7: =IF(H7>0,((I7+J7)*(1-H7)),I7+J7) -> 0 | M7: =RANK(L7,$L$5:$L$74,0) -> 25
A8: Dulcinea | B8: Tripp 36 | D8: 81 | H8: 0.1 | I8: =Wed!AH8 -> 353 | J8: =Sun!V8 -> 0 | K8: =I8+J8 -> 353 | L8: =IF(H8>0,((I8+J8)*(1-H8)),I8+J8) -> 317.7 | M8: =RANK(L8,$L$5:$L$74,0) -> 20
A9: Eclipse | B9: J 36 | D9: 105 | I9: =Wed!AH9 -> 0 | J9: =Sun!V9 -> 0 | K9: =I9+J9 -> 0 | L9: =IF(H9>0,((I9+J9)*(1-H9)),I9+J9) -> 0 | M9: =RANK(L9,$L$5:$L$74,0) -> 25
A10: Electra | B10: Dolphin 24 | C10: 233 | D10: 276 | H10: 0.05 | I10: =Wed!AH10 -> 391 | J10: =Sun!V10 -> 0 | K10: =I10+J10 -> 391 | L10: =IF(H10>0,((I10+J10)*(1-H10)),I10+J10) -> 371.45 | M10: =RANK(L10,$L$5:$L$74,0) -> 17
A11: Fast Eddy | B11: O'Day 322 | C11: 1411 | D11: 204 | I11: =Wed!AH11 -> 548 | J11: =Sun!V11 -> 0 | K11: =I11+J11 -> 548 | L11: =IF(H11>0,((I11+J11)*(1-H11)),I11+J11) -> 548 | M11: =RANK(L11,$L$5:$L$74,0) -> 14
A12: Golden Rule | B12: C&C 35 Mk3 | C12: 40681 | D12: 147 | I12: =Wed!AH12 -> 663 | J12: =Sun!V12 -> 0 | K12: =I12+J12 -> 663 | L12: =IF(H12>0,((I12+J12)*(1-H12)),I12+J12) -> 663 | M12: =RANK(L12,$L$5:$L$74,0) -> 13
A13: Grand Cru | B13: Catalina 36 | C13: 1789 | D13: 178 | I13: =Wed!AH13 -> 690 | J13: =Sun!V13 -> 0 | K13: =I13+J13 -> 690 | L13: =IF(H13>0,((I13+J13)*(1-H13)),I13+J13) -> 690 | M13: =RANK(L13,$L$5:$L$74,0) -> 10
A14: Irish Mist | B14: Nonsuch 33 | C14: 6 | D14: 180 | I14: =Wed!AH14 -> 783 | J14: =Sun!V14 -> 80 | K14: =I14+J14 -> 863 | L14: =IF(H14>0,((I14+J14)*(1-H14)),I14+J14) -> 863 | M14: =RANK(L14,$L$5:$L$74,0) -> 6
A15: Jesse Leigh | B15: J 35 | C15: 41470 | D15: 103 | I15: =Wed!AH15 -> 356 | J15: =Sun!V15 -> 0 | K15: =I15+J15 -> 356 | L15: =IF(H15>0,((I15+J15)*(1-H15)),I15+J15) -> 356 | M15: =RANK(L15,$L$5:$L$74,0) -> 18
A16: L'Arch De | B16: Beneteau First 32 | C16: 32733 | D16: 135
A17: Madcap 1.5 | B17: J 105 | D17: 118 | I17: =Wed!AH17 -> 0 | J17: =Sun!V17 -> 0 | K17: =I17+J17 -> 0 | L17: =IF(H17>0,((I17+J17)*(1-H17)),I17+J17) -> 0 | M17: =RANK(L17,$L$5:$L$74,0) -> 25
A18: Magan | B18: Olson 34 | C18: 12795 | D18: 142 | I18: =Wed!AH18 -> 0 | J18: =Sun!V18 -> 0 | K18: =I18+J18 -> 0 | L18: =IF(H18>0,((I18+J18)*(1-H18)),I18+J18) -> 0 | M18: =RANK(L18,$L$5:$L$74,0) -> 25
A19: Meltemi | B19: X 372 | D19: 123 | H19: 0.05 | I19: =Wed!AH19 -> 665 | J19: =Sun!V19 -> 74 | K19: =I19+J19 -> 739 | L19: =IF(H19>0,((I19+J19)*(1-H19)),I19+J19) -> 702.05 | M19: =RANK(L19,$L$5:$L$74,0) -> 9
A20: Nomade | B20: Dufour V35 | C20: 31057 | D20: 167 | I20: =Wed!AH20 -> 0 | J20: =Sun!V20 -> 0 | K20: =I20+J20 -> 0 | L20: =IF(H20>0,((I20+J20)*(1-H20)),I20+J20) -> 0 | M20: =RANK(L20,$L$5:$L$74,0) -> 25
A21: Park Place | B21: O'Day 34 | C21: 41976 | D21: 169 | I21: =Wed!AH21 -> 382 | J21: =Sun!V21 -> 0 | K21: =I21+J21 -> 382 | L21: =IF(H21>0,((I21+J21)*(1-H21)),I21+J21) -> 382 | M21: =RANK(L21,$L$5:$L$74,0) -> 16
A22: Phoenix | B22: X 332 | C22: 259 | D22: 131 | I22: =Wed!AH22 -> 0 | J22: =Sun!V22 -> 0 | K22: =I22+J22 -> 0 | L22: =IF(H22>0,((I22+J22)*(1-H22)),I22+J22) -> 0 | M22: =RANK(L22,$L$5:$L$74,0) -> 25
A23: Restless | B23: Rhodes 41 | C23: 13260 | D23: 192 | I23: =Wed!AH23 -> 0 | J23: =Sun!V23 -> 0 | K23: =I23+J23 -> 0 | L23: =IF(H23>0,((I23+J23)*(1-H23)),I23+J23) -> 0 | M23: =RANK(L23,$L$5:$L$74,0) -> 25
A24: Sagacious | B24: Express 34 | C24: 73048 | D24: 123 | H24: 0.15 | I24: =Wed!AH24 -> 374 | J24: =Sun!V24 -> 0 | K24: =I24+J24 -> 374 | L24: =IF(H24>0,((I24+J24)*(1-H24)),I24+J24) -> 317.9 | M24: =RANK(L24,$L$5:$L$74,0) -> 19
A25: Silent Lady | B25: Catalina 25 | C25: 3972 | D25: 250 | I25: =Wed!AH25 -> 0 | J25: =Sun!V25 -> 0 | K25: =I25+J25 -> 0 | L25: =IF(H25>0,((I25+J25)*(1-H25)),I25+J25) -> 0 | M25: =RANK(L25,$L$5:$L$74,0) -> 25
A26: Spindrift | B26: Jeanneau 36 | D26: 142 | I26: =Wed!AH26 -> 0 | J26: =Sun!V26 -> 0 | K26: =I26+J26 -> 0 | L26: =IF(H26>0,((I26+J26)*(1-H26)),I26+J26) -> 0 | M26: =RANK(L26,$L$5:$L$74,0) -> 25
A27: Towhee | B27: Cal 40 | C27: 1781 | D27: 138 | I27: =Wed!AH27 -> 0 | J27: =Sun!V27 -> 0 | K27: =I27+J27 -> 0 | L27: =IF(H27>0,((I27+J27)*(1-H27)),I27+J27) -> 0 | M27: =RANK(L27,$L$5:$L$74,0) -> 25
A28: Tre Scooch | B28: Catalina 36 | C28: 2195 | D28: 187
A29: Yonder | B29: J-95 | C29: 95007 | D29: 121 | I29: =Wed!AH29 -> 755 | J29: =Sun!V29 -> 0 | K29: =I29+J29 -> 755 | L29: =IF(H29>0,((I29+J29)*(1-H29)),I29+J29) -> 755 | M29: =RANK(L29,$L$5:$L$74,0) -> 7
A30: Glow Boat | B30: F24 | C30: 57 | D30: 80 | I30: =Wed!AH30 -> 676 | J30: =Sun!V30 -> 0 | K30: =I30+J30 -> 676 | L30: =IF(H30>0,((I30+J30)*(1-H30)),I30+J30) -> 676 | M30: =RANK(L30,$L$5:$L$74,0) -> 11
A31: Hooligan | B31: F27 | C31: 57 | D31: 80 | I31: =Wed!AH31 -> 9 | J31: =Sun!V31 -> 0 | K31: =I31+J31 -> 9 | L31: =IF(H31>0,((I31+J31)*(1-H31)),I31+J31) -> 9 | M31: =RANK(L31,$L$5:$L$74,0) -> 24
A32: Holiday Routine | D32: 204 | I32: =Wed!AH32 -> 88 | J32: =Sun!V32 -> 0 | K32: =I32+J32 -> 88 | L32: =IF(H32>0,((I32+J32)*(1-H32)),I32+J32) -> 88 | M32: =RANK(L32,$L$5:$L$74,0) -> 23
A33: Sonas | B33: Oday 322 | D33: 204
I34: =Wed!AH34 -> 0 | J34: =Sun!V34 -> 0 | K34: =I34+J34 -> 0 | L34: =IF(H34>0,((I34+J34)*(1-H34)),I34+J34) -> 0 | M34: =RANK(L34,$L$5:$L$74,0) -> 25
F35: CB DUTY | G35: CB DUTY | H35: Penalty
A36: =A2 -> Season 2026 | F36: RACE # | G36: RACE # | H36: To be | I36: Standings for the"Pierce Akroyd"perpetual trophy
F37: 1 thru 14 | G37: 15 thru 22 | H37: Assesed | I37: Wed. | J37: Sun. | K37: Total | L37: Adjusted
A38: Racing Class | B38: Model | C38: Sail # | D38: W/L PHRF | E38: R/L PHRF | I38: Total | J38: Total | K38: Overall | L38: Total | M38: Rank
A39: Alive | B39: J-105 | C39: 225 | D39: 96 | E39: 90 | I39: =Wed!AH39 -> 809 | J39: =Sun!V39 -> 81 | K39: =I39+J39 -> 890 | L39: =IF(H39>0,((I39+J39)*(1-H39)),I39+J39) -> 890 | M39: =RANK(L39,$L$5:$L$74,0) -> 3
A40: Dilemma | B40: Evelyn 32-2 | C40: 31748 | D40: 96 | E40: 92
A41: Doubledown - Sail Last | B41: Henderson 30 | C41: 121 | D41: 42 | E41: 42
A42: Dulcinea | B42: Tripp 36 | C42: 51503 | D42: 60 | E42: 59 | F42: 10 | I42: =Wed!AH42 -> 714 | J42: =Sun!V42 -> 152 | K42: =I42+J42 -> 866 | L42: =IF(H42>0,((I42+J42)*(1-H42)),I42+J42) -> 866 | M42: =RANK(L42,$L$5:$L$74,0) -> 5
A43: Eclipse | B43: J 36 | D43: 87 | E43: 87 | I43: =Wed!AH43 -> 0 | J43: =Sun!V43 -> 0 | K43: =I43+J43 -> 0 | L43: =IF(H43>0,((I43+J43)*(1-H43)),I43+J43) -> 0 | M43: =RANK(L43,$L$5:$L$74,0) -> 25
A44: Gardian J | B44: J-109 | D44: 77 | E44: 72 | I44: =Wed!AH44 -> 0 | J44: =Sun!V44 -> 0 | K44: =I44+J44 -> 0 | L44: =IF(H44>0,((I44+J44)*(1-H44)),I44+J44) -> 0 | M44: =RANK(L44,$L$5:$L$74,0) -> 25
A45: Invicta | B45: Farr 400 | C45: USA 404 | D45: -6 | E45: -12 | I45: =Wed!AH45 -> 0 | J45: =Sun!V45 -> 0 | K45: =I45+J45 -> 0 | L45: =IF(H45>0,((I45+J45)*(1-H45)),I45+J45) -> 0 | M45: =RANK(L45,$L$5:$L$74,0) -> 25
A46: Jesse Leigh | B46: J-35 | C46: 41470 | D46: 78 | E46: 77 | I46: =Wed!AH46 -> 585 | J46: =Sun!V46 -> 84 | K46: =I46+J46 -> 669 | L46: =IF(H46>0,((I46+J46)*(1-H46)),I46+J46) -> 669 | M46: =RANK(L46,$L$5:$L$74,0) -> 12
A47: Kestrel | B47: J97 | C47: USA 33 | D47: 102 | E47: 98 | I47: =Wed!AH47 -> 735 | J47: =Sun!V47 -> 160 | K47: =I47+J47 -> 895 | L47: =IF(H47>0,((I47+J47)*(1-H47)),I47+J47) -> 895 | M47: =RANK(L47,$L$5:$L$74,0) -> 2
A48: Madcap | B48: J-105 | C48: 83415 | D48: 96 | E48: 90 | I48: =Wed!AH48 -> 0 | J48: =Sun!V48 -> 0 | K48: =I48+J48 -> 0 | L48: =IF(H48>0,((I48+J48)*(1-H48)),I48+J48) -> 0 | M48: =RANK(L48,$L$5:$L$74,0) -> 25
A49: Mademoiselle | B49: BENETEAU 44.7 SD RF | D49: 39 | E49: 39 | I49: =Wed!AH49 -> 0 | J49: =Sun!V49 -> 0 | K49: =I49+J49 -> 0 | L49: =IF(H49>0,((I49+J49)*(1-H49)),I49+J49) -> 0 | M49: =RANK(L49,$L$5:$L$74,0) -> 25
A50: Magan | B50: Olson 34 | D50: 121 | E50: 121 | I50: =Wed!AH50 -> 0 | J50: =Sun!V50 -> 0 | K50: =I50+J50 -> 0 | L50: =IF(H50>0,((I50+J50)*(1-H50)),I50+J50) -> 0 | M50: =RANK(L50,$L$5:$L$74,0) -> 25
A51: Mara | B51: X332 | C51: 93746 | D51: 111 | E51: 111 | I51: =Wed!AH51 -> 0 | J51: =Sun!V51 -> 0 | K51: =I51+J51 -> 0 | L51: =IF(H51>0,((I51+J51)*(1-H51)),I51+J51) -> 0 | M51: =RANK(L51,$L$5:$L$74,0) -> 25
A52: Meltemi | B52: X372 | C52: 51103 | D52: 103 | E52: 103 | I52: =Wed!AH52 -> 0 | J52: =Sun!V52 -> 0 | K52: =I52+J52 -> 0 | L52: =IF(H52>0,((I52+J52)*(1-H52)),I52+J52) -> 0 | M52: =RANK(L52,$L$5:$L$74,0) -> 25
A53: Pachyderm | B53: Frers 33 | D53: 108 | E53: 109 | I53: =Wed!AH53 -> 803 | J53: =Sun!V53 -> 80 | K53: =I53+J53 -> 883 | L53: =IF(H53>0,((I53+J53)*(1-H53)),I53+J53) -> 883 | M53: =RANK(L53,$L$5:$L$74,0) -> 4
A54: Park Place | B54: O'Day 34 | C54: 41976 | D54: 147 | E54: 148 | I54: =Wed!AH54 -> 503 | J54: =Sun!V54 -> 0 | K54: =I54+J54 -> 503 | L54: =IF(H54>0,((I54+J54)*(1-H54)),I54+J54) -> 503 | M54: =RANK(L54,$L$5:$L$74,0) -> 15
A55: Sagacious | B55: Express 34 | C55: 73048 | D55: 102 | E55: 102 | I55: =Wed!AH55 -> 316 | J55: =Sun!V55 -> 0 | K55: =I55+J55 -> 316 | L55: =IF(H55>0,((I55+J55)*(1-H55)),I55+J55) -> 316 | M55: =RANK(L55,$L$5:$L$74,0) -> 21
A56: Glow Boat | B56: F24 Trimeran | C56: 57 | D56: 80 | E56: 80
A57: Spectre | B57: J-125 | C57: 51356 | D57: -3 | E57: -16 | H57: 0.1 | I57: =Wed!AH57 -> 823 | J57: =Sun!V57 -> 258 | K57: =I57+J57 -> 1081 | L57: =IF(H57>0,((I57+J57)*(1-H57)),I57+J57) -> 972.9 | M57: =RANK(L57,$L$5:$L$74,0) -> 1
A58: TBD | B58: J109 | C58: 52278 | D58: 77 | E58: 72 | I58: =Wed!AH58 -> 753 | J58: =Sun!V58 -> 0 | K58: =I58+J58 -> 753 | L58: =IF(H58>0,((I58+J58)*(1-H58)),I58+J58) -> 753 | M58: =RANK(L58,$L$5:$L$74,0) -> 8
A59: Witchcraft | B59: J/29 Fractiona Outboard | D59: 120 | E59: 122
A60: Yonder | B60: J/95 | C60: 95007 | D60: 102 | E60: 97 | I60: =Wed!AH60 -> 0 | J60: =Sun!V60 -> 149 | K60: =I60+J60 -> 149 | L60: =IF(H60>0,((I60+J60)*(1-H60)),I60+J60) -> 149 | M60: =RANK(L60,$L$5:$L$74,0) -> 22
I62: =Wed!AH62 -> 0 | J62: =Sun!V62 -> 0 | K62: =I62+J62 -> 0 | L62: =IF(H62>0,((I62+J62)*(1-H62)),I62+J62) -> 0 | M62: =RANK(L62,$L$5:$L$74,0) -> 25
I64: =Wed!AH64 -> 0 | J64: =Sun!V64 -> 0 | K64: =I64+J64 -> 0 | L64: =IF(H64>0,((I64+J64)*(1-H64)),I64+J64) -> 0 | M64: =RANK(L64,$L$5:$L$74,0) -> 25
I65: =Wed!AH65 -> 0 | J65: =Sun!V65 -> 0 | K65: =I65+J65 -> 0 | L65: =IF(H65>0,((I65+J65)*(1-H65)),I65+J65) -> 0 | M65: =RANK(L65,$L$5:$L$74,0) -> 25
I66: =Wed!AH66 -> 0 | J66: =Sun!V66 -> 0 | K66: =I66+J66 -> 0 | L66: =IF(H66>0,((I66+J66)*(1-H66)),I66+J66) -> 0 | M66: =RANK(L66,$L$5:$L$74,0) -> 25
I67: =Wed!AH67 -> 0 | J67: =Sun!V67 -> 0 | K67: =I67+J67 -> 0 | L67: =IF(H67>0,((I67+J67)*(1-H67)),I67+J67) -> 0 | M67: =RANK(L67,$L$5:$L$74,0) -> 25
I68: =Wed!AH68 -> 0 | J68: =Sun!V68 -> 0 | K68: =I68+J68 -> 0 | L68: =IF(H68>0,((I68+J68)*(1-H68)),I68+J68) -> 0 | M68: =RANK(L68,$L$5:$L$74,0) -> 25
I69: =Wed!AH69 -> 0 | J69: =Sun!V69 -> 0 | K69: =I69+J69 -> 0 | L69: =IF(H69>0,((I69+J69)*(1-H69)),I69+J69) -> 0 | M69: =RANK(L69,$L$5:$L$74,0) -> 25
I70: =Wed!AH70 -> 0 | J70: =Sun!V70 -> 0 | K70: =I70+J70 -> 0 | L70: =IF(H70>0,((I70+J70)*(1-H70)),I70+J70) -> 0 | M70: =RANK(L70,$L$5:$L$74,0) -> 25
I71: =Wed!AH71 -> 0 | J71: =Sun!V71 -> 0 | K71: =I71+J71 -> 0 | L71: =IF(H71>0,((I71+J71)*(1-H71)),I71+J71) -> 0 | M71: =RANK(L71,$L$5:$L$74,0) -> 25
I72: =Wed!AH72 -> 0 | J72: =Sun!V72 -> 0 | K72: =I72+J72 -> 0 | L72: =IF(H72>0,((I72+J72)*(1-H72)),I72+J72) -> 0 | M72: =RANK(L72,$L$5:$L$74,0) -> 25
I73: =Wed!AH73 -> 0 | J73: =Sun!V73 -> 0 | K73: =I73+J73 -> 0 | L73: =IF(H73>0,((I73+J73)*(1-H73)),I73+J73) -> 0 | M73: =RANK(L73,$L$5:$L$74,0) -> 25
I74: =Wed!AH74 -> 0 | J74: =Sun!V74 -> 0 | K74: =I74+J74 -> 0 | L74: =IF(H74>0,((I74+J74)*(1-H74)),I74+J74) -> 0 | M74: =RANK(L74,$L$5:$L$74,0) -> 25

Sheet Wed
A1: High Score | B1: Wed. | C1: =LARGE(C5:C34,1) -> 92 | D1: =LARGE(D5:D34,1) -> 87 | E1: =LARGE(E5:E34,1) -> 84 | F1: =LARGE(F5:F34,1) -> 92 | G1: =LARGE(G5:G34,1) -> 94 | H1: =LARGE(H5:H34,1) -> 96 | I1: =LARGE(I5:I34,1) -> 97 | J1: =LARGE(J5:J34,1) -> 94 | ... Q1: =LARGE(Q5:Q34,1) -> 94
A2: ='Boat Name'!A2 -> Season 2026 | C2: 46169 | D2: 46176 | E2: 46183 | F2: 46190 | G2: 46197 | H2: 46204 | I2: 46211 | J2: 46218 | K2: 46225 | L2: 46232 | M2: 8/5/ | N2: 46246 | O2: 46253 | P2: 46260 | Q2: 46267 | S2: Tot. Valid | T2: Wed. | U2: Wed. | AH2: 60% Rule
A3: Valid Wed Races | B3: CB Duty | C3: 1 | D3: 1 | E3: 1 | F3: 1 | G3: 1 | H3: 1 | I3: 1 | J3: 1 | K3: 1 | L3: 1 | M3: 1 | N3: 1 | O3: 1 | P3: 1 | Q3: 1 | R3: Sum | S3: =SUM(C3:Q3) -> 15 | T3: Class | U3: Overall | AH3: # of Races
A4: Boat Name, Cruising | B4: Score | C4: R1 | D4: R2 | E4: R3 | F4: R4 | G4: R5 | H4: R6 | I4: R7 | J4: R8 | K4: R9 | L4: R10 | M4: R11 | N4: R12 | O4: R13 | P4: R14 | Q4: R15 | R4: Total | S4: 60% Total | T4: Standing | U4: Standing | W4: 1 | X4: 2 | Y4: 3 | Z4: 4 | AA4: 5 | AB4: 6 | AC4: 7 | AD4: 8 | AE4: 9 | AF4: 10 | AG4: 11 | AH4: 9
A5: ='Boat Name'!A5 -> Carry On | B5: =IF('Boat Name'!F5>0,IF(OFFSET($B$3,0,'Boat Name'!F5, )=1,IF('Boat Name'!$C$2=0,OFFSET($B$1,0,'Boat Name'!F5),IF('Boat Name'!$C$2=1,OFFSET($B$3,0,'Boat Name'!F5)*100,"")),""),"") | C5: =IF(C$3=1,'1'!$O5,0) -> 0 | D5: =IF(D$3=1,'2'!$O5,0) -> 0 | E5: =IF(E$3=1,'3'!$O5,0) -> 0 | F5: =IF(F$3=1,'4'!$O5,0) -> 0 | G5: =IF(G$3=1,'5'!$O5,0) -> 0 | H5: =IF(H$3=1,'6'!$O5,0) -> 0 | I5: =IF(I$3=1,'7'!$O5,0) -> 0 | J5: =IF(J$3=1,'8'!$O5,0) -> 0 | K5: =IF(K$3=1,'9'!$O5,0) -> 0 | L5: =IF(L$3=1,'10'!$O5,0) -> 0 | M5: =IF(M$3=1,'11'!$O5,0) -> 0 | N5: =IF(N$3=1,'12'!$O5,0) -> 0 | O5: =IF(O$3=1,'13'!$O5,0) -> 0 | P5: =IF(P$3=1,'14'!$O5,0) -> 0 | Q5: =IF(Q$3=1,'15'!$O5,0) -> 0 | R5: =SUM(B5:Q5) -> 0 | S5: =AH5 -> 0 | T5: =RANK(S5,$S$5:$S$34) -> 17 | U5: =RANK(S5,$S$5:$S$74) -> 28 | W5: =LARGE($B5:$Q5,W$4) -> 0 | X5: =LARGE($B5:$Q5,X$4) -> 0 | Y5: =LARGE($B5:$Q5,Y$4) -> 0 | Z5: =LARGE($B5:$Q5,Z$4) -> 0 | AA5: =LARGE($B5:$Q5,AA$4) -> 0 | AB5: =LARGE($B5:$Q5,AB$4) -> 0 | AC5: =LARGE($B5:$Q5,AC$4) -> 0 | AD5: =LARGE($B5:$Q5,AD$4) -> 0 | ... AG5: =LARGE($B5:$Q5,AG$4) -> 0 | AH5: =SUM(W5:OFFSET(W5,0,($AH$4-1))) -> 0
A6: ='Boat Name'!A6 -> Cheraz | B6: =IF('Boat Name'!F6>0,IF(OFFSET($B$3,0,'Boat Name'!F6, )=1,IF('Boat Name'!$C$2=0,OFFSET($B$1,0,'Boat Name'!F6),IF('Boat Name'!$C$2=1,OFFSET($B$3,0,'Boat Name'!F6)*100,"")),""),"") | C6: =IF(C$3=1,'1'!$O6,0) -> 0 | D6: =IF(D$3=1,'2'!$O6,0) -> 0 | E6: =IF(E$3=1,'3'!$O6,0) -> 0 | F6: =IF(F$3=1,'4'!$O6,0) -> 0 | G6: =IF(G$3=1,'5'!$O6,0) -> 0 | H6: =IF(H$3=1,'6'!$O6,0) -> 0 | I6: =IF(I$3=1,'7'!$O6,0) -> 0 | J6: =IF(J$3=1,'8'!$O6,0) -> 0 | K6: =IF(K$3=1,'9'!$O6,0) -> 0 | L6: =IF(L$3=1,'10'!$O6,0) -> 0 | M6: =IF(M$3=1,'11'!$O6,0) -> 0 | N6: =IF(N$3=1,'12'!$O6,0) -> 0 | O6: =IF(O$3=1,'13'!$O6,0) -> 0 | P6: =IF(P$3=1,'14'!$O6,0) -> 0 | Q6: =IF(Q$3=1,'15'!$O6,0) -> 0 | R6: =SUM(B6:Q6) -> 0 | S6: =AH6 -> 0 | T6: =RANK(S6,$S$5:$S$34) -> 17 | U6: =RANK(S6,$S$5:$S$74) -> 28 | W6: =LARGE($B6:$Q6,W$4) -> 0 | X6: =LARGE($B6:$Q6,X$4) -> 0 | Y6: =LARGE($B6:$Q6,Y$4) -> 0 | Z6: =LARGE($B6:$Q6,Z$4) -> 0 | AA6: =LARGE($B6:$Q6,AA$4) -> 0 | AB6: =LARGE($B6:$Q6,AB$4) -> 0 | AC6: =LARGE($B6:$Q6,AC$4) -> 0 | AD6: =LARGE($B6:$Q6,AD$4) -> 0 | ... AG6: =LARGE($B6:$Q6,AG$4) -> 0 | AH6: =SUM(W6:OFFSET(W6,0,($AH$4-1))) -> 0
A7: ='Boat Name'!A7 -> Dilemma | C7: =IF(C$3=1,'1'!$O7,0) -> 0 | D7: =IF(D$3=1,'2'!$O7,0) -> 0 | E7: =IF(E$3=1,'3'!$O7,0) -> 0 | F7: =IF(F$3=1,'4'!$O7,0) -> 0 | G7: =IF(G$3=1,'5'!$O7,0) -> 0 | H7: =IF(H$3=1,'6'!$O7,0) -> 0 | I7: =IF(I$3=1,'7'!$O7,0) -> 0 | J7: =IF(J$3=1,'8'!$O7,0) -> 0 | K7: =IF(K$3=1,'9'!$O7,0) -> 0 | L7: =IF(L$3=1,'10'!$O7,0) -> 0 | M7: =IF(M$3=1,'11'!$O7,0) -> 0 | N7: =IF(N$3=1,'12'!$O7,0) -> 0 | O7: =IF(O$3=1,'13'!$O7,0) -> 0 | P7: =IF(P$3=1,'14'!$O7,0) -> 0 | Q7: =IF(Q$3=1,'15'!$O7,0) -> 0 | R7: =SUM(B7:Q7) -> 0 | S7: =AH7 -> 0 | T7: =RANK(S7,$S$5:$S$34) -> 17 | U7: =RANK(S7,$S$5:$S$74) -> 28 | W7: =LARGE($B7:$Q7,W$4) -> 0 | X7: =LARGE($B7:$Q7,X$4) -> 0 | Y7: =LARGE($B7:$Q7,Y$4) -> 0 | Z7: =LARGE($B7:$Q7,Z$4) -> 0 | AA7: =LARGE($B7:$Q7,AA$4) -> 0 | AB7: =LARGE($B7:$Q7,AB$4) -> 0 | AC7: =LARGE($B7:$Q7,AC$4) -> 0 | AD7: =LARGE($B7:$Q7,AD$4) -> 0 | ... AG7: =LARGE($B7:$Q7,AG$4) -> 0 | AH7: =SUM(W7:OFFSET(W7,0,($AH$4-1))) -> 0
A8: ='Boat Name'!A8 -> Dulcinea | B8: =IF('Boat Name'!F8>0,IF(OFFSET($B$3,0,'Boat Name'!F8, )=1,IF('Boat Name'!$C$2=0,OFFSET($B$1,0,'Boat Name'!F8),IF('Boat Name'!$C$2=1,OFFSET($B$3,0,'Boat Name'!F8)*100,"")),""),"") | C8: =IF(C$3=1,'1'!$O8,0) -> 0 | D8: =IF(D$3=1,'2'!$O8,0) -> 0 | E8: =IF(E$3=1,'3'!$O8,0) -> 0 | F8: =IF(F$3=1,'4'!$O8,0) -> 92 | G8: =IF(G$3=1,'5'!$O8,0) -> 94 | H8: =IF(H$3=1,'6'!$O8,0) -> 0 | I8: =IF(I$3=1,'7'!$O8,0) -> 0 | J8: =IF(J$3=1,'8'!$O8,0) -> 0 | K8: =IF(K$3=1,'9'!$O8,0) -> 80 | L8: =IF(L$3=1,'10'!$O8,0) -> 0 | M8: =IF(M$3=1,'11'!$O8,0) -> 0 | N8: =IF(N$3=1,'12'!$O8,0) -> 0 | O8: =IF(O$3=1,'13'!$O8,0) -> 0 | P8: =IF(P$3=1,'14'!$O8,0) -> 87 | Q8: =IF(Q$3=1,'15'!$O8,0) -> 0 | R8: =SUM(B8:Q8) -> 353 | S8: =AH8 -> 353 | T8: =RANK(S8,$S$5:$S$34) -> 13 | U8: =RANK(S8,$S$5:$S$74) -> 22 | W8: =LARGE($B8:$Q8,W$4) -> 94 | X8: =LARGE($B8:$Q8,X$4) -> 92 | Y8: =LARGE($B8:$Q8,Y$4) -> 87 | Z8: =LARGE($B8:$Q8,Z$4) -> 80 | AA8: =LARGE($B8:$Q8,AA$4) -> 0 | AB8: =LARGE($B8:$Q8,AB$4) -> 0 | AC8: =LARGE($B8:$Q8,AC$4) -> 0 | AD8: =LARGE($B8:$Q8,AD$4) -> 0 | ... AG8: =LARGE($B8:$Q8,AG$4) -> 0 | AH8: =SUM(W8:OFFSET(W8,0,($AH$4-1))) -> 353
A9: ='Boat Name'!A9 -> Eclipse | C9: =IF(C$3=1,'1'!$O9,0) -> 0 | D9: =IF(D$3=1,'2'!$O9,0) -> 0 | E9: =IF(E$3=1,'3'!$O9,0) -> 0 | F9: =IF(F$3=1,'4'!$O9,0) -> 0 | G9: =IF(G$3=1,'5'!$O9,0) -> 0 | H9: =IF(H$3=1,'6'!$O9,0) -> 0 | I9: =IF(I$3=1,'7'!$O9,0) -> 0 | J9: =IF(J$3=1,'8'!$O9,0) -> 0 | K9: =IF(K$3=1,'9'!$O9,0) -> 0 | L9: =IF(L$3=1,'10'!$O9,0) -> 0 | M9: =IF(M$3=1,'11'!$O9,0) -> 0 | N9: =IF(N$3=1,'12'!$O9,0) -> 0 | O9: =IF(O$3=1,'13'!$O9,0) -> 0 | P9: =IF(P$3=1,'14'!$O9,0) -> 0 | Q9: =IF(Q$3=1,'15'!$O9,0) -> 0 | R9: =SUM(B9:Q9) -> 0 | S9: =AH9 -> 0 | T9: =RANK(S9,$S$5:$S$34) -> 17 | U9: =RANK(S9,$S$5:$S$74) -> 28 | W9: =LARGE($B9:$Q9,W$4) -> 0 | X9: =LARGE($B9:$Q9,X$4) -> 0 | Y9: =LARGE($B9:$Q9,Y$4) -> 0 | Z9: =LARGE($B9:$Q9,Z$4) -> 0 | AA9: =LARGE($B9:$Q9,AA$4) -> 0 | AB9: =LARGE($B9:$Q9,AB$4) -> 0 | AC9: =LARGE($B9:$Q9,AC$4) -> 0 | AD9: =LARGE($B9:$Q9,AD$4) -> 0 | ... AG9: =LARGE($B9:$Q9,AG$4) -> 0 | AH9: =SUM(W9:OFFSET(W9,0,($AH$4-1))) -> 0
A10: ='Boat Name'!A10 -> Electra | B10: =IF('Boat Name'!F10>0,IF(OFFSET($B$3,0,'Boat Name'!F10, )=1,IF('Boat Name'!$C$2=0,OFFSET($B$1,0,'Boat Name'!F10),IF('Boat Name'!$C$2=1,OFFSET($B$3,0,'Boat Name'!F10)*100,"")),""),"") | C10: =IF(C$3=1,'1'!$O10,0) -> 0 | D10: =IF(D$3=1,'2'!$O10,0) -> 0 | E10: =IF(E$3=1,'3'!$O10,0) -> 0 | F10: =IF(F$3=1,'4'!$O10,0) -> 0 | G10: =IF(G$3=1,'5'!$O10,0) -> 0 | H10: =IF(H$3=1,'6'!$O10,0) -> 0 | I10: =IF(I$3=1,'7'!$O10,0) -> 0 | J10: =IF(J$3=1,'8'!$O10,0) -> 0 | K10: =IF(K$3=1,'9'!$O10,0) -> 72 | L10: =IF(L$3=1,'10'!$O10,0) -> 0 | M10: =IF(M$3=1,'11'!$O10,0) -> 75 | N10: =IF(N$3=1,'12'!$O10,0) -> 92 | O10: =IF(O$3=1,'13'!$O10,0) -> 75 | P10: =IF(P$3=1,'14'!$O10,0) -> 77 | Q10: =IF(Q$3=1,'15'!$O10,0) -> 0 | R10: =SUM(B10:Q10) -> 391 | S10: =AH10 -> 391 | T10: =RANK(S10,$S$5:$S$34) -> 9 | U10: =RANK(S10,$S$5:$S$74) -> 18 | W10: =LARGE($B10:$Q10,W$4) -> 92 | X10: =LARGE($B10:$Q10,X$4) -> 77 | Y10: =LARGE($B10:$Q10,Y$4) -> 75 | Z10: =LARGE($B10:$Q10,Z$4) -> 75 | AA10: =LARGE($B10:$Q10,AA$4) -> 72 | AB10: =LARGE($B10:$Q10,AB$4) -> 0 | AC10: =LARGE($B10:$Q10,AC$4) -> 0 | AD10: =LARGE($B10:$Q10,AD$4) -> 0 | ... AG10: =LARGE($B10:$Q10,AG$4) -> 0 | AH10: =SUM(W10:OFFSET(W10,0,($AH$4-1))) -> 391
A11: ='Boat Name'!A11 -> Fast Eddy | C11: =IF(C$3=1,'1'!$O11,0) -> 82 | D11: =IF(D$3=1,'2'!$O11,0) -> 0 | E11: =IF(E$3=1,'3'!$O11,0) -> 0 | F11: =IF(F$3=1,'4'!$O11,0) -> 78 | G11: =IF(G$3=1,'5'!$O11,0) -> 80 | H11: =IF(H$3=1,'6'!$O11,0) -> 0 | I11: =IF(I$3=1,'7'!$O11,0) -> 75 | J11: =IF(J$3=1,'8'!$O11,0) -> 0 | K11: =IF(K$3=1,'9'!$O11,0) -> 74 | L11: =IF(L$3=1,'10'!$O11,0) -> 0 | M11: =IF(M$3=1,'11'!$O11,0) -> 0 | N11: =IF(N$3=1,'12'!$O11,0) -> 0 | O11: =IF(O$3=1,'13'!$O11,0) -> 0 | P11: =IF(P$3=1,'14'!$O11,0) -> 75 | Q11: =IF(Q$3=1,'15'!$O11,0) -> 84 | R11: =SUM(B11:Q11) -> 548 | S11: =AH11 -> 548 | T11: =RANK(S11,$S$5:$S$34) -> 8 | U11: =RANK(S11,$S$5:$S$74) -> 16 | W11: =LARGE($B11:$Q11,W$4) -> 84 | X11: =LARGE($B11:$Q11,X$4) -> 82 | Y11: =LARGE($B11:$Q11,Y$4) -> 80 | Z11: =LARGE($B11:$Q11,Z$4) -> 78 | AA11: =LARGE($B11:$Q11,AA$4) -> 75 | AB11: =LARGE($B11:$Q11,AB$4) -> 75 | AC11: =LARGE($B11:$Q11,AC$4) -> 74 | AD11: =LARGE($B11:$Q11,AD$4) -> 0 | ... AG11: =LARGE($B11:$Q11,AG$4) -> 0 | AH11: =SUM(W11:OFFSET(W11,0,($AH$4-1))) -> 548
A12: ='Boat Name'!A12 -> Golden Rule | B12: =IF('Boat Name'!F12>0,IF(OFFSET($B$3,0,'Boat Name'!F12, )=1,IF('Boat Name'!$C$2=0,OFFSET($B$1,0,'Boat Name'!F12),IF('Boat Name'!$C$2=1,OFFSET($B$3,0,'Boat Name'!F12)*100,"")),""),"") | C12: =IF(C$3=1,'1'!$O12,0) -> 0 | D12: =IF(D$3=1,'2'!$O12,0) -> 0 | E12: =IF(E$3=1,'3'!$O12,0) -> 0 | F12: =IF(F$3=1,'4'!$O12,0) -> 0 | G12: =IF(G$3=1,'5'!$O12,0) -> 0 | H12: =IF(H$3=1,'6'!$O12,0) -> 0 | I12: =IF(I$3=1,'7'!$O12,0) -> 91 | J12: =IF(J$3=1,'8'!$O12,0) -> 77 | K12: =IF(K$3=1,'9'!$O12,0) -> 88 | L12: =IF(L$3=1,'10'!$O12,0) -> 86 | M12: =IF(M$3=1,'11'!$O12,0) -> 80 | N12: =IF(N$3=1,'12'!$O12,0) -> 75 | O12: =IF(O$3=1,'13'!$O12,0) -> 83 | P12: =IF(P$3=1,'14'!$O12,0) -> 83 | Q12: =IF(Q$3=1,'15'!$O12,0) -> 0 | R12: =SUM(B12:Q12) -> 663 | S12: =AH12 -> 663 | T12: =RANK(S12,$S$5:$S$34) -> 7 | U12: =RANK(S12,$S$5:$S$74) -> 14 | W12: =LARGE($B12:$Q12,W$4) -> 91 | X12: =LARGE($B12:$Q12,X$4) -> 88 | Y12: =LARGE($B12:$Q12,Y$4) -> 86 | Z12: =LARGE($B12:$Q12,Z$4) -> 83 | AA12: =LARGE($B12:$Q12,AA$4) -> 83 | AB12: =LARGE($B12:$Q12,AB$4) -> 80 | AC12: =LARGE($B12:$Q12,AC$4) -> 77 | AD12: =LARGE($B12:$Q12,AD$4) -> 75 | ... AG12: =LARGE($B12:$Q12,AG$4) -> 0 | AH12: =SUM(W12:OFFSET(W12,0,($AH$4-1))) -> 663
A13: ='Boat Name'!A13 -> Grand Cru | B13: 100 | C13: =IF(C$3=1,'1'!$O13,0) -> 0 | D13: =IF(D$3=1,'2'!$O13,0) -> 73 | E13: =IF(E$3=1,'3'!$O13,0) -> 74 | F13: =IF(F$3=1,'4'!$O13,0) -> 72 | G13: =IF(G$3=1,'5'!$O13,0) -> 74 | H13: =IF(H$3=1,'6'!$O13,0) -> 0 | I13: =IF(I$3=1,'7'!$O13,0) -> 71 | J13: =IF(J$3=1,'8'!$O13,0) -> 74 | K13: =IF(K$3=1,'9'!$O13,0) -> 0 | L13: =IF(L$3=1,'10'!$O13,0) -> 72 | M13: =IF(M$3=1,'11'!$O13,0) -> 73 | N13: =IF(N$3=1,'12'!$O13,0) -> 0 | O13: =IF(O$3=1,'13'!$O13,0) -> 73 | P13: =IF(P$3=1,'14'!$O13,0) -> 71 | Q13: =IF(Q$3=1,'15'!$O13,0) -> 77 | R13: =SUM(B13:Q13) -> 904 | S13: =AH13 -> 690 | T13: =RANK(S13,$S$5:$S$34) -> 3 | U13: =RANK(S13,$S$5:$S$74) -> 10 | W13: =LARGE($B13:$Q13,W$4) -> 100 | X13: =LARGE($B13:$Q13,X$4) -> 77 | Y13: =LARGE($B13:$Q13,Y$4) -> 74 | Z13: =LARGE($B13:$Q13,Z$4) -> 74 | AA13: =LARGE($B13:$Q13,AA$4) -> 74 | AB13: =LARGE($B13:$Q13,AB$4) -> 73 | AC13: =LARGE($B13:$Q13,AC$4) -> 73 | AD13: =LARGE($B13:$Q13,AD$4) -> 73 | ... AG13: =LARGE($B13:$Q13,AG$4) -> 71 | AH13: =SUM(W13:OFFSET(W13,0,($AH$4-1))) -> 690
A14: ='Boat Name'!A14 -> Irish Mist | B14: 100 | C14: =IF(C$3=1,'1'!$O14,0) -> 92 | D14: =IF(D$3=1,'2'!$O14,0) -> 0 | E14: =IF(E$3=1,'3'!$O14,0) -> 0 | F14: =IF(F$3=1,'4'!$O14,0) -> 82 | G14: =IF(G$3=1,'5'!$O14,0) -> 88 | H14: =IF(H$3=1,'6'!$O14,0) -> 0 | I14: =IF(I$3=1,'7'!$O14,0) -> 80 | J14: =IF(J$3=1,'8'!$O14,0) -> 84 | K14: =IF(K$3=1,'9'!$O14,0) -> 84 | L14: =IF(L$3=1,'10'!$O14,0) -> 82 | M14: =IF(M$3=1,'11'!$O14,0) -> 77 | N14: =IF(N$3=1,'12'!$O14,0) -> 0 | O14: =IF(O$3=1,'13'!$O14,0) -> 0 | P14: =IF(P$3=1,'14'!$O14,0) -> 91 | Q14: =IF(Q$3=1,'15'!$O14,0) -> 0 | R14: =SUM(B14:Q14) -> 860 | S14: =AH14 -> 783 | T14: =RANK(S14,$S$5:$S$34) -> 1 | U14: =RANK(S14,$S$5:$S$74) -> 4 | W14: =LARGE($B14:$Q14,W$4) -> 100 | X14: =LARGE($B14:$Q14,X$4) -> 92 | Y14: =LARGE($B14:$Q14,Y$4) -> 91 | Z14: =LARGE($B14:$Q14,Z$4) -> 88 | AA14: =LARGE($B14:$Q14,AA$4) -> 84 | AB14: =LARGE($B14:$Q14,AB$4) -> 84 | AC14: =LARGE($B14:$Q14,AC$4) -> 82 | AD14: =LARGE($B14:$Q14,AD$4) -> 82 | ... AG14: =LARGE($B14:$Q14,AG$4) -> 0 | AH14: =SUM(W14:OFFSET(W14,0,($AH$4-1))) -> 783
A15: ='Boat Name'!A15 -> Jesse Leigh | C15: =IF(C$3=1,'1'!$O15,0) -> 0 | D15: =IF(D$3=1,'2'!$O15,0) -> 0 | E15: =IF(E$3=1,'3'!$O15,0) -> 0 | F15: =IF(F$3=1,'4'!$O15,0) -> 0 | G15: =IF(G$3=1,'5'!$O15,0) -> 0 | H15: =IF(H$3=1,'6'!$O15,0) -> 0 | I15: =IF(I$3=1,'7'!$O15,0) -> 97 | J15: =IF(J$3=1,'8'!$O15,0) -> 80 | K15: =IF(K$3=1,'9'!$O15,0) -> 0 | L15: =IF(L$3=1,'10'!$O15,0) -> 92 | M15: =IF(M$3=1,'11'!$O15,0) -> 0 | N15: =IF(N$3=1,'12'!$O15,0) -> 0 | O15: =IF(O$3=1,'13'!$O15,0) -> 87 | P15: =IF(P$3=1,'14'!$O15,0) -> 0 | Q15: =IF(Q$3=1,'15'!$O15,0) -> 0 | R15: =SUM(B15:Q15) -> 356 | S15: =AH15 -> 356 | T15: =RANK(S15,$S$5:$S$34) -> 12 | U15: =RANK(S15,$S$5:$S$74) -> 21 | W15: =LARGE($B15:$Q15,W$4) -> 97 | X15: =LARGE($B15:$Q15,X$4) -> 92 | Y15: =LARGE($B15:$Q15,Y$4) -> 87 | Z15: =LARGE($B15:$Q15,Z$4) -> 80 | AA15: =LARGE($B15:$Q15,AA$4) -> 0 | AB15: =LARGE($B15:$Q15,AB$4) -> 0 | AC15: =LARGE($B15:$Q15,AC$4) -> 0 | AD15: =LARGE($B15:$Q15,AD$4) -> 0 | ... AG15: =LARGE($B15:$Q15,AG$4) -> 0 | AH15: =SUM(W15:OFFSET(W15,0,($AH$4-1))) -> 356
A16: ='Boat Name'!A16 -> L'Arch De | B16: =IF('Boat Name'!F16>0,IF(OFFSET($B$3,0,'Boat Name'!F16, )=1,IF('Boat Name'!$C$2=0,OFFSET($B$1,0,'Boat Name'!F16),IF('Boat Name'!$C$2=1,OFFSET($B$3,0,'Boat Name'!F16)*100,"")),""),"") | C16: =IF(C$3=1,'1'!$O16,0) -> 72 | D16: =IF(D$3=1,'2'!$O16,0) -> 0 | E16: =IF(E$3=1,'3'!$O16,0) -> 0 | F16: =IF(F$3=1,'4'!$O16,0) -> 0 | G16: =IF(G$3=1,'5'!$O16,0) -> 0 | H16: =IF(H$3=1,'6'!$O16,0) -> 0 | I16: =IF(I$3=1,'7'!$O16,0) -> 0 | J16: =IF(J$3=1,'8'!$O16,0) -> 0 | K16: =IF(K$3=1,'9'!$O16,0) -> 0 | L16: =IF(L$3=1,'10'!$O16,0) -> 0 | M16: =IF(M$3=1,'11'!$O16,0) -> 0 | N16: =IF(N$3=1,'12'!$O16,0) -> 0 | O16: =IF(O$3=1,'13'!$O16,0) -> 0 | P16: =IF(P$3=1,'14'!$O16,0) -> 0 | Q16: =IF(Q$3=1,'15'!$O16,0) -> 0 | R16: =SUM(B16:Q16) -> 72 | S16: =AH16 -> 72 | T16: =RANK(S16,$S$5:$S$34) -> 15 | U16: =RANK(S16,$S$5:$S$74) -> 26 | W16: =LARGE($B16:$Q16,W$4) -> 72 | X16: =LARGE($B16:$Q16,X$4) -> 0 | Y16: =LARGE($B16:$Q16,Y$4) -> 0 | Z16: =LARGE($B16:$Q16,Z$4) -> 0 | AA16: =LARGE($B16:$Q16,AA$4) -> 0 | AB16: =LARGE($B16:$Q16,AB$4) -> 0 | AC16: =LARGE($B16:$Q16,AC$4) -> 0 | AD16: =LARGE($B16:$Q16,AD$4) -> 0 | ... AG16: =LARGE($B16:$Q16,AG$4) -> 0 | AH16: =SUM(W16:OFFSET(W16,0,($AH$4-1))) -> 72
A17: ='Boat Name'!A17 -> Madcap 1.5 | B17: =IF('Boat Name'!F17>0,IF(OFFSET($B$3,0,'Boat Name'!F17, )=1,IF('Boat Name'!$C$2=0,OFFSET($B$1,0,'Boat Name'!F17),IF('Boat Name'!$C$2=1,OFFSET($B$3,0,'Boat Name'!F17)*100,"")),""),"") | C17: =IF(C$3=1,'1'!$O17,0) -> 0 | D17: =IF(D$3=1,'2'!$O17,0) -> 0 | E17: =IF(E$3=1,'3'!$O17,0) -> 0 | F17: =IF(F$3=1,'4'!$O17,0) -> 0 | G17: =IF(G$3=1,'5'!$O17,0) -> 0 | H17: =IF(H$3=1,'6'!$O17,0) -> 0 | I17: =IF(I$3=1,'7'!$O17,0) -> 0 | J17: =IF(J$3=1,'8'!$O17,0) -> 0 | K17: =IF(K$3=1,'9'!$O17,0) -> 0 | L17: =IF(L$3=1,'10'!$O17,0) -> 0 | M17: =IF(M$3=1,'11'!$O17,0) -> 0 | N17: =IF(N$3=1,'12'!$O17,0) -> 0 | O17: =IF(O$3=1,'13'!$O17,0) -> 0 | P17: =IF(P$3=1,'14'!$O17,0) -> 0 | Q17: =IF(Q$3=1,'15'!$O17,0) -> 0 | R17: =SUM(B17:Q17) -> 0 | S17: =AH17 -> 0 | T17: =RANK(S17,$S$5:$S$34) -> 17 | U17: =RANK(S17,$S$5:$S$74) -> 28 | W17: =LARGE($B17:$Q17,W$4) -> 0 | X17: =LARGE($B17:$Q17,X$4) -> 0 | Y17: =LARGE($B17:$Q17,Y$4) -> 0 | Z17: =LARGE($B17:$Q17,Z$4) -> 0 | AA17: =LARGE($B17:$Q17,AA$4) -> 0 | AB17: =LARGE($B17:$Q17,AB$4) -> 0 | AC17: =LARGE($B17:$Q17,AC$4) -> 0 | AD17: =LARGE($B17:$Q17,AD$4) -> 0 | ... AG17: =LARGE($B17:$Q17,AG$4) -> 0 | AH17: =SUM(W17:OFFSET(W17,0,($AH$4-1))) -> 0
A18: ='Boat Name'!A18 -> Magan | C18: =IF(C$3=1,'1'!$O18,0) -> 0 | D18: =IF(D$3=1,'2'!$O18,0) -> 0 | E18: =IF(E$3=1,'3'!$O18,0) -> 0 | F18: =IF(F$3=1,'4'!$O18,0) -> 0 | G18: =IF(G$3=1,'5'!$O18,0) -> 0 | H18: =IF(H$3=1,'6'!$O18,0) -> 0 | I18: =IF(I$3=1,'7'!$O18,0) -> 0 | J18: =IF(J$3=1,'8'!$O18,0) -> 0 | K18: =IF(K$3=1,'9'!$O18,0) -> 0 | L18: =IF(L$3=1,'10'!$O18,0) -> 0 | M18: =IF(M$3=1,'11'!$O18,0) -> 0 | N18: =IF(N$3=1,'12'!$O18,0) -> 0 | O18: =IF(O$3=1,'13'!$O18,0) -> 0 | P18: =IF(P$3=1,'14'!$O18,0) -> 0 | Q18: =IF(Q$3=1,'15'!$O18,0) -> 0 | R18: =SUM(B18:Q18) -> 0 | S18: =AH18 -> 0 | T18: =RANK(S18,$S$5:$S$34) -> 17 | U18: =RANK(S18,$S$5:$S$74) -> 28 | W18: =LARGE($B18:$Q18,W$4) -> 0 | X18: =LARGE($B18:$Q18,X$4) -> 0 | Y18: =LARGE($B18:$Q18,Y$4) -> 0 | Z18: =LARGE($B18:$Q18,Z$4) -> 0 | AA18: =LARGE($B18:$Q18,AA$4) -> 0 | AB18: =LARGE($B18:$Q18,AB$4) -> 0 | AC18: =LARGE($B18:$Q18,AC$4) -> 0 | AD18: =LARGE($B18:$Q18,AD$4) -> 0 | ... AG18: =LARGE($B18:$Q18,AG$4) -> 0 | AH18: =SUM(W18:OFFSET(W18,0,($AH$4-1))) -> 0
A19: ='Boat Name'!A19 -> Meltemi | B19: =IF('Boat Name'!F19>0,IF(OFFSET($B$3,0,'Boat Name'!F19, )=1,IF('Boat Name'!$C$2=0,OFFSET($B$1,0,'Boat Name'!F19),IF('Boat Name'!$C$2=1,OFFSET($B$3,0,'Boat Name'!F19)*100,"")),""),"") | C19: =IF(C$3=1,'1'!$O19,0) -> 86 | D19: =IF(D$3=1,'2'!$O19,0) -> 87 | E19: =IF(E$3=1,'3'!$O19,0) -> 84 | F19: =IF(F$3=1,'4'!$O19,0) -> 0 | G19: =IF(G$3=1,'5'!$O19,0) -> 0 | H19: =IF(H$3=1,'6'!$O19,0) -> 0 | I19: =IF(I$3=1,'7'!$O19,0) -> 83 | J19: =IF(J$3=1,'8'!$O19,0) -> 0 | K19: =IF(K$3=1,'9'!$O19,0) -> 0 | L19: =IF(L$3=1,'10'!$O19,0) -> 0 | M19: =IF(M$3=1,'11'!$O19,0) -> 83 | N19: =IF(N$3=1,'12'!$O19,0) -> 82 | O19: =IF(O$3=1,'13'!$O19,0) -> 80 | P19: =IF(P$3=1,'14'!$O19,0) -> 0 | Q19: =IF(Q$3=1,'15'!$O19,0) -> 80 | R19: =SUM(B19:Q19) -> 665 | S19: =AH19 -> 665 | T19: =RANK(S19,$S$5:$S$34) -> 6 | U19: =RANK(S19,$S$5:$S$74) -> 13 | W19: =LARGE($B19:$Q19,W$4) -> 87 | X19: =LARGE($B19:$Q19,X$4) -> 86 | Y19: =LARGE($B19:$Q19,Y$4) -> 84 | Z19: =LARGE($B19:$Q19,Z$4) -> 83 | AA19: =LARGE($B19:$Q19,AA$4) -> 83 | AB19: =LARGE($B19:$Q19,AB$4) -> 82 | AC19: =LARGE($B19:$Q19,AC$4) -> 80 | AD19: =LARGE($B19:$Q19,AD$4) -> 80 | ... AG19: =LARGE($B19:$Q19,AG$4) -> 0 | AH19: =SUM(W19:OFFSET(W19,0,($AH$4-1))) -> 665
A20: ='Boat Name'!A20 -> Nomade | B20: =IF('Boat Name'!F20>0,IF(OFFSET($B$3,0,'Boat Name'!F20, )=1,IF('Boat Name'!$C$2=0,OFFSET($B$1,0,'Boat Name'!F20),IF('Boat Name'!$C$2=1,OFFSET($B$3,0,'Boat Name'!F20)*100,"")),""),"") | C20: =IF(C$3=1,'1'!$O20,0) -> 0 | D20: =IF(D$3=1,'2'!$O20,0) -> 0 | E20: =IF(E$3=1,'3'!$O20,0) -> 0 | F20: =IF(F$3=1,'4'!$O20,0) -> 0 | G20: =IF(G$3=1,'5'!$O20,0) -> 0 | H20: =IF(H$3=1,'6'!$O20,0) -> 0 | I20: =IF(I$3=1,'7'!$O20,0) -> 0 | J20: =IF(J$3=1,'8'!$O20,0) -> 0 | K20: =IF(K$3=1,'9'!$O20,0) -> 0 | L20: =IF(L$3=1,'10'!$O20,0) -> 0 | M20: =IF(M$3=1,'11'!$O20,0) -> 0 | N20: =IF(N$3=1,'12'!$O20,0) -> 0 | O20: =IF(O$3=1,'13'!$O20,0) -> 0 | P20: =IF(P$3=1,'14'!$O20,0) -> 0 | Q20: =IF(Q$3=1,'15'!$O20,0) -> 0 | R20: =SUM(B20:Q20) -> 0 | S20: =AH20 -> 0 | T20: =RANK(S20,$S$5:$S$34) -> 17 | U20: =RANK(S20,$S$5:$S$74) -> 28 | W20: =LARGE($B20:$Q20,W$4) -> 0 | X20: =LARGE($B20:$Q20,X$4) -> 0 | Y20: =LARGE($B20:$Q20,Y$4) -> 0 | Z20: =LARGE($B20:$Q20,Z$4) -> 0 | AA20: =LARGE($B20:$Q20,AA$4) -> 0 | AB20: =LARGE($B20:$Q20,AB$4) -> 0 | AC20: =LARGE($B20:$Q20,AC$4) -> 0 | AD20: =LARGE($B20:$Q20,AD$4) -> 0 | ... AG20: =LARGE($B20:$Q20,AG$4) -> 0 | AH20: =SUM(W20:OFFSET(W20,0,($AH$4-1))) -> 0
A21: ='Boat Name'!A21 -> Park Place | C21: =IF(C$3=1,'1'!$O21,0) -> 0 | D21: =IF(D$3=1,'2'!$O21,0) -> 0 | E21: =IF(E$3=1,'3'!$O21,0) -> 0 | F21: =IF(F$3=1,'4'!$O21,0) -> 0 | G21: =IF(G$3=1,'5'!$O21,0) -> 0 | H21: =IF(H$3=1,'6'!$O21,0) -> 0 | I21: =IF(I$3=1,'7'!$O21,0) -> 0 | J21: =IF(J$3=1,'8'!$O21,0) -> 94 | K21: =IF(K$3=1,'9'!$O21,0) -> 94 | L21: =IF(L$3=1,'10'!$O21,0) -> 0 | M21: =IF(M$3=1,'11'!$O21,0) -> 97 | N21: =IF(N$3=1,'12'!$O21,0) -> 0 | O21: =IF(O$3=1,'13'!$O21,0) -> 0 | P21: =IF(P$3=1,'14'!$O21,0) -> 97 | Q21: =IF(Q$3=1,'15'!$O21,0) -> 0 | R21: =SUM(B21:Q21) -> 382 | S21: =AH21 -> 382 | T21: =RANK(S21,$S$5:$S$34) -> 10 | U21: =RANK(S21,$S$5:$S$74) -> 19 | W21: =LARGE($B21:$Q21,W$4) -> 97 | X21: =LARGE($B21:$Q21,X$4) -> 97 | Y21: =LARGE($B21:$Q21,Y$4) -> 94 | Z21: =LARGE($B21:$Q21,Z$4) -> 94 | AA21: =LARGE($B21:$Q21,AA$4) -> 0 | AB21: =LARGE($B21:$Q21,AB$4) -> 0 | AC21: =LARGE($B21:$Q21,AC$4) -> 0 | AD21: =LARGE($B21:$Q21,AD$4) -> 0 | ... AG21: =LARGE($B21:$Q21,AG$4) -> 0 | AH21: =SUM(W21:OFFSET(W21,0,($AH$4-1))) -> 382
A22: ='Boat Name'!A22 -> Phoenix | B22: =IF('Boat Name'!F22>0,IF(OFFSET($B$3,0,'Boat Name'!F22, )=1,IF('Boat Name'!$C$2=0,OFFSET($B$1,0,'Boat Name'!F22),IF('Boat Name'!$C$2=1,OFFSET($B$3,0,'Boat Name'!F22)*100,"")),""),"") | C22: =IF(C$3=1,'1'!$O22,0) -> 0 | D22: =IF(D$3=1,'2'!$O22,0) -> 0 | E22: =IF(E$3=1,'3'!$O22,0) -> 0 | F22: =IF(F$3=1,'4'!$O22,0) -> 0 | G22: =IF(G$3=1,'5'!$O22,0) -> 0 | H22: =IF(H$3=1,'6'!$O22,0) -> 0 | I22: =IF(I$3=1,'7'!$O22,0) -> 0 | J22: =IF(J$3=1,'8'!$O22,0) -> 0 | K22: =IF(K$3=1,'9'!$O22,0) -> 0 | L22: =IF(L$3=1,'10'!$O22,0) -> 0 | M22: =IF(M$3=1,'11'!$O22,0) -> 0 | N22: =IF(N$3=1,'12'!$O22,0) -> 0 | O22: =IF(O$3=1,'13'!$O22,0) -> 0 | P22: =IF(P$3=1,'14'!$O22,0) -> 0 | Q22: =IF(Q$3=1,'15'!$O22,0) -> 0 | R22: =SUM(B22:Q22) -> 0 | S22: =AH22 -> 0 | T22: =RANK(S22,$S$5:$S$34) -> 17 | U22: =RANK(S22,$S$5:$S$74) -> 28 | W22: =LARGE($B22:$Q22,W$4) -> 0 | X22: =LARGE($B22:$Q22,X$4) -> 0 | Y22: =LARGE($B22:$Q22,Y$4) -> 0 | Z22: =LARGE($B22:$Q22,Z$4) -> 0 | AA22: =LARGE($B22:$Q22,AA$4) -> 0 | AB22: =LARGE($B22:$Q22,AB$4) -> 0 | AC22: =LARGE($B22:$Q22,AC$4) -> 0 | AD22: =LARGE($B22:$Q22,AD$4) -> 0 | ... AG22: =LARGE($B22:$Q22,AG$4) -> 0 | AH22: =SUM(W22:OFFSET(W22,0,($AH$4-1))) -> 0
A23: ='Boat Name'!A23 -> Restless | C23: =IF(C$3=1,'1'!$O23,0) -> 0 | D23: =IF(D$3=1,'2'!$O23,0) -> 0 | E23: =IF(E$3=1,'3'!$O23,0) -> 0 | F23: =IF(F$3=1,'4'!$O23,0) -> 0 | G23: =IF(G$3=1,'5'!$O23,0) -> 0 | H23: =IF(H$3=1,'6'!$O23,0) -> 0 | I23: =IF(I$3=1,'7'!$O23,0) -> 0 | J23: =IF(J$3=1,'8'!$O23,0) -> 0 | K23: =IF(K$3=1,'9'!$O23,0) -> 0 | L23: =IF(L$3=1,'10'!$O23,0) -> 0 | M23: =IF(M$3=1,'11'!$O23,0) -> 0 | N23: =IF(N$3=1,'12'!$O23,0) -> 0 | O23: =IF(O$3=1,'13'!$O23,0) -> 0 | P23: =IF(P$3=1,'14'!$O23,0) -> 0 | Q23: =IF(Q$3=1,'15'!$O23,0) -> 0 | R23: =SUM(B23:Q23) -> 0 | S23: =AH23 -> 0 | T23: =RANK(S23,$S$5:$S$34) -> 17 | U23: =RANK(S23,$S$5:$S$74) -> 28 | W23: =LARGE($B23:$Q23,W$4) -> 0 | X23: =LARGE($B23:$Q23,X$4) -> 0 | Y23: =LARGE($B23:$Q23,Y$4) -> 0 | Z23: =LARGE($B23:$Q23,Z$4) -> 0 | AA23: =LARGE($B23:$Q23,AA$4) -> 0 | AB23: =LARGE($B23:$Q23,AB$4) -> 0 | AC23: =LARGE($B23:$Q23,AC$4) -> 0 | AD23: =LARGE($B23:$Q23,AD$4) -> 0 | ... AG23: =LARGE($B23:$Q23,AG$4) -> 0 | AH23: =SUM(W23:OFFSET(W23,0,($AH$4-1))) -> 0
A24: ='Boat Name'!A24 -> Sagacious | B24: 100 | C24: =IF(C$3=1,'1'!$O24,0) -> 0 | D24: =IF(D$3=1,'2'!$O24,0) -> 0 | E24: =IF(E$3=1,'3'!$O24,0) -> 0 | F24: =IF(F$3=1,'4'!$O24,0) -> 0 | G24: =IF(G$3=1,'5'!$O24,0) -> 0 | H24: =IF(H$3=1,'6'!$O24,0) -> 0 | I24: =IF(I$3=1,'7'!$O24,0) -> 0 | J24: =IF(J$3=1,'8'!$O24,0) -> 0 | K24: =IF(K$3=1,'9'!$O24,0) -> 0 | L24: =IF(L$3=1,'10'!$O24,0) -> 0 | M24: =IF(M$3=1,'11'!$O24,0) -> 91 | N24: =IF(N$3=1,'12'!$O24,0) -> 86 | O24: =IF(O$3=1,'13'!$O24,0) -> 97 | P24: =IF(P$3=1,'14'!$O24,0) -> 0 | Q24: =IF(Q$3=1,'15'!$O24,0) -> 0 | R24: =SUM(B24:Q24) -> 374 | S24: =AH24 -> 374 | T24: =RANK(S24,$S$5:$S$34) -> 11 | U24: =RANK(S24,$S$5:$S$74) -> 20 | W24: =LARGE($B24:$Q24,W$4) -> 100 | X24: =LARGE($B24:$Q24,X$4) -> 97 | Y24: =LARGE($B24:$Q24,Y$4) -> 91 | Z24: =LARGE($B24:$Q24,Z$4) -> 86 | AA24: =LARGE($B24:$Q24,AA$4) -> 0 | AB24: =LARGE($B24:$Q24,AB$4) -> 0 | AC24: =LARGE($B24:$Q24,AC$4) -> 0 | AD24: =LARGE($B24:$Q24,AD$4) -> 0 | ... AG24: =LARGE($B24:$Q24,AG$4) -> 0 | AH24: =SUM(W24:OFFSET(W24,0,($AH$4-1))) -> 374
A25: ='Boat Name'!A25 -> Silent Lady | B25: =IF('Boat Name'!F25>0,IF(OFFSET($B$3,0,'Boat Name'!F25, )=1,IF('Boat Name'!$C$2=0,OFFSET($B$1,0,'Boat Name'!F25),IF('Boat Name'!$C$2=1,OFFSET($B$3,0,'Boat Name'!F25)*100,"")),""),"") | C25: =IF(C$3=1,'1'!$O25,0) -> 0 | D25: =IF(D$3=1,'2'!$O25,0) -> 0 | E25: =IF(E$3=1,'3'!$O25,0) -> 0 | F25: =IF(F$3=1,'4'!$O25,0) -> 0 | G25: =IF(G$3=1,'5'!$O25,0) -> 0 | H25: =IF(H$3=1,'6'!$O25,0) -> 0 | I25: =IF(I$3=1,'7'!$O25,0) -> 0 | J25: =IF(J$3=1,'8'!$O25,0) -> 0 | K25: =IF(K$3=1,'9'!$O25,0) -> 0 | L25: =IF(L$3=1,'10'!$O25,0) -> 0 | M25: =IF(M$3=1,'11'!$O25,0) -> 0 | N25: =IF(N$3=1,'12'!$O25,0) -> 0 | O25: =IF(O$3=1,'13'!$O25,0) -> 0 | P25: =IF(P$3=1,'14'!$O25,0) -> 0 | Q25: =IF(Q$3=1,'15'!$O25,0) -> 0 | R25: =SUM(B25:Q25) -> 0 | S25: =AH25 -> 0 | T25: =RANK(S25,$S$5:$S$34) -> 17 | U25: =RANK(S25,$S$5:$S$74) -> 28 | W25: =LARGE($B25:$Q25,W$4) -> 0 | X25: =LARGE($B25:$Q25,X$4) -> 0 | Y25: =LARGE($B25:$Q25,Y$4) -> 0 | Z25: =LARGE($B25:$Q25,Z$4) -> 0 | AA25: =LARGE($B25:$Q25,AA$4) -> 0 | AB25: =LARGE($B25:$Q25,AB$4) -> 0 | AC25: =LARGE($B25:$Q25,AC$4) -> 0 | AD25: =LARGE($B25:$Q25,AD$4) -> 0 | ... AG25: =LARGE($B25:$Q25,AG$4) -> 0 | AH25: =SUM(W25:OFFSET(W25,0,($AH$4-1))) -> 0
A26: ='Boat Name'!A26 -> Spindrift | B26: =IF('Boat Name'!F26>0,IF(OFFSET($B$3,0,'Boat Name'!F26, )=1,IF('Boat Name'!$C$2=0,OFFSET($B$1,0,'Boat Name'!F26),IF('Boat Name'!$C$2=1,OFFSET($B$3,0,'Boat Name'!F26)*100,"")),""),"") | C26: =IF(C$3=1,'1'!$O26,0) -> 0 | D26: =IF(D$3=1,'2'!$O26,0) -> 0 | E26: =IF(E$3=1,'3'!$O26,0) -> 0 | F26: =IF(F$3=1,'4'!$O26,0) -> 0 | G26: =IF(G$3=1,'5'!$O26,0) -> 0 | H26: =IF(H$3=1,'6'!$O26,0) -> 0 | I26: =IF(I$3=1,'7'!$O26,0) -> 0 | J26: =IF(J$3=1,'8'!$O26,0) -> 0 | K26: =IF(K$3=1,'9'!$O26,0) -> 0 | L26: =IF(L$3=1,'10'!$O26,0) -> 0 | M26: =IF(M$3=1,'11'!$O26,0) -> 0 | N26: =IF(N$3=1,'12'!$O26,0) -> 0 | O26: =IF(O$3=1,'13'!$O26,0) -> 0 | P26: =IF(P$3=1,'14'!$O26,0) -> 0 | Q26: =IF(Q$3=1,'15'!$O26,0) -> 0 | R26: =SUM(B26:Q26) -> 0 | S26: =AH26 -> 0 | T26: =RANK(S26,$S$5:$S$34) -> 17 | U26: =RANK(S26,$S$5:$S$74) -> 28 | W26: =LARGE($B26:$Q26,W$4) -> 0 | X26: =LARGE($B26:$Q26,X$4) -> 0 | Y26: =LARGE($B26:$Q26,Y$4) -> 0 | Z26: =LARGE($B26:$Q26,Z$4) -> 0 | AA26: =LARGE($B26:$Q26,AA$4) -> 0 | AB26: =LARGE($B26:$Q26,AB$4) -> 0 | AC26: =LARGE($B26:$Q26,AC$4) -> 0 | AD26: =LARGE($B26:$Q26,AD$4) -> 0 | ... AG26: =LARGE($B26:$Q26,AG$4) -> 0 | AH26: =SUM(W26:OFFSET(W26,0,($AH$4-1))) -> 0
A27: ='Boat Name'!A27 -> Towhee | B27: =IF('Boat Name'!F27>0,IF(OFFSET($B$3,0,'Boat Name'!F27, )=1,IF('Boat Name'!$C$2=0,OFFSET($B$1,0,'Boat Name'!F27),IF('Boat Name'!$C$2=1,OFFSET($B$3,0,'Boat Name'!F27)*100,"")),""),"") | C27: =IF(C$3=1,'1'!$O27,0) -> 0 | D27: =IF(D$3=1,'2'!$O27,0) -> 0 | E27: =IF(E$3=1,'3'!$O27,0) -> 0 | F27: =IF(F$3=1,'4'!$O27,0) -> 0 | G27: =IF(G$3=1,'5'!$O27,0) -> 0 | H27: =IF(H$3=1,'6'!$O27,0) -> 0 | I27: =IF(I$3=1,'7'!$O27,0) -> 0 | J27: =IF(J$3=1,'8'!$O27,0) -> 0 | K27: =IF(K$3=1,'9'!$O27,0) -> 0 | L27: =IF(L$3=1,'10'!$O27,0) -> 0 | M27: =IF(M$3=1,'11'!$O27,0) -> 0 | N27: =IF(N$3=1,'12'!$O27,0) -> 0 | O27: =IF(O$3=1,'13'!$O27,0) -> 0 | P27: =IF(P$3=1,'14'!$O27,0) -> 0 | Q27: =IF(Q$3=1,'15'!$O27,0) -> 0 | R27: =SUM(B27:Q27) -> 0 | S27: =AH27 -> 0 | T27: =RANK(S27,$S$5:$S$34) -> 17 | U27: =RANK(S27,$S$5:$S$74) -> 28 | W27: =LARGE($B27:$Q27,W$4) -> 0 | X27: =LARGE($B27:$Q27,X$4) -> 0 | Y27: =LARGE($B27:$Q27,Y$4) -> 0 | Z27: =LARGE($B27:$Q27,Z$4) -> 0 | AA27: =LARGE($B27:$Q27,AA$4) -> 0 | AB27: =LARGE($B27:$Q27,AB$4) -> 0 | AC27: =LARGE($B27:$Q27,AC$4) -> 0 | AD27: =LARGE($B27:$Q27,AD$4) -> 0 | ... AG27: =LARGE($B27:$Q27,AG$4) -> 0 | AH27: =SUM(W27:OFFSET(W27,0,($AH$4-1))) -> 0
A28: ='Boat Name'!A28 -> Tre Scooch | B28: 100 | C28: =IF(C$3=1,'1'!$O28,0) -> 75 | D28: =IF(D$3=1,'2'!$O28,0) -> 77 | E28: =IF(E$3=1,'3'!$O28,0) -> 0 | F28: =IF(F$3=1,'4'!$O28,0) -> 0 | G28: =IF(G$3=1,'5'!$O28,0) -> 72 | H28: =IF(H$3=1,'6'!$O28,0) -> 0 | I28: =IF(I$3=1,'7'!$O28,0) -> 73 | J28: =IF(J$3=1,'8'!$O28,0) -> 0 | K28: =IF(K$3=1,'9'!$O28,0) -> 0 | L28: =IF(L$3=1,'10'!$O28,0) -> 75 | M28: =IF(M$3=1,'11'!$O28,0) -> 71 | N28: =IF(N$3=1,'12'!$O28,0) -> 0 | O28: =IF(O$3=1,'13'!$O28,0) -> 71 | P28: =IF(P$3=1,'14'!$O28,0) -> 73 | Q28: =IF(Q$3=1,'15'!$O28,0) -> 74 | R28: =SUM(B28:Q28) -> 761 | S28: =AH28 -> 690 | T28: =RANK(S28,$S$5:$S$34) -> 3 | U28: =RANK(S28,$S$5:$S$74) -> 10 | W28: =LARGE($B28:$Q28,W$4) -> 100 | X28: =LARGE($B28:$Q28,X$4) -> 77 | Y28: =LARGE($B28:$Q28,Y$4) -> 75 | Z28: =LARGE($B28:$Q28,Z$4) -> 75 | AA28: =LARGE($B28:$Q28,AA$4) -> 74 | AB28: =LARGE($B28:$Q28,AB$4) -> 73 | AC28: =LARGE($B28:$Q28,AC$4) -> 73 | AD28: =LARGE($B28:$Q28,AD$4) -> 72 | ... AG28: =LARGE($B28:$Q28,AG$4) -> 0 | AH28: =SUM(W28:OFFSET(W28,0,($AH$4-1))) -> 690
A29: ='Boat Name'!A29 -> Yonder | B29: =IF('Boat Name'!F29>0,IF(OFFSET($B$3,0,'Boat Name'!F29, )=1,IF('Boat Name'!$C$2=0,OFFSET($B$1,0,'Boat Name'!F29),IF('Boat Name'!$C$2=1,OFFSET($B$3,0,'Boat Name'!F29)*100,"")),""),"") | C29: =IF(C$3=1,'1'!$O29,0) -> 78 | D29: =IF(D$3=1,'2'!$O29,0) -> 81 | E29: =IF(E$3=1,'3'!$O29,0) -> 78 | F29: =IF(F$3=1,'4'!$O29,0) -> 86 | G29: =IF(G$3=1,'5'!$O29,0) -> 84 | H29: =IF(H$3=1,'6'!$O29,0) -> 0 | I29: =IF(I$3=1,'7'!$O29,0) -> 87 | J29: =IF(J$3=1,'8'!$O29,0) -> 72 | K29: =IF(K$3=1,'9'!$O29,0) -> 77 | L29: =IF(L$3=1,'10'!$O29,0) -> 78 | M29: =IF(M$3=1,'11'!$O29,0) -> 87 | N29: =IF(N$3=1,'12'!$O29,0) -> 78 | O29: =IF(O$3=1,'13'!$O29,0) -> 77 | P29: =IF(P$3=1,'14'!$O29,0) -> 80 | Q29: =IF(Q$3=1,'15'!$O29,0) -> 94 | R29: =SUM(B29:Q29) -> 1137 | S29: =AH29 -> 755 | T29: =RANK(S29,$S$5:$S$34) -> 2 | U29: =RANK(S29,$S$5:$S$74) -> 6 | W29: =LARGE($B29:$Q29,W$4) -> 94 | X29: =LARGE($B29:$Q29,X$4) -> 87 | Y29: =LARGE($B29:$Q29,Y$4) -> 87 | Z29: =LARGE($B29:$Q29,Z$4) -> 86 | AA29: =LARGE($B29:$Q29,AA$4) -> 84 | AB29: =LARGE($B29:$Q29,AB$4) -> 81 | AC29: =LARGE($B29:$Q29,AC$4) -> 80 | AD29: =LARGE($B29:$Q29,AD$4) -> 78 | ... AG29: =LARGE($B29:$Q29,AG$4) -> 78 | AH29: =SUM(W29:OFFSET(W29,0,($AH$4-1))) -> 755
A30: ='Boat Name'!A30 -> Glow Boat | B30: 100 | C30: =IF(C$3=1,'1'!$O30,0) -> 0 | D30: =IF(D$3=1,'2'!$O30,0) -> 0 | E30: =IF(E$3=1,'3'!$O30,0) -> 0 | F30: =IF(F$3=1,'4'!$O30,0) -> 75 | G30: =IF(G$3=1,'5'!$O30,0) -> 77 | H30: =IF(H$3=1,'6'!$O30,0) -> 96 | I30: =IF(I$3=1,'7'!$O30,0) -> 77 | J30: =IF(J$3=1,'8'!$O30,0) -> 88 | K30: =IF(K$3=1,'9'!$O30,0) -> 0 | L30: =IF(L$3=1,'10'!$O30,0) -> 0 | M30: =IF(M$3=1,'11'!$O30,0) -> 0 | N30: =IF(N$3=1,'12'!$O30,0) -> 0 | O30: =IF(O$3=1,'13'!$O30,0) -> 91 | P30: =IF(P$3=1,'14'!$O30,0) -> 0 | Q30: =IF(Q$3=1,'15'!$O30,0) -> 72 | R30: =SUM(B30:Q30) -> 676 | S30: =AH30 -> 676 | T30: =RANK(S30,$S$5:$S$34) -> 5 | U30: =RANK(S30,$S$5:$S$74) -> 12 | W30: =LARGE($B30:$Q30,W$4) -> 100 | X30: =LARGE($B30:$Q30,X$4) -> 96 | Y30: =LARGE($B30:$Q30,Y$4) -> 91 | Z30: =LARGE($B30:$Q30,Z$4) -> 88 | AA30: =LARGE($B30:$Q30,AA$4) -> 77 | AB30: =LARGE($B30:$Q30,AB$4) -> 77 | AC30: =LARGE($B30:$Q30,AC$4) -> 75 | AD30: =LARGE($B30:$Q30,AD$4) -> 72 | ... AG30: =LARGE($B30:$Q30,AG$4) -> 0 | AH30: =SUM(W30:OFFSET(W30,0,($AH$4-1))) -> 676
A31: ='Boat Name'!A31 -> Hooligan | B31: =IF('Boat Name'!F31>0,IF(OFFSET($B$3,0,'Boat Name'!F31, )=1,IF('Boat Name'!$C$2=0,OFFSET($B$1,0,'Boat Name'!F31),IF('Boat Name'!$C$2=1,OFFSET($B$3,0,'Boat Name'!F31)*100,"")),""),"") | C31: =IF(C$3=1,'1'!$O31,0) -> 0 | D31: =IF(D$3=1,'2'!$O31,0) -> 0 | E31: =IF(E$3=1,'3'!$O31,0) -> 0 | F31: =IF(F$3=1,'4'!$O31,0) -> 0 | G31: =IF(G$3=1,'5'!$O31,0) -> 0 | H31: =IF(H$3=1,'6'!$O31,0) -> 9 | I31: =IF(I$3=1,'7'!$O31,0) -> 0 | J31: =IF(J$3=1,'8'!$O31,0) -> 0 | K31: =IF(K$3=1,'9'!$O31,0) -> 0 | L31: =IF(L$3=1,'10'!$O31,0) -> 0 | M31: =IF(M$3=1,'11'!$O31,0) -> 0 | N31: =IF(N$3=1,'12'!$O31,0) -> 0 | O31: =IF(O$3=1,'13'!$O31,0) -> 0 | P31: =IF(P$3=1,'14'!$O31,0) -> 0 | Q31: =IF(Q$3=1,'15'!$O31,0) -> 0 | R31: =SUM(B31:Q31) -> 9 | S31: =AH31 -> 9 | T31: =RANK(S31,$S$5:$S$34) -> 16 | U31: =RANK(S31,$S$5:$S$74) -> 27 | W31: =LARGE($B31:$Q31,W$4) -> 9 | X31: =LARGE($B31:$Q31,X$4) -> 0 | Y31: =LARGE($B31:$Q31,Y$4) -> 0 | Z31: =LARGE($B31:$Q31,Z$4) -> 0 | AA31: =LARGE($B31:$Q31,AA$4) -> 0 | AB31: =LARGE($B31:$Q31,AB$4) -> 0 | AC31: =LARGE($B31:$Q31,AC$4) -> 0 | AD31: =LARGE($B31:$Q31,AD$4) -> 0 | ... AG31: =LARGE($B31:$Q31,AG$4) -> 0 | AH31: =SUM(W31:OFFSET(W31,0,($AH$4-1))) -> 9
A32: ='Boat Name'!A32 -> Holiday Routine | B32: =IF('Boat Name'!F32>0,IF(OFFSET($B$3,0,'Boat Name'!F32, )=1,IF('Boat Name'!$C$2=0,OFFSET($B$1,0,'Boat Name'!F32),IF('Boat Name'!$C$2=1,OFFSET($B$3,0,'Boat Name'!F32)*100,"")),""),"") | C32: =IF(C$3=1,'1'!$O32,0) -> 0 | D32: =IF(D$3=1,'2'!$O32,0) -> 0 | E32: =IF(E$3=1,'3'!$O32,0) -> 0 | F32: =IF(F$3=1,'4'!$O32,0) -> 0 | G32: =IF(G$3=1,'5'!$O32,0) -> 0 | H32: =IF(H$3=1,'6'!$O32,0) -> 0 | I32: =IF(I$3=1,'7'!$O32,0) -> 0 | J32: =IF(J$3=1,'8'!$O32,0) -> 0 | K32: =IF(K$3=1,'9'!$O32,0) -> 0 | L32: =IF(L$3=1,'10'!$O32,0) -> 0 | M32: =IF(M$3=1,'11'!$O32,0) -> 0 | N32: =IF(N$3=1,'12'!$O32,0) -> 0 | O32: =IF(O$3=1,'13'!$O32,0) -> 0 | P32: =IF(P$3=1,'14'!$O32,0) -> 0 | Q32: =IF(Q$3=1,'15'!$O32,0) -> 88 | R32: =SUM(B32:Q32) -> 88 | S32: =AH32 -> 88 | T32: =RANK(S32,$S$5:$S$34) -> 14 | U32: =RANK(S32,$S$5:$S$74) -> 25 | W32: =LARGE($B32:$Q32,W$4) -> 88 | X32: =LARGE($B32:$Q32,X$4) -> 0 | Y32: =LARGE($B32:$Q32,Y$4) -> 0 | Z32: =LARGE($B32:$Q32,Z$4) -> 0 | AA32: =LARGE($B32:$Q32,AA$4) -> 0 | AB32: =LARGE($B32:$Q32,AB$4) -> 0 | AC32: =LARGE($B32:$Q32,AC$4) -> 0 | AD32: =LARGE($B32:$Q32,AD$4) -> 0 | ... AG32: =LARGE($B32:$Q32,AG$4) -> 0 | AH32: =SUM(W32:OFFSET(W32,0,($AH$4-1))) -> 88
A33: ='Boat Name'!A33 -> Sonas | B33: =IF('Boat Name'!F33>0,IF(OFFSET($B$3,0,'Boat Name'!F33, )=1,IF('Boat Name'!$C$2=0,OFFSET($B$1,0,'Boat Name'!F33),IF('Boat Name'!$C$2=1,OFFSET($B$3,0,'Boat Name'!F33)*100,"")),""),"") | C33: =IF(C$3=1,'1'!$O33,0) -> 0 | D33: =IF(D$3=1,'2'!$O33,0) -> 0 | E33: =IF(E$3=1,'3'!$O33,0) -> 0 | F33: =IF(F$3=1,'4'!$O33,0) -> 0 | G33: =IF(G$3=1,'5'!$O33,0) -> 0 | H33: =IF(H$3=1,'6'!$O33,0) -> 0 | I33: =IF(I$3=1,'7'!$O33,0) -> 0 | J33: =IF(J$3=1,'8'!$O33,0) -> 0 | K33: =IF(K$3=1,'9'!$O33,0) -> 0 | L33: =IF(L$3=1,'10'!$O33,0) -> 0 | M33: =IF(M$3=1,'11'!$O33,0) -> 0 | N33: =IF(N$3=1,'12'!$O33,0) -> 0 | O33: =IF(O$3=1,'13'!$O33,0) -> 0 | P33: =IF(P$3=1,'14'!$O33,0) -> 0 | Q33: =IF(Q$3=1,'15'!$O33,0) -> 0 | R33: =SUM(B33:Q33) -> 0 | S33: =AH33 -> 0 | T33: =RANK(S33,$S$5:$S$34) -> 17 | U33: =RANK(S33,$S$5:$S$74) -> 28 | W33: =LARGE($B33:$Q33,W$4) -> 0 | X33: =LARGE($B33:$Q33,X$4) -> 0 | Y33: =LARGE($B33:$Q33,Y$4) -> 0 | Z33: =LARGE($B33:$Q33,Z$4) -> 0 | AA33: =LARGE($B33:$Q33,AA$4) -> 0 | AB33: =LARGE($B33:$Q33,AB$4) -> 0 | AC33: =LARGE($B33:$Q33,AC$4) -> 0 | AD33: =LARGE($B33:$Q33,AD$4) -> 0 | ... AG33: =LARGE($B33:$Q33,AG$4) -> 0 | AH33: =SUM(W33:OFFSET(W33,0,($AH$4-1))) -> 0
A34: ='Boat Name'!A34 -> 0 | B34: =IF('Boat Name'!F34>0,IF(OFFSET($B$3,0,'Boat Name'!F34, )=1,IF('Boat Name'!$C$2=0,OFFSET($B$1,0,'Boat Name'!F34),IF('Boat Name'!$C$2=1,OFFSET($B$3,0,'Boat Name'!F34)*100,"")),""),"") | C34: =IF(C$3=1,'1'!$O34,0) -> 0 | D34: =IF(D$3=1,'2'!$O34,0) -> 0 | E34: =IF(E$3=1,'3'!$O34,0) -> 0 | F34: =IF(F$3=1,'4'!$O34,0) -> 0 | G34: =IF(G$3=1,'5'!$O34,0) -> 0 | H34: =IF(H$3=1,'6'!$O34,0) -> 0 | I34: =IF(I$3=1,'7'!$O34,0) -> 0 | J34: =IF(J$3=1,'8'!$O34,0) -> 0 | K34: =IF(K$3=1,'9'!$O34,0) -> 0 | L34: =IF(L$3=1,'10'!$O34,0) -> 0 | M34: =IF(M$3=1,'11'!$O34,0) -> 0 | N34: =IF(N$3=1,'12'!$O34,0) -> 0 | O34: =IF(O$3=1,'13'!$O34,0) -> 0 | P34: =IF(P$3=1,'14'!$O34,0) -> 0 | Q34: =IF(Q$3=1,'15'!$O34,0) -> 0 | R34: =SUM(B34:Q34) -> 0 | S34: =AH34 -> 0 | T34: =RANK(S34,$S$5:$S$34) -> 17 | U34: =RANK(S34,$S$5:$S$74) -> 28 | W34: =LARGE($B34:$Q34,W$4) -> 0 | X34: =LARGE($B34:$Q34,X$4) -> 0 | Y34: =LARGE($B34:$Q34,Y$4) -> 0 | Z34: =LARGE($B34:$Q34,Z$4) -> 0 | AA34: =LARGE($B34:$Q34,AA$4) -> 0 | AB34: =LARGE($B34:$Q34,AB$4) -> 0 | AC34: =LARGE($B34:$Q34,AC$4) -> 0 | AD34: =LARGE($B34:$Q34,AD$4) -> 0 | ... AG34: =LARGE($B34:$Q34,AG$4) -> 0 | AH34: =SUM(W34:OFFSET(W34,0,($AH$4-1))) -> 0
A36: High Score | B36: Wed. | C36: =LARGE(C39:C74,1) -> 94 | D36: =LARGE(D39:D74,1) -> 94 | E36: =LARGE(E39:E74,1) -> 96 | F36: =LARGE(F39:F74,1) -> 94 | G36: =LARGE(G39:G74,1) -> 94 | H36: =LARGE(H39:H74,1) -> 96 | I36: =LARGE(I39:I74,1) -> 92 | J36: =LARGE(J39:J74,1) -> 94 | ... Q36: =LARGE(Q39:Q74,1) -> 96 | AH36: 60% Rule
A37: ='Boat Name'!A36 -> Season 2026 | B37: CB Duty | C37: =C2 -> 46169 | D37: =D2 -> 46176 | E37: =E2 -> 46183 | F37: =F2 -> 46190 | G37: =G2 -> 46197 | H37: =H2 -> 46204 | I37: =I2 -> 46211 | J37: =J2 -> 46218 | ... Q37: =Q2 -> 46267 | R37: Sum | T37: Class | U37: Overall | AH37: # of Races
A38: Boat Name, Racing | B38: Score | C38: R1 | D38: R2 | E38: R3 | F38: R4 | G38: R5 | H38: R6 | I38: R7 | J38: R8 | K38: R9 | L38: R10 | M38: R11 | N38: R12 | O38: R13 | P38: R14 | Q38: R15 | R38: Total | S38: =S4 -> 60% Total | T38: Standing | U38: Standing | W38: 1 | X38: 2 | Y38: 3 | Z38: 4 | AA38: 5 | AB38: 6 | AC38: 7 | AD38: 8 | AE38: 9 | AF38: 10 | AG38: 11 | AH38: =$AH$4 -> 9
A39: ='Boat Name'!A39 -> Alive | B39: 100 | C39: =IF(C$3=1,'1'!$O39,0) -> 77 | D39: =IF(D$3=1,'2'!$O39,0) -> 84 | E39: =IF(E$3=1,'3'!$O39,0) -> 96 | F39: =IF(F$3=1,'4'!$O39,0) -> 80 | G39: =IF(G$3=1,'5'!$O39,0) -> 88 | H39: =IF(H$3=1,'6'!$O39,0) -> 0 | I39: =IF(I$3=1,'7'!$O39,0) -> 75 | J39: =IF(J$3=1,'8'!$O39,0) -> 94 | K39: =IF(K$3=1,'9'!$O39,0) -> 84 | L39: =IF(L$3=1,'10'!$O39,0) -> 90 | M39: =IF(M$3=1,'11'!$O39,0) -> 92 | N39: =IF(N$3=1,'12'!$O39,0) -> 75 | O39: =IF(O$3=1,'13'!$O39,0) -> 75 | P39: =IF(P$3=1,'14'!$O39,0) -> 81 | Q39: =IF(Q$3=1,'15'!$O39,0) -> 0 | R39: =SUM(B39:Q39) -> 1191 | S39: =AH39 -> 809 | T39: =RANK(S39,$S$39:$S$74) -> 2 | U39: =RANK(S39,$S$5:$S$74) -> 2 | W39: =LARGE($B39:$Q39,W$4) -> 100 | X39: =LARGE($B39:$Q39,X$4) -> 96 | Y39: =LARGE($B39:$Q39,Y$4) -> 94 | Z39: =LARGE($B39:$Q39,Z$4) -> 92 | AA39: =LARGE($B39:$Q39,AA$4) -> 90 | AB39: =LARGE($B39:$Q39,AB$4) -> 88 | AC39: =LARGE($B39:$Q39,AC$4) -> 84 | AD39: =LARGE($B39:$Q39,AD$4) -> 84 | ... AG39: =LARGE($B39:$Q39,AG$4) -> 77 | AH39: =SUM(W39:OFFSET(W39,0,($AH$4-1))) -> 809
A40: ='Boat Name'!A40 -> Dilemma | B40: 100 | C40: =IF(C$3=1,'1'!$O40,0) -> 74 | D40: =IF(D$3=1,'2'!$O40,0) -> 0 | E40: =IF(E$3=1,'3'!$O40,0) -> 86 | F40: =IF(F$3=1,'4'!$O40,0) -> 72 | G40: =IF(G$3=1,'5'!$O40,0) -> 74 | H40: =IF(H$3=1,'6'!$O40,0) -> 86 | I40: =IF(I$3=1,'7'!$O40,0) -> 82 | J40: =IF(J$3=1,'8'!$O40,0) -> 72 | K40: =IF(K$3=1,'9'!$O40,0) -> 88 | L40: =IF(L$3=1,'10'!$O40,0) -> 75 | M40: =IF(M$3=1,'11'!$O40,0) -> 75 | N40: =IF(N$3=1,'12'!$O40,0) -> 91 | O40: =IF(O$3=1,'13'!$O40,0) -> 86 | P40: =IF(P$3=1,'14'!$O40,0) -> 87 | Q40: =IF(Q$3=1,'15'!$O40,0) -> 72 | R40: =SUM(B40:Q40) -> 1220 | S40: =AH40 -> 781 | T40: =RANK(S40,$S$39:$S$74) -> 4 | U40: =RANK(S40,$S$5:$S$74) -> 5 | W40: =LARGE($B40:$Q40,W$4) -> 100 | X40: =LARGE($B40:$Q40,X$4) -> 91 | Y40: =LARGE($B40:$Q40,Y$4) -> 88 | Z40: =LARGE($B40:$Q40,Z$4) -> 87 | AA40: =LARGE($B40:$Q40,AA$4) -> 86 | AB40: =LARGE($B40:$Q40,AB$4) -> 86 | AC40: =LARGE($B40:$Q40,AC$4) -> 86 | AD40: =LARGE($B40:$Q40,AD$4) -> 82 | ... AG40: =LARGE($B40:$Q40,AG$4) -> 74 | AH40: =SUM(W40:OFFSET(W40,0,($AH$4-1))) -> 781
A41: ='Boat Name'!A41 -> Doubledown - Sail Last | B41: =IF('Boat Name'!F41>0,IF(OFFSET($B$3,0,'Boat Name'!F41, )=1,IF('Boat Name'!$C$2=0,OFFSET($B$36,0,'Boat Name'!F41),IF('Boat Name'!$C$2=1,OFFSET($B$3,0,'Boat Name'!F41)*100,"")),""),"") | C41: =IF(C$3=1,'1'!$O41,0) -> 0 | D41: =IF(D$3=1,'2'!$O41,0) -> 0 | E41: =IF(E$3=1,'3'!$O41,0) -> 0 | F41: =IF(F$3=1,'4'!$O41,0) -> 0 | G41: =IF(G$3=1,'5'!$O41,0) -> 0 | H41: =IF(H$3=1,'6'!$O41,0) -> 0 | I41: =IF(I$3=1,'7'!$O41,0) -> 0 | J41: =IF(J$3=1,'8'!$O41,0) -> 0 | K41: =IF(K$3=1,'9'!$O41,0) -> 0 | L41: =IF(L$3=1,'10'!$O41,0) -> 0 | M41: =IF(M$3=1,'11'!$O41,0) -> 0 | N41: =IF(N$3=1,'12'!$O41,0) -> 0 | O41: =IF(O$3=1,'13'!$O41,0) -> 0 | P41: =IF(P$3=1,'14'!$O41,0) -> 0 | Q41: =IF(Q$3=1,'15'!$O41,0) -> 0 | R41: =SUM(B41:Q41) -> 0 | S41: =AH41 -> 0 | T41: =RANK(S41,$S$39:$S$74) -> 12 | U41: =RANK(S41,$S$5:$S$74) -> 28 | W41: =LARGE($B41:$Q41,W$4) -> 0 | X41: =LARGE($B41:$Q41,X$4) -> 0 | Y41: =LARGE($B41:$Q41,Y$4) -> 0 | Z41: =LARGE($B41:$Q41,Z$4) -> 0 | AA41: =LARGE($B41:$Q41,AA$4) -> 0 | AB41: =LARGE($B41:$Q41,AB$4) -> 0 | AC41: =LARGE($B41:$Q41,AC$4) -> 0 | AD41: =LARGE($B41:$Q41,AD$4) -> 0 | ... AG41: =LARGE($B41:$Q41,AG$4) -> 0 | AH41: =SUM(W41:OFFSET(W41,0,($AH$4-1))) -> 0
A42: ='Boat Name'!A42 -> Dulcinea | B42: =IF('Boat Name'!F42>0,IF(OFFSET($B$3,0,'Boat Name'!F42, )=1,IF('Boat Name'!$C$2=0,OFFSET($B$36,0,'Boat Name'!F42),IF('Boat Name'!$C$2=1,OFFSET($B$3,0,'Boat Name'!F42)*100,"")),""),"") -> 100 | C42: =IF(C$3=1,'1'!$O42,0) -> 80 | D42: =IF(D$3=1,'2'!$O42,0) -> 74 | E42: =IF(E$3=1,'3'!$O42,0) -> 0 | F42: =IF(F$3=1,'4'!$O42,0) -> 0 | G42: =IF(G$3=1,'5'!$O42,0) -> 0 | H42: =IF(H$3=1,'6'!$O42,0) -> 0 | I42: =IF(I$3=1,'7'!$O42,0) -> 72 | J42: =IF(J$3=1,'8'!$O42,0) -> 74 | K42: =IF(K$3=1,'9'!$O42,0) -> 0 | L42: =IF(L$3=1,'10'!$O42,0) -> 0 | M42: =IF(M$3=1,'11'!$O42,0) -> 78 | N42: =IF(N$3=1,'12'!$O42,0) -> 80 | O42: =IF(O$3=1,'13'!$O42,0) -> 82 | P42: =IF(P$3=1,'14'!$O42,0) -> 0 | Q42: =IF(Q$3=1,'15'!$O42,0) -> 74 | R42: =SUM(B42:Q42) -> 714 | S42: =AH42 -> 714 | T42: =RANK(S42,$S$39:$S$74) -> 7 | U42: =RANK(S42,$S$5:$S$74) -> 9 | W42: =LARGE($B42:$Q42,W$4) -> 100 | X42: =LARGE($B42:$Q42,X$4) -> 82 | Y42: =LARGE($B42:$Q42,Y$4) -> 80 | Z42: =LARGE($B42:$Q42,Z$4) -> 80 | AA42: =LARGE($B42:$Q42,AA$4) -> 78 | AB42: =LARGE($B42:$Q42,AB$4) -> 74 | AC42: =LARGE($B42:$Q42,AC$4) -> 74 | AD42: =LARGE($B42:$Q42,AD$4) -> 74 | ... AG42: =LARGE($B42:$Q42,AG$4) -> 0 | AH42: =SUM(W42:OFFSET(W42,0,($AH$4-1))) -> 714
A43: ='Boat Name'!A43 -> Eclipse | C43: =IF(C$3=1,'1'!$O43,0) -> 0 | D43: =IF(D$3=1,'2'!$O43,0) -> 0 | E43: =IF(E$3=1,'3'!$O43,0) -> 0 | F43: =IF(F$3=1,'4'!$O43,0) -> 0 | G43: =IF(G$3=1,'5'!$O43,0) -> 0 | H43: =IF(H$3=1,'6'!$O43,0) -> 0 | I43: =IF(I$3=1,'7'!$O43,0) -> 0 | J43: =IF(J$3=1,'8'!$O43,0) -> 0 | K43: =IF(K$3=1,'9'!$O43,0) -> 0 | L43: =IF(L$3=1,'10'!$O43,0) -> 0 | M43: =IF(M$3=1,'11'!$O43,0) -> 0 | N43: =IF(N$3=1,'12'!$O43,0) -> 0 | O43: =IF(O$3=1,'13'!$O43,0) -> 0 | P43: =IF(P$3=1,'14'!$O43,0) -> 0 | Q43: =IF(Q$3=1,'15'!$O43,0) -> 0 | R43: =SUM(B43:Q43) -> 0 | S43: =AH43 -> 0 | T43: =RANK(S43,$S$39:$S$74) -> 12 | U43: =RANK(S43,$S$5:$S$74) -> 28 | W43: =LARGE($B43:$Q43,W$4) -> 0 | X43: =LARGE($B43:$Q43,X$4) -> 0 | Y43: =LARGE($B43:$Q43,Y$4) -> 0 | Z43: =LARGE($B43:$Q43,Z$4) -> 0 | AA43: =LARGE($B43:$Q43,AA$4) -> 0 | AB43: =LARGE($B43:$Q43,AB$4) -> 0 | AC43: =LARGE($B43:$Q43,AC$4) -> 0 | AD43: =LARGE($B43:$Q43,AD$4) -> 0 | ... AG43: =LARGE($B43:$Q43,AG$4) -> 0 | AH43: =SUM(W43:OFFSET(W43,0,($AH$4-1))) -> 0
A44: ='Boat Name'!A44 -> Gardian J | B44: =IF('Boat Name'!F44>0,IF(OFFSET($B$3,0,'Boat Name'!F44, )=1,IF('Boat Name'!$C$2=0,OFFSET($B$36,0,'Boat Name'!F44),IF('Boat Name'!$C$2=1,OFFSET($B$3,0,'Boat Name'!F44)*100,"")),""),"") | C44: =IF(C$3=1,'1'!$O44,0) -> 0 | D44: =IF(D$3=1,'2'!$O44,0) -> 0 | E44: =IF(E$3=1,'3'!$O44,0) -> 0 | F44: =IF(F$3=1,'4'!$O44,0) -> 0 | G44: =IF(G$3=1,'5'!$O44,0) -> 0 | H44: =IF(H$3=1,'6'!$O44,0) -> 0 | I44: =IF(I$3=1,'7'!$O44,0) -> 0 | J44: =IF(J$3=1,'8'!$O44,0) -> 0 | K44: =IF(K$3=1,'9'!$O44,0) -> 0 | L44: =IF(L$3=1,'10'!$O44,0) -> 0 | M44: =IF(M$3=1,'11'!$O44,0) -> 0 | N44: =IF(N$3=1,'12'!$O44,0) -> 0 | O44: =IF(O$3=1,'13'!$O44,0) -> 0 | P44: =IF(P$3=1,'14'!$O44,0) -> 0 | Q44: =IF(Q$3=1,'15'!$O44,0) -> 0 | R44: =SUM(B44:Q44) -> 0 | S44: =AH44 -> 0 | T44: =RANK(S44,$S$39:$S$74) -> 12 | U44: =RANK(S44,$S$5:$S$74) -> 28 | W44: =LARGE($B44:$Q44,W$4) -> 0 | X44: =LARGE($B44:$Q44,X$4) -> 0 | Y44: =LARGE($B44:$Q44,Y$4) -> 0 | Z44: =LARGE($B44:$Q44,Z$4) -> 0 | AA44: =LARGE($B44:$Q44,AA$4) -> 0 | AB44: =LARGE($B44:$Q44,AB$4) -> 0 | AC44: =LARGE($B44:$Q44,AC$4) -> 0 | AD44: =LARGE($B44:$Q44,AD$4) -> 0 | ... AG44: =LARGE($B44:$Q44,AG$4) -> 0 | AH44: =SUM(W44:OFFSET(W44,0,($AH$4-1))) -> 0
A45: ='Boat Name'!A45 -> Invicta | B45: =IF('Boat Name'!F45>0,IF(OFFSET($B$3,0,'Boat Name'!F45, )=1,IF('Boat Name'!$C$2=0,OFFSET($B$36,0,'Boat Name'!F45),IF('Boat Name'!$C$2=1,OFFSET($B$3,0,'Boat Name'!F45)*100,"")),""),"") | C45: =IF(C$3=1,'1'!$O45,0) -> 0 | D45: =IF(D$3=1,'2'!$O45,0) -> 0 | E45: =IF(E$3=1,'3'!$O45,0) -> 0 | F45: =IF(F$3=1,'4'!$O45,0) -> 0 | G45: =IF(G$3=1,'5'!$O45,0) -> 0 | H45: =IF(H$3=1,'6'!$O45,0) -> 0 | I45: =IF(I$3=1,'7'!$O45,0) -> 0 | J45: =IF(J$3=1,'8'!$O45,0) -> 0 | K45: =IF(K$3=1,'9'!$O45,0) -> 0 | L45: =IF(L$3=1,'10'!$O45,0) -> 0 | M45: =IF(M$3=1,'11'!$O45,0) -> 0 | N45: =IF(N$3=1,'12'!$O45,0) -> 0 | O45: =IF(O$3=1,'13'!$O45,0) -> 0 | P45: =IF(P$3=1,'14'!$O45,0) -> 0 | Q45: =IF(Q$3=1,'15'!$O45,0) -> 0 | R45: =SUM(B45:Q45) -> 0 | S45: =AH45 -> 0 | T45: =RANK(S45,$S$39:$S$74) -> 12 | U45: =RANK(S45,$S$5:$S$74) -> 28 | W45: =LARGE($B45:$Q45,W$4) -> 0 | X45: =LARGE($B45:$Q45,X$4) -> 0 | Y45: =LARGE($B45:$Q45,Y$4) -> 0 | Z45: =LARGE($B45:$Q45,Z$4) -> 0 | AA45: =LARGE($B45:$Q45,AA$4) -> 0 | AB45: =LARGE($B45:$Q45,AB$4) -> 0 | AC45: =LARGE($B45:$Q45,AC$4) -> 0 | AD45: =LARGE($B45:$Q45,AD$4) -> 0 | ... AG45: =LARGE($B45:$Q45,AG$4) -> 0 | AH45: =SUM(W45:OFFSET(W45,0,($AH$4-1))) -> 0
A46: ='Boat Name'!A46 -> Jesse Leigh | B46: 100 | C46: =IF(C$3=1,'1'!$O46,0) -> 0 | D46: =IF(D$3=1,'2'!$O46,0) -> 80 | E46: =IF(E$3=1,'3'!$O46,0) -> 82 | F46: =IF(F$3=1,'4'!$O46,0) -> 84 | G46: =IF(G$3=1,'5'!$O46,0) -> 80 | H46: =IF(H$3=1,'6'!$O46,0) -> 0 | I46: =IF(I$3=1,'7'!$O46,0) -> 0 | J46: =IF(J$3=1,'8'!$O46,0) -> 0 | K46: =IF(K$3=1,'9'!$O46,0) -> 0 | L46: =IF(L$3=1,'10'!$O46,0) -> 0 | M46: =IF(M$3=1,'11'!$O46,0) -> 0 | N46: =IF(N$3=1,'12'!$O46,0) -> 73 | O46: =IF(O$3=1,'13'!$O46,0) -> 0 | P46: =IF(P$3=1,'14'!$O46,0) -> 0 | Q46: =IF(Q$3=1,'15'!$O46,0) -> 86 | R46: =SUM(B46:Q46) -> 585 | S46: =AH46 -> 585 | T46: =RANK(S46,$S$39:$S$74) -> 8 | U46: =RANK(S46,$S$5:$S$74) -> 15 | W46: =LARGE($B46:$Q46,W$4) -> 100 | X46: =LARGE($B46:$Q46,X$4) -> 86 | Y46: =LARGE($B46:$Q46,Y$4) -> 84 | Z46: =LARGE($B46:$Q46,Z$4) -> 82 | AA46: =LARGE($B46:$Q46,AA$4) -> 80 | AB46: =LARGE($B46:$Q46,AB$4) -> 80 | AC46: =LARGE($B46:$Q46,AC$4) -> 73 | AD46: =LARGE($B46:$Q46,AD$4) -> 0 | ... AG46: =LARGE($B46:$Q46,AG$4) -> 0 | AH46: =SUM(W46:OFFSET(W46,0,($AH$4-1))) -> 585
A47: ='Boat Name'!A47 -> Kestrel | B47: 100 | C47: =IF(C$3=1,'1'!$O47,0) -> 0 | D47: =IF(D$3=1,'2'!$O47,0) -> 77 | E47: =IF(E$3=1,'3'!$O47,0) -> 79 | F47: =IF(F$3=1,'4'!$O47,0) -> 77 | G47: =IF(G$3=1,'5'!$O47,0) -> 84 | H47: =IF(H$3=1,'6'!$O47,0) -> 0 | I47: =IF(I$3=1,'7'!$O47,0) -> 78 | J47: =IF(J$3=1,'8'!$O47,0) -> 77 | K47: =IF(K$3=1,'9'!$O47,0) -> 74 | L47: =IF(L$3=1,'10'!$O47,0) -> 0 | M47: =IF(M$3=1,'11'!$O47,0) -> 72 | N47: =IF(N$3=1,'12'!$O47,0) -> 87 | O47: =IF(O$3=1,'13'!$O47,0) -> 72 | P47: =IF(P$3=1,'14'!$O47,0) -> 73 | Q47: =IF(Q$3=1,'15'!$O47,0) -> 76 | R47: =SUM(B47:Q47) -> 1026 | S47: =AH47 -> 735 | T47: =RANK(S47,$S$39:$S$74) -> 6 | U47: =RANK(S47,$S$5:$S$74) -> 8 | W47: =LARGE($B47:$Q47,W$4) -> 100 | X47: =LARGE($B47:$Q47,X$4) -> 87 | Y47: =LARGE($B47:$Q47,Y$4) -> 84 | Z47: =LARGE($B47:$Q47,Z$4) -> 79 | AA47: =LARGE($B47:$Q47,AA$4) -> 78 | AB47: =LARGE($B47:$Q47,AB$4) -> 77 | AC47: =LARGE($B47:$Q47,AC$4) -> 77 | AD47: =LARGE($B47:$Q47,AD$4) -> 77 | ... AG47: =LARGE($B47:$Q47,AG$4) -> 73 | AH47: =SUM(W47:OFFSET(W47,0,($AH$4-1))) -> 735
A48: ='Boat Name'!A48 -> Madcap | C48: =IF(C$3=1,'1'!$O48,0) -> 0 | D48: =IF(D$3=1,'2'!$O48,0) -> 0 | E48: =IF(E$3=1,'3'!$O48,0) -> 0 | F48: =IF(F$3=1,'4'!$O48,0) -> 0 | G48: =IF(G$3=1,'5'!$O48,0) -> 0 | H48: =IF(H$3=1,'6'!$O48,0) -> 0 | I48: =IF(I$3=1,'7'!$O48,0) -> 0 | J48: =IF(J$3=1,'8'!$O48,0) -> 0 | K48: =IF(K$3=1,'9'!$O48,0) -> 0 | L48: =IF(L$3=1,'10'!$O48,0) -> 0 | M48: =IF(M$3=1,'11'!$O48,0) -> 0 | N48: =IF(N$3=1,'12'!$O48,0) -> 0 | O48: =IF(O$3=1,'13'!$O48,0) -> 0 | P48: =IF(P$3=1,'14'!$O48,0) -> 0 | Q48: =IF(Q$3=1,'15'!$O48,0) -> 0 | R48: =SUM(B48:Q48) -> 0 | S48: =AH48 -> 0 | T48: =RANK(S48,$S$39:$S$74) -> 12 | U48: =RANK(S48,$S$5:$S$74) -> 28 | W48: =LARGE($B48:$Q48,W$4) -> 0 | X48: =LARGE($B48:$Q48,X$4) -> 0 | Y48: =LARGE($B48:$Q48,Y$4) -> 0 | Z48: =LARGE($B48:$Q48,Z$4) -> 0 | AA48: =LARGE($B48:$Q48,AA$4) -> 0 | AB48: =LARGE($B48:$Q48,AB$4) -> 0 | AC48: =LARGE($B48:$Q48,AC$4) -> 0 | AD48: =LARGE($B48:$Q48,AD$4) -> 0 | ... AG48: =LARGE($B48:$Q48,AG$4) -> 0 | AH48: =SUM(W48:OFFSET(W48,0,($AH$4-1))) -> 0
A49: ='Boat Name'!A49 -> Mademoiselle | B49: =IF('Boat Name'!F49>0,IF(OFFSET($B$3,0,'Boat Name'!F49, )=1,IF('Boat Name'!$C$2=0,OFFSET($B$36,0,'Boat Name'!F49),IF('Boat Name'!$C$2=1,OFFSET($B$3,0,'Boat Name'!F49)*100,"")),""),"") | C49: =IF(C$3=1,'1'!$O49,0) -> 0 | D49: =IF(D$3=1,'2'!$O49,0) -> 0 | E49: =IF(E$3=1,'3'!$O49,0) -> 0 | F49: =IF(F$3=1,'4'!$O49,0) -> 0 | G49: =IF(G$3=1,'5'!$O49,0) -> 0 | H49: =IF(H$3=1,'6'!$O49,0) -> 0 | I49: =IF(I$3=1,'7'!$O49,0) -> 0 | J49: =IF(J$3=1,'8'!$O49,0) -> 0 | K49: =IF(K$3=1,'9'!$O49,0) -> 0 | L49: =IF(L$3=1,'10'!$O49,0) -> 0 | M49: =IF(M$3=1,'11'!$O49,0) -> 0 | N49: =IF(N$3=1,'12'!$O49,0) -> 0 | O49: =IF(O$3=1,'13'!$O49,0) -> 0 | P49: =IF(P$3=1,'14'!$O49,0) -> 0 | Q49: =IF(Q$3=1,'15'!$O49,0) -> 0 | R49: =SUM(B49:Q49) -> 0 | S49: =AH49 -> 0 | T49: =RANK(S49,$S$39:$S$74) -> 12 | U49: =RANK(S49,$S$5:$S$74) -> 28 | W49: =LARGE($B49:$Q49,W$4) -> 0 | X49: =LARGE($B49:$Q49,X$4) -> 0 | Y49: =LARGE($B49:$Q49,Y$4) -> 0 | Z49: =LARGE($B49:$Q49,Z$4) -> 0 | AA49: =LARGE($B49:$Q49,AA$4) -> 0 | AB49: =LARGE($B49:$Q49,AB$4) -> 0 | AC49: =LARGE($B49:$Q49,AC$4) -> 0 | AD49: =LARGE($B49:$Q49,AD$4) -> 0 | ... AG49: =LARGE($B49:$Q49,AG$4) -> 0 | AH49: =SUM(W49:OFFSET(W49,0,($AH$4-1))) -> 0
A50: ='Boat Name'!A50 -> Magan | B50: =IF('Boat Name'!F50>0,IF(OFFSET($B$3,0,'Boat Name'!F50, )=1,IF('Boat Name'!$C$2=0,OFFSET($B$36,0,'Boat Name'!F50),IF('Boat Name'!$C$2=1,OFFSET($B$3,0,'Boat Name'!F50)*100,"")),""),"") | C50: =IF(C$3=1,'1'!$O50,0) -> 0 | D50: =IF(D$3=1,'2'!$O50,0) -> 0 | E50: =IF(E$3=1,'3'!$O50,0) -> 0 | F50: =IF(F$3=1,'4'!$O50,0) -> 0 | G50: =IF(G$3=1,'5'!$O50,0) -> 0 | H50: =IF(H$3=1,'6'!$O50,0) -> 0 | I50: =IF(I$3=1,'7'!$O50,0) -> 0 | J50: =IF(J$3=1,'8'!$O50,0) -> 0 | K50: =IF(K$3=1,'9'!$O50,0) -> 0 | L50: =IF(L$3=1,'10'!$O50,0) -> 0 | M50: =IF(M$3=1,'11'!$O50,0) -> 0 | N50: =IF(N$3=1,'12'!$O50,0) -> 0 | O50: =IF(O$3=1,'13'!$O50,0) -> 0 | P50: =IF(P$3=1,'14'!$O50,0) -> 0 | Q50: =IF(Q$3=1,'15'!$O50,0) -> 0 | R50: =SUM(B50:Q50) -> 0 | S50: =AH50 -> 0 | T50: =RANK(S50,$S$39:$S$74) -> 12 | U50: =RANK(S50,$S$5:$S$74) -> 28 | W50: =LARGE($B50:$Q50,W$4) -> 0 | X50: =LARGE($B50:$Q50,X$4) -> 0 | Y50: =LARGE($B50:$Q50,Y$4) -> 0 | Z50: =LARGE($B50:$Q50,Z$4) -> 0 | AA50: =LARGE($B50:$Q50,AA$4) -> 0 | AB50: =LARGE($B50:$Q50,AB$4) -> 0 | AC50: =LARGE($B50:$Q50,AC$4) -> 0 | AD50: =LARGE($B50:$Q50,AD$4) -> 0 | ... AG50: =LARGE($B50:$Q50,AG$4) -> 0 | AH50: =SUM(W50:OFFSET(W50,0,($AH$4-1))) -> 0
A51: ='Boat Name'!A51 -> Mara | B51: =IF('Boat Name'!F51>0,IF(OFFSET($B$3,0,'Boat Name'!F51, )=1,IF('Boat Name'!$C$2=0,OFFSET($B$36,0,'Boat Name'!F51),IF('Boat Name'!$C$2=1,OFFSET($B$3,0,'Boat Name'!F51)*100,"")),""),"") | C51: =IF(C$3=1,'1'!$O51,0) -> 0 | D51: =IF(D$3=1,'2'!$O51,0) -> 0 | E51: =IF(E$3=1,'3'!$O51,0) -> 0 | F51: =IF(F$3=1,'4'!$O51,0) -> 0 | G51: =IF(G$3=1,'5'!$O51,0) -> 0 | H51: =IF(H$3=1,'6'!$O51,0) -> 0 | I51: =IF(I$3=1,'7'!$O51,0) -> 0 | J51: =IF(J$3=1,'8'!$O51,0) -> 0 | K51: =IF(K$3=1,'9'!$O51,0) -> 0 | L51: =IF(L$3=1,'10'!$O51,0) -> 0 | M51: =IF(M$3=1,'11'!$O51,0) -> 0 | N51: =IF(N$3=1,'12'!$O51,0) -> 0 | O51: =IF(O$3=1,'13'!$O51,0) -> 0 | P51: =IF(P$3=1,'14'!$O51,0) -> 0 | Q51: =IF(Q$3=1,'15'!$O51,0) -> 0 | R51: =SUM(B51:Q51) -> 0 | S51: =AH51 -> 0 | T51: =RANK(S51,$S$39:$S$74) -> 12 | U51: =RANK(S51,$S$5:$S$74) -> 28 | W51: =LARGE($B51:$Q51,W$4) -> 0 | X51: =LARGE($B51:$Q51,X$4) -> 0 | Y51: =LARGE($B51:$Q51,Y$4) -> 0 | Z51: =LARGE($B51:$Q51,Z$4) -> 0 | AA51: =LARGE($B51:$Q51,AA$4) -> 0 | AB51: =LARGE($B51:$Q51,AB$4) -> 0 | AC51: =LARGE($B51:$Q51,AC$4) -> 0 | AD51: =LARGE($B51:$Q51,AD$4) -> 0 | ... AG51: =LARGE($B51:$Q51,AG$4) -> 0 | AH51: =SUM(W51:OFFSET(W51,0,($AH$4-1))) -> 0
A52: ='Boat Name'!A52 -> Meltemi | B52: =IF('Boat Name'!F52>0,IF(OFFSET($B$3,0,'Boat Name'!F52, )=1,IF('Boat Name'!$C$2=0,OFFSET($B$36,0,'Boat Name'!F52),IF('Boat Name'!$C$2=1,OFFSET($B$3,0,'Boat Name'!F52)*100,"")),""),"") | C52: =IF(C$3=1,'1'!$O52,0) -> 0 | D52: =IF(D$3=1,'2'!$O52,0) -> 0 | E52: =IF(E$3=1,'3'!$O52,0) -> 0 | F52: =IF(F$3=1,'4'!$O52,0) -> 0 | G52: =IF(G$3=1,'5'!$O52,0) -> 0 | H52: =IF(H$3=1,'6'!$O52,0) -> 0 | I52: =IF(I$3=1,'7'!$O52,0) -> 0 | J52: =IF(J$3=1,'8'!$O52,0) -> 0 | K52: =IF(K$3=1,'9'!$O52,0) -> 0 | L52: =IF(L$3=1,'10'!$O52,0) -> 0 | M52: =IF(M$3=1,'11'!$O52,0) -> 0 | N52: =IF(N$3=1,'12'!$O52,0) -> 0 | O52: =IF(O$3=1,'13'!$O52,0) -> 0 | P52: =IF(P$3=1,'14'!$O52,0) -> 0 | Q52: =IF(Q$3=1,'15'!$O52,0) -> 0 | R52: =SUM(B52:Q52) -> 0 | S52: =AH52 -> 0 | T52: =RANK(S52,$S$39:$S$74) -> 12 | U52: =RANK(S52,$S$5:$S$74) -> 28 | W52: =LARGE($B52:$Q52,W$4) -> 0 | X52: =LARGE($B52:$Q52,X$4) -> 0 | Y52: =LARGE($B52:$Q52,Y$4) -> 0 | Z52: =LARGE($B52:$Q52,Z$4) -> 0 | AA52: =LARGE($B52:$Q52,AA$4) -> 0 | AB52: =LARGE($B52:$Q52,AB$4) -> 0 | AC52: =LARGE($B52:$Q52,AC$4) -> 0 | AD52: =LARGE($B52:$Q52,AD$4) -> 0 | ... AG52: =LARGE($B52:$Q52,AG$4) -> 0 | AH52: =SUM(W52:OFFSET(W52,0,($AH$4-1))) -> 0
A53: ='Boat Name'!A53 -> Pachyderm | B53: =IF('Boat Name'!F53>0,IF(OFFSET($B$3,0,'Boat Name'!F53, )=1,IF('Boat Name'!$C$2=0,OFFSET($B$36,0,'Boat Name'!F53),IF('Boat Name'!$C$2=1,OFFSET($B$3,0,'Boat Name'!F53)*100,"")),""),"") | C53: =IF(C$3=1,'1'!$O53,0) -> 94 | D53: =IF(D$3=1,'2'!$O53,0) -> 88 | E53: =IF(E$3=1,'3'!$O53,0) -> 76 | F53: =IF(F$3=1,'4'!$O53,0) -> 94 | G53: =IF(G$3=1,'5'!$O53,0) -> 0 | H53: =IF(H$3=1,'6'!$O53,0) -> 0 | I53: =IF(I$3=1,'7'!$O53,0) -> 86 | J53: =IF(J$3=1,'8'!$O53,0) -> 84 | K53: =IF(K$3=1,'9'!$O53,0) -> 94 | L53: =IF(L$3=1,'10'!$O53,0) -> 84 | M53: =IF(M$3=1,'11'!$O53,0) -> 0 | N53: =IF(N$3=1,'12'!$O53,0) -> 83 | O53: =IF(O$3=1,'13'!$O53,0) -> 78 | P53: =IF(P$3=1,'14'!$O53,0) -> 0 | Q53: =IF(Q$3=1,'15'!$O53,0) -> 96 | R53: =SUM(B53:Q53) -> 957 | S53: =AH53 -> 803 | T53: =RANK(S53,$S$39:$S$74) -> 3 | U53: =RANK(S53,$S$5:$S$74) -> 3 | W53: =LARGE($B53:$Q53,W$4) -> 96 | X53: =LARGE($B53:$Q53,X$4) -> 94 | Y53: =LARGE($B53:$Q53,Y$4) -> 94 | Z53: =LARGE($B53:$Q53,Z$4) -> 94 | AA53: =LARGE($B53:$Q53,AA$4) -> 88 | AB53: =LARGE($B53:$Q53,AB$4) -> 86 | AC53: =LARGE($B53:$Q53,AC$4) -> 84 | AD53: =LARGE($B53:$Q53,AD$4) -> 84 | ... AG53: =LARGE($B53:$Q53,AG$4) -> 76 | AH53: =SUM(W53:OFFSET(W53,0,($AH$4-1))) -> 803
A54: ='Boat Name'!A54 -> Park Place | B54: =IF('Boat Name'!F54>0,IF(OFFSET($B$3,0,'Boat Name'!F54, )=1,IF('Boat Name'!$C$2=0,OFFSET($B$36,0,'Boat Name'!F54),IF('Boat Name'!$C$2=1,OFFSET($B$3,0,'Boat Name'!F54)*100,"")),""),"") | C54: =IF(C$3=1,'1'!$O54,0) -> 88 | D54: =IF(D$3=1,'2'!$O54,0) -> 0 | E54: =IF(E$3=1,'3'!$O54,0) -> 74 | F54: =IF(F$3=1,'4'!$O54,0) -> 88 | G54: =IF(G$3=1,'5'!$O54,0) -> 0 | H54: =IF(H$3=1,'6'!$O54,0) -> 0 | I54: =IF(I$3=1,'7'!$O54,0) -> 92 | J54: =IF(J$3=1,'8'!$O54,0) -> 0 | K54: =IF(K$3=1,'9'!$O54,0) -> 0 | L54: =IF(L$3=1,'10'!$O54,0) -> 0 | M54: =IF(M$3=1,'11'!$O54,0) -> 0 | N54: =IF(N$3=1,'12'!$O54,0) -> 71 | O54: =IF(O$3=1,'13'!$O54,0) -> 0 | P54: =IF(P$3=1,'14'!$O54,0) -> 0 | Q54: =IF(Q$3=1,'15'!$O54,0) -> 90 | R54: =SUM(B54:Q54) -> 503 | S54: =AH54 -> 503 | T54: =RANK(S54,$S$39:$S$74) -> 9 | U54: =RANK(S54,$S$5:$S$74) -> 17 | W54: =LARGE($B54:$Q54,W$4) -> 92 | X54: =LARGE($B54:$Q54,X$4) -> 90 | Y54: =LARGE($B54:$Q54,Y$4) -> 88 | Z54: =LARGE($B54:$Q54,Z$4) -> 88 | AA54: =LARGE($B54:$Q54,AA$4) -> 74 | AB54: =LARGE($B54:$Q54,AB$4) -> 71 | AC54: =LARGE($B54:$Q54,AC$4) -> 0 | AD54: =LARGE($B54:$Q54,AD$4) -> 0 | ... AG54: =LARGE($B54:$Q54,AG$4) -> 0 | AH54: =SUM(W54:OFFSET(W54,0,($AH$4-1))) -> 503
A55: ='Boat Name'!A55 -> Sagacious | C55: =IF(C$3=1,'1'!$O55,0) -> 0 | D55: =IF(D$3=1,'2'!$O55,0) -> 0 | E55: =IF(E$3=1,'3'!$O55,0) -> 0 | F55: =IF(F$3=1,'4'!$O55,0) -> 74 | G55: =IF(G$3=1,'5'!$O55,0) -> 0 | H55: =IF(H$3=1,'6'!$O55,0) -> 90 | I55: =IF(I$3=1,'7'!$O55,0) -> 0 | J55: =IF(J$3=1,'8'!$O55,0) -> 80 | K55: =IF(K$3=1,'9'!$O55,0) -> 72 | L55: =IF(L$3=1,'10'!$O55,0) -> 0 | M55: =IF(M$3=1,'11'!$O55,0) -> 0 | N55: =IF(N$3=1,'12'!$O55,0) -> 0 | O55: =IF(O$3=1,'13'!$O55,0) -> 0 | P55: =IF(P$3=1,'14'!$O55,0) -> 0 | Q55: =IF(Q$3=1,'15'!$O55,0) -> 0 | R55: =SUM(B55:Q55) -> 316 | S55: =AH55 -> 316 | T55: =RANK(S55,$S$39:$S$74) -> 10 | U55: =RANK(S55,$S$5:$S$74) -> 23 | W55: =LARGE($B55:$Q55,W$4) -> 90 | X55: =LARGE($B55:$Q55,X$4) -> 80 | Y55: =LARGE($B55:$Q55,Y$4) -> 74 | Z55: =LARGE($B55:$Q55,Z$4) -> 72 | AA55: =LARGE($B55:$Q55,AA$4) -> 0 | AB55: =LARGE($B55:$Q55,AB$4) -> 0 | AC55: =LARGE($B55:$Q55,AC$4) -> 0 | AD55: =LARGE($B55:$Q55,AD$4) -> 0 | ... AG55: =LARGE($B55:$Q55,AG$4) -> 0 | AH55: =SUM(W55:OFFSET(W55,0,($AH$4-1))) -> 316
A56: ='Boat Name'!A56 -> Glow Boat | C56: =IF(C$3=1,'1'!$O56,0) -> 72 | D56: =IF(D$3=1,'2'!$O56,0) -> 72 | E56: =IF(E$3=1,'3'!$O56,0) -> 0 | F56: =IF(F$3=1,'4'!$O56,0) -> 0 | G56: =IF(G$3=1,'5'!$O56,0) -> 0 | H56: =IF(H$3=1,'6'!$O56,0) -> 0 | I56: =IF(I$3=1,'7'!$O56,0) -> 0 | J56: =IF(J$3=1,'8'!$O56,0) -> 0 | K56: =IF(K$3=1,'9'!$O56,0) -> 0 | L56: =IF(L$3=1,'10'!$O56,0) -> 0 | M56: =IF(M$3=1,'11'!$O56,0) -> 0 | N56: =IF(N$3=1,'12'!$O56,0) -> 0 | O56: =IF(O$3=1,'13'!$O56,0) -> 0 | P56: =IF(P$3=1,'14'!$O56,0) -> 0 | Q56: =IF(Q$3=1,'15'!$O56,0) -> 0 | R56: =SUM(B56:Q56) -> 144 | S56: =AH56 -> 144 | T56: =RANK(S56,$S$39:$S$74) -> 11 | U56: =RANK(S56,$S$5:$S$74) -> 24 | W56: =LARGE($B56:$Q56,W$4) -> 72 | X56: =LARGE($B56:$Q56,X$4) -> 72 | Y56: =LARGE($B56:$Q56,Y$4) -> 0 | Z56: =LARGE($B56:$Q56,Z$4) -> 0 | AA56: =LARGE($B56:$Q56,AA$4) -> 0 | AB56: =LARGE($B56:$Q56,AB$4) -> 0 | AC56: =LARGE($B56:$Q56,AC$4) -> 0 | AD56: =LARGE($B56:$Q56,AD$4) -> 0 | ... AG56: =LARGE($B56:$Q56,AG$4) -> 0 | AH56: =SUM(W56:OFFSET(W56,0,($AH$4-1))) -> 144
A57: ='Boat Name'!A57 -> Spectre | B57: 100 | C57: =IF(C$3=1,'1'!$O57,0) -> 84 | D57: =IF(D$3=1,'2'!$O57,0) -> 94 | E57: =IF(E$3=1,'3'!$O57,0) -> 90 | F57: =IF(F$3=1,'4'!$O57,0) -> 0 | G57: =IF(G$3=1,'5'!$O57,0) -> 77 | H57: =IF(H$3=1,'6'!$O57,0) -> 96 | I57: =IF(I$3=1,'7'!$O57,0) -> 0 | J57: =IF(J$3=1,'8'!$O57,0) -> 88 | K57: =IF(K$3=1,'9'!$O57,0) -> 77 | L57: =IF(L$3=1,'10'!$O57,0) -> 72 | M57: =IF(M$3=1,'11'!$O57,0) -> 82 | N57: =IF(N$3=1,'12'!$O57,0) -> 97 | O57: =IF(O$3=1,'13'!$O57,0) -> 92 | P57: =IF(P$3=1,'14'!$O57,0) -> 77 | Q57: =IF(Q$3=1,'15'!$O57,0) -> 79 | R57: =SUM(B57:Q57) -> 1205 | S57: =AH57 -> 823 | T57: =RANK(S57,$S$39:$S$74) -> 1 | U57: =RANK(S57,$S$5:$S$74) -> 1 | W57: =LARGE($B57:$Q57,W$4) -> 100 | X57: =LARGE($B57:$Q57,X$4) -> 97 | Y57: =LARGE($B57:$Q57,Y$4) -> 96 | Z57: =LARGE($B57:$Q57,Z$4) -> 94 | AA57: =LARGE($B57:$Q57,AA$4) -> 92 | AB57: =LARGE($B57:$Q57,AB$4) -> 90 | AC57: =LARGE($B57:$Q57,AC$4) -> 88 | AD57: =LARGE($B57:$Q57,AD$4) -> 84 | ... AG57: =LARGE($B57:$Q57,AG$4) -> 77 | AH57: =SUM(W57:OFFSET(W57,0,($AH$4-1))) -> 823
A58: ='Boat Name'!A58 -> TBD | B58: 100 | C58: =IF(C$3=1,'1'!$O58,0) -> 0 | D58: =IF(D$3=1,'2'!$O58,0) -> 0 | E58: =IF(E$3=1,'3'!$O58,0) -> 72 | F58: =IF(F$3=1,'4'!$O58,0) -> 0 | G58: =IF(G$3=1,'5'!$O58,0) -> 94 | H58: =IF(H$3=1,'6'!$O58,0) -> 82 | I58: =IF(I$3=1,'7'!$O58,0) -> 0 | J58: =IF(J$3=1,'8'!$O58,0) -> 0 | K58: =IF(K$3=1,'9'!$O58,0) -> 80 | L58: =IF(L$3=1,'10'!$O58,0) -> 80 | M58: =IF(M$3=1,'11'!$O58,0) -> 86 | N58: =IF(N$3=1,'12'!$O58,0) -> 77 | O58: =IF(O$3=1,'13'!$O58,0) -> 0 | P58: =IF(P$3=1,'14'!$O58,0) -> 0 | Q58: =IF(Q$3=1,'15'!$O58,0) -> 82 | R58: =SUM(B58:Q58) -> 753 | S58: =AH58 -> 753 | T58: =RANK(S58,$S$39:$S$74) -> 5 | U58: =RANK(S58,$S$5:$S$74) -> 7 | W58: =LARGE($B58:$Q58,W$4) -> 100 | X58: =LARGE($B58:$Q58,X$4) -> 94 | Y58: =LARGE($B58:$Q58,Y$4) -> 86 | Z58: =LARGE($B58:$Q58,Z$4) -> 82 | AA58: =LARGE($B58:$Q58,AA$4) -> 82 | AB58: =LARGE($B58:$Q58,AB$4) -> 80 | AC58: =LARGE($B58:$Q58,AC$4) -> 80 | AD58: =LARGE($B58:$Q58,AD$4) -> 77 | ... AG58: =LARGE($B58:$Q58,AG$4) -> 0 | AH58: =SUM(W58:OFFSET(W58,0,($AH$4-1))) -> 753
A59: ='Boat Name'!A59 -> Witchcraft | B59: =IF('Boat Name'!F59>0,IF(OFFSET($B$3,0,'Boat Name'!F59, )=1,IF('Boat Name'!$C$2=0,OFFSET($B$36,0,'Boat Name'!F59),IF('Boat Name'!$C$2=1,OFFSET($B$3,0,'Boat Name'!F59)*100,"")),""),"") | C59: =IF(C$3=1,'1'!$O59,0) -> 0 | D59: =IF(D$3=1,'2'!$O59,0) -> 0 | E59: =IF(E$3=1,'3'!$O59,0) -> 0 | F59: =IF(F$3=1,'4'!$O59,0) -> 0 | G59: =IF(G$3=1,'5'!$O59,0) -> 0 | H59: =IF(H$3=1,'6'!$O59,0) -> 0 | I59: =IF(I$3=1,'7'!$O59,0) -> 0 | J59: =IF(J$3=1,'8'!$O59,0) -> 0 | K59: =IF(K$3=1,'9'!$O59,0) -> 0 | L59: =IF(L$3=1,'10'!$O59,0) -> 0 | M59: =IF(M$3=1,'11'!$O59,0) -> 0 | N59: =IF(N$3=1,'12'!$O59,0) -> 0 | O59: =IF(O$3=1,'13'!$O59,0) -> 0 | P59: =IF(P$3=1,'14'!$O59,0) -> 0 | Q59: =IF(Q$3=1,'15'!$O59,0) -> 0 | R59: =SUM(B59:Q59) -> 0 | S59: =AH59 -> 0 | T59: =RANK(S59,$S$39:$S$74) -> 12 | U59: =RANK(S59,$S$5:$S$74) -> 28 | W59: =LARGE($B59:$Q59,W$4) -> 0 | X59: =LARGE($B59:$Q59,X$4) -> 0 | Y59: =LARGE($B59:$Q59,Y$4) -> 0 | Z59: =LARGE($B59:$Q59,Z$4) -> 0 | AA59: =LARGE($B59:$Q59,AA$4) -> 0 | AB59: =LARGE($B59:$Q59,AB$4) -> 0 | AC59: =LARGE($B59:$Q59,AC$4) -> 0 | AD59: =LARGE($B59:$Q59,AD$4) -> 0 | ... AG59: =LARGE($B59:$Q59,AG$4) -> 0 | AH59: =SUM(W59:OFFSET(W59,0,($AH$4-1))) -> 0
A60: ='Boat Name'!A60 -> Yonder | C60: =IF(C$3=1,'1'!$O60,0) -> 0 | D60: =IF(D$3=1,'2'!$O60,0) -> 0 | E60: =IF(E$3=1,'3'!$O60,0) -> 0 | F60: =IF(F$3=1,'4'!$O60,0) -> 0 | G60: =IF(G$3=1,'5'!$O60,0) -> 0 | H60: =IF(H$3=1,'6'!$O60,0) -> 0 | I60: =IF(I$3=1,'7'!$O60,0) -> 0 | J60: =IF(J$3=1,'8'!$O60,0) -> 0 | K60: =IF(K$3=1,'9'!$O60,0) -> 0 | L60: =IF(L$3=1,'10'!$O60,0) -> 0 | M60: =IF(M$3=1,'11'!$O60,0) -> 0 | N60: =IF(N$3=1,'12'!$O60,0) -> 0 | O60: =IF(O$3=1,'13'!$O60,0) -> 0 | P60: =IF(P$3=1,'14'!$O60,0) -> 0 | Q60: =IF(Q$3=1,'15'!$O60,0) -> 0 | R60: =SUM(B60:Q60) -> 0 | S60: =AH60 -> 0 | T60: =RANK(S60,$S$39:$S$74) -> 12 | U60: =RANK(S60,$S$5:$S$74) -> 28 | W60: =LARGE($B60:$Q60,W$4) -> 0 | X60: =LARGE($B60:$Q60,X$4) -> 0 | Y60: =LARGE($B60:$Q60,Y$4) -> 0 | Z60: =LARGE($B60:$Q60,Z$4) -> 0 | AA60: =LARGE($B60:$Q60,AA$4) -> 0 | AB60: =LARGE($B60:$Q60,AB$4) -> 0 | AC60: =LARGE($B60:$Q60,AC$4) -> 0 | AD60: =LARGE($B60:$Q60,AD$4) -> 0 | ... AG60: =LARGE($B60:$Q60,AG$4) -> 0 | AH60: =SUM(W60:OFFSET(W60,0,($AH$4-1))) -> 0
A61: ='Boat Name'!A61 -> 0 | C61: =IF(C$3=1,'1'!$O61,0) -> 0 | D61: =IF(D$3=1,'2'!$O61,0) -> 0 | E61: =IF(E$3=1,'3'!$O61,0) -> 0 | F61: =IF(F$3=1,'4'!$O61,0) -> 0 | G61: =IF(G$3=1,'5'!$O61,0) -> 0 | H61: =IF(H$3=1,'6'!$O61,0) -> 0 | I61: =IF(I$3=1,'7'!$O61,0) -> 0 | J61: =IF(J$3=1,'8'!$O61,0) -> 0 | K61: =IF(K$3=1,'9'!$O61,0) -> 0 | L61: =IF(L$3=1,'10'!$O61,0) -> 0 | M61: =IF(M$3=1,'11'!$O61,0) -> 0 | N61: =IF(N$3=1,'12'!$O61,0) -> 0 | O61: =IF(O$3=1,'13'!$O61,0) -> 0 | P61: =IF(P$3=1,'14'!$O61,0) -> 0 | Q61: =IF(Q$3=1,'15'!$O61,0) -> 0 | R61: =SUM(B61:Q61) -> 0 | S61: =AH61 -> 0 | T61: =RANK(S61,$S$39:$S$74) -> 12 | U61: =RANK(S61,$S$5:$S$74) -> 28 | W61: =LARGE($B61:$Q61,W$4) -> 0 | X61: =LARGE($B61:$Q61,X$4) -> 0 | Y61: =LARGE($B61:$Q61,Y$4) -> 0 | Z61: =LARGE($B61:$Q61,Z$4) -> 0 | AA61: =LARGE($B61:$Q61,AA$4) -> 0 | AB61: =LARGE($B61:$Q61,AB$4) -> 0 | AC61: =LARGE($B61:$Q61,AC$4) -> 0 | AD61: =LARGE($B61:$Q61,AD$4) -> 0 | ... AG61: =LARGE($B61:$Q61,AG$4) -> 0 | AH61: =SUM(W61:OFFSET(W61,0,($AH$4-1))) -> 0
A62: ='Boat Name'!A62 -> 0 | B62: =IF('Boat Name'!F62>0,IF(OFFSET($B$3,0,'Boat Name'!F62, )=1,IF('Boat Name'!$C$2=0,OFFSET($B$36,0,'Boat Name'!F62),IF('Boat Name'!$C$2=1,OFFSET($B$3,0,'Boat Name'!F62)*100,"")),""),"") | C62: =IF(C$3=1,'1'!$O62,0) -> 0 | D62: =IF(D$3=1,'2'!$O62,0) -> 0 | E62: =IF(E$3=1,'3'!$O62,0) -> 0 | F62: =IF(F$3=1,'4'!$O62,0) -> 0 | G62: =IF(G$3=1,'5'!$O62,0) -> 0 | H62: =IF(H$3=1,'6'!$O62,0) -> 0 | I62: =IF(I$3=1,'7'!$O62,0) -> 0 | J62: =IF(J$3=1,'8'!$O62,0) -> 0 | K62: =IF(K$3=1,'9'!$O62,0) -> 0 | L62: =IF(L$3=1,'10'!$O62,0) -> 0 | M62: =IF(M$3=1,'11'!$O62,0) -> 0 | N62: =IF(N$3=1,'12'!$O62,0) -> 0 | O62: =IF(O$3=1,'13'!$O62,0) -> 0 | P62: =IF(P$3=1,'14'!$O62,0) -> 0 | Q62: =IF(Q$3=1,'15'!$O62,0) -> 0 | R62: =SUM(B62:Q62) -> 0 | S62: =AH62 -> 0 | T62: =RANK(S62,$S$39:$S$74) -> 12 | U62: =RANK(S62,$S$5:$S$74) -> 28 | W62: =LARGE($B62:$Q62,W$4) -> 0 | X62: =LARGE($B62:$Q62,X$4) -> 0 | Y62: =LARGE($B62:$Q62,Y$4) -> 0 | Z62: =LARGE($B62:$Q62,Z$4) -> 0 | AA62: =LARGE($B62:$Q62,AA$4) -> 0 | AB62: =LARGE($B62:$Q62,AB$4) -> 0 | AC62: =LARGE($B62:$Q62,AC$4) -> 0 | AD62: =LARGE($B62:$Q62,AD$4) -> 0 | ... AG62: =LARGE($B62:$Q62,AG$4) -> 0 | AH62: =SUM(W62:OFFSET(W62,0,($AH$4-1))) -> 0
A63: ='Boat Name'!A63 -> 0 | B63: =IF('Boat Name'!F63>0,IF(OFFSET($B$3,0,'Boat Name'!F63, )=1,IF('Boat Name'!$C$2=0,OFFSET($B$36,0,'Boat Name'!F63),IF('Boat Name'!$C$2=1,OFFSET($B$3,0,'Boat Name'!F63)*100,"")),""),"") | C63: =IF(C$3=1,'1'!$O63,0) -> 0 | D63: =IF(D$3=1,'2'!$O63,0) -> 0 | E63: =IF(E$3=1,'3'!$O63,0) -> 0 | F63: =IF(F$3=1,'4'!$O63,0) -> 0 | G63: =IF(G$3=1,'5'!$O63,0) -> 0 | H63: =IF(H$3=1,'6'!$O63,0) -> 0 | I63: =IF(I$3=1,'7'!$O63,0) -> 0 | J63: =IF(J$3=1,'8'!$O63,0) -> 0 | K63: =IF(K$3=1,'9'!$O63,0) -> 0 | L63: =IF(L$3=1,'10'!$O63,0) -> 0 | M63: =IF(M$3=1,'11'!$O63,0) -> 0 | N63: =IF(N$3=1,'12'!$O63,0) -> 0 | O63: =IF(O$3=1,'13'!$O63,0) -> 0 | P63: =IF(P$3=1,'14'!$O63,0) -> 0 | Q63: =IF(Q$3=1,'15'!$O63,0) -> 0 | R63: =SUM(B63:Q63) -> 0 | S63: =AH63 -> 0 | T63: =RANK(S63,$S$39:$S$74) -> 12 | U63: =RANK(S63,$S$5:$S$74) -> 28 | W63: =LARGE($B63:$Q63,W$4) -> 0 | X63: =LARGE($B63:$Q63,X$4) -> 0 | Y63: =LARGE($B63:$Q63,Y$4) -> 0 | Z63: =LARGE($B63:$Q63,Z$4) -> 0 | AA63: =LARGE($B63:$Q63,AA$4) -> 0 | AB63: =LARGE($B63:$Q63,AB$4) -> 0 | AC63: =LARGE($B63:$Q63,AC$4) -> 0 | AD63: =LARGE($B63:$Q63,AD$4) -> 0 | ... AG63: =LARGE($B63:$Q63,AG$4) -> 0 | AH63: =SUM(W63:OFFSET(W63,0,($AH$4-1))) -> 0
A64: ='Boat Name'!A64 -> 0 | B64: =IF('Boat Name'!F64>0,IF(OFFSET($B$3,0,'Boat Name'!F64, )=1,IF('Boat Name'!$C$2=0,OFFSET($B$36,0,'Boat Name'!F64),IF('Boat Name'!$C$2=1,OFFSET($B$3,0,'Boat Name'!F64)*100,"")),""),"") | C64: =IF(C$3=1,'1'!$O64,0) -> 0 | D64: =IF(D$3=1,'2'!$O64,0) -> 0 | E64: =IF(E$3=1,'3'!$O64,0) -> 0 | F64: =IF(F$3=1,'4'!$O64,0) -> 0 | G64: =IF(G$3=1,'5'!$O64,0) -> 0 | H64: =IF(H$3=1,'6'!$O64,0) -> 0 | I64: =IF(I$3=1,'7'!$O64,0) -> 0 | J64: =IF(J$3=1,'8'!$O64,0) -> 0 | K64: =IF(K$3=1,'9'!$O64,0) -> 0 | L64: =IF(L$3=1,'10'!$O64,0) -> 0 | M64: =IF(M$3=1,'11'!$O64,0) -> 0 | N64: =IF(N$3=1,'12'!$O64,0) -> 0 | O64: =IF(O$3=1,'13'!$O64,0) -> 0 | P64: =IF(P$3=1,'14'!$O64,0) -> 0 | Q64: =IF(Q$3=1,'15'!$O64,0) -> 0 | R64: =SUM(B64:Q64) -> 0 | S64: =AH64 -> 0 | T64: =RANK(S64,$S$39:$S$74) -> 12 | U64: =RANK(S64,$S$5:$S$74) -> 28 | W64: =LARGE($B64:$Q64,W$4) -> 0 | X64: =LARGE($B64:$Q64,X$4) -> 0 | Y64: =LARGE($B64:$Q64,Y$4) -> 0 | Z64: =LARGE($B64:$Q64,Z$4) -> 0 | AA64: =LARGE($B64:$Q64,AA$4) -> 0 | AB64: =LARGE($B64:$Q64,AB$4) -> 0 | AC64: =LARGE($B64:$Q64,AC$4) -> 0 | AD64: =LARGE($B64:$Q64,AD$4) -> 0 | ... AG64: =LARGE($B64:$Q64,AG$4) -> 0 | AH64: =SUM(W64:OFFSET(W64,0,($AH$4-1))) -> 0
A65: ='Boat Name'!A65 -> 0 | B65: =IF('Boat Name'!F65>0,IF(OFFSET($B$3,0,'Boat Name'!F65, )=1,IF('Boat Name'!$C$2=0,OFFSET($B$36,0,'Boat Name'!F65),IF('Boat Name'!$C$2=1,OFFSET($B$3,0,'Boat Name'!F65)*100,"")),""),"") | C65: =IF(C$3=1,'1'!$O65,0) -> 0 | D65: =IF(D$3=1,'2'!$O65,0) -> 0 | E65: =IF(E$3=1,'3'!$O65,0) -> 0 | F65: =IF(F$3=1,'4'!$O65,0) -> 0 | G65: =IF(G$3=1,'5'!$O65,0) -> 0 | H65: =IF(H$3=1,'6'!$O65,0) -> 0 | I65: =IF(I$3=1,'7'!$O65,0) -> 0 | J65: =IF(J$3=1,'8'!$O65,0) -> 0 | K65: =IF(K$3=1,'9'!$O65,0) -> 0 | L65: =IF(L$3=1,'10'!$O65,0) -> 0 | M65: =IF(M$3=1,'11'!$O65,0) -> 0 | N65: =IF(N$3=1,'12'!$O65,0) -> 0 | O65: =IF(O$3=1,'13'!$O65,0) -> 0 | P65: =IF(P$3=1,'14'!$O65,0) -> 0 | Q65: =IF(Q$3=1,'15'!$O65,0) -> 0 | R65: =SUM(B65:Q65) -> 0 | S65: =AH65 -> 0 | T65: =RANK(S65,$S$39:$S$74) -> 12 | U65: =RANK(S65,$S$5:$S$74) -> 28 | W65: =LARGE($B65:$Q65,W$4) -> 0 | X65: =LARGE($B65:$Q65,X$4) -> 0 | Y65: =LARGE($B65:$Q65,Y$4) -> 0 | Z65: =LARGE($B65:$Q65,Z$4) -> 0 | AA65: =LARGE($B65:$Q65,AA$4) -> 0 | AB65: =LARGE($B65:$Q65,AB$4) -> 0 | AC65: =LARGE($B65:$Q65,AC$4) -> 0 | AD65: =LARGE($B65:$Q65,AD$4) -> 0 | ... AG65: =LARGE($B65:$Q65,AG$4) -> 0 | AH65: =SUM(W65:OFFSET(W65,0,($AH$4-1))) -> 0
A66: ='Boat Name'!A66 -> 0 | B66: =IF('Boat Name'!F66>0,IF(OFFSET($B$3,0,'Boat Name'!F66, )=1,IF('Boat Name'!$C$2=0,OFFSET($B$36,0,'Boat Name'!F66),IF('Boat Name'!$C$2=1,OFFSET($B$3,0,'Boat Name'!F66)*100,"")),""),"") | C66: =IF(C$3=1,'1'!$O66,0) -> 0 | D66: =IF(D$3=1,'2'!$O66,0) -> 0 | E66: =IF(E$3=1,'3'!$O66,0) -> 0 | F66: =IF(F$3=1,'4'!$O66,0) -> 0 | G66: =IF(G$3=1,'5'!$O66,0) -> 0 | H66: =IF(H$3=1,'6'!$O66,0) -> 0 | I66: =IF(I$3=1,'7'!$O66,0) -> 0 | J66: =IF(J$3=1,'8'!$O66,0) -> 0 | K66: =IF(K$3=1,'9'!$O66,0) -> 0 | L66: =IF(L$3=1,'10'!$O66,0) -> 0 | M66: =IF(M$3=1,'11'!$O66,0) -> 0 | N66: =IF(N$3=1,'12'!$O66,0) -> 0 | O66: =IF(O$3=1,'13'!$O66,0) -> 0 | P66: =IF(P$3=1,'14'!$O66,0) -> 0 | Q66: =IF(Q$3=1,'15'!$O66,0) -> 0 | R66: =SUM(B66:Q66) -> 0 | S66: =AH66 -> 0 | T66: =RANK(S66,$S$39:$S$74) -> 12 | U66: =RANK(S66,$S$5:$S$74) -> 28 | W66: =LARGE($B66:$Q66,W$4) -> 0 | X66: =LARGE($B66:$Q66,X$4) -> 0 | Y66: =LARGE($B66:$Q66,Y$4) -> 0 | Z66: =LARGE($B66:$Q66,Z$4) -> 0 | AA66: =LARGE($B66:$Q66,AA$4) -> 0 | AB66: =LARGE($B66:$Q66,AB$4) -> 0 | AC66: =LARGE($B66:$Q66,AC$4) -> 0 | AD66: =LARGE($B66:$Q66,AD$4) -> 0 | ... AG66: =LARGE($B66:$Q66,AG$4) -> 0 | AH66: =SUM(W66:OFFSET(W66,0,($AH$4-1))) -> 0
A67: ='Boat Name'!A67 -> 0 | B67: =IF('Boat Name'!F67>0,IF(OFFSET($B$3,0,'Boat Name'!F67, )=1,IF('Boat Name'!$C$2=0,OFFSET($B$36,0,'Boat Name'!F67),IF('Boat Name'!$C$2=1,OFFSET($B$3,0,'Boat Name'!F67)*100,"")),""),"") | C67: =IF(C$3=1,'1'!$O67,0) -> 0 | D67: =IF(D$3=1,'2'!$O67,0) -> 0 | E67: =IF(E$3=1,'3'!$O67,0) -> 0 | F67: =IF(F$3=1,'4'!$O67,0) -> 0 | G67: =IF(G$3=1,'5'!$O67,0) -> 0 | H67: =IF(H$3=1,'6'!$O67,0) -> 0 | I67: =IF(I$3=1,'7'!$O67,0) -> 0 | J67: =IF(J$3=1,'8'!$O67,0) -> 0 | K67: =IF(K$3=1,'9'!$O67,0) -> 0 | L67: =IF(L$3=1,'10'!$O67,0) -> 0 | M67: =IF(M$3=1,'11'!$O67,0) -> 0 | N67: =IF(N$3=1,'12'!$O67,0) -> 0 | O67: =IF(O$3=1,'13'!$O67,0) -> 0 | P67: =IF(P$3=1,'14'!$O67,0) -> 0 | Q67: =IF(Q$3=1,'15'!$O67,0) -> 0 | R67: =SUM(B67:Q67) -> 0 | S67: =AH67 -> 0 | T67: =RANK(S67,$S$39:$S$74) -> 12 | U67: =RANK(S67,$S$5:$S$74) -> 28 | W67: =LARGE($B67:$Q67,W$4) -> 0 | X67: =LARGE($B67:$Q67,X$4) -> 0 | Y67: =LARGE($B67:$Q67,Y$4) -> 0 | Z67: =LARGE($B67:$Q67,Z$4) -> 0 | AA67: =LARGE($B67:$Q67,AA$4) -> 0 | AB67: =LARGE($B67:$Q67,AB$4) -> 0 | AC67: =LARGE($B67:$Q67,AC$4) -> 0 | AD67: =LARGE($B67:$Q67,AD$4) -> 0 | ... AG67: =LARGE($B67:$Q67,AG$4) -> 0 | AH67: =SUM(W67:OFFSET(W67,0,($AH$4-1))) -> 0
A68: ='Boat Name'!A68 -> 0 | B68: =IF('Boat Name'!F68>0,IF(OFFSET($B$3,0,'Boat Name'!F68, )=1,IF('Boat Name'!$C$2=0,OFFSET($B$36,0,'Boat Name'!F68),IF('Boat Name'!$C$2=1,OFFSET($B$3,0,'Boat Name'!F68)*100,"")),""),"") | C68: =IF(C$3=1,'1'!$O68,0) -> 0 | D68: =IF(D$3=1,'2'!$O68,0) -> 0 | E68: =IF(E$3=1,'3'!$O68,0) -> 0 | F68: =IF(F$3=1,'4'!$O68,0) -> 0 | G68: =IF(G$3=1,'5'!$O68,0) -> 0 | H68: =IF(H$3=1,'6'!$O68,0) -> 0 | I68: =IF(I$3=1,'7'!$O68,0) -> 0 | J68: =IF(J$3=1,'8'!$O68,0) -> 0 | K68: =IF(K$3=1,'9'!$O68,0) -> 0 | L68: =IF(L$3=1,'10'!$O68,0) -> 0 | M68: =IF(M$3=1,'11'!$O68,0) -> 0 | N68: =IF(N$3=1,'12'!$O68,0) -> 0 | O68: =IF(O$3=1,'13'!$O68,0) -> 0 | P68: =IF(P$3=1,'14'!$O68,0) -> 0 | Q68: =IF(Q$3=1,'15'!$O68,0) -> 0 | R68: =SUM(B68:Q68) -> 0 | S68: =AH68 -> 0 | T68: =RANK(S68,$S$39:$S$74) -> 12 | U68: =RANK(S68,$S$5:$S$74) -> 28 | W68: =LARGE($B68:$Q68,W$4) -> 0 | X68: =LARGE($B68:$Q68,X$4) -> 0 | Y68: =LARGE($B68:$Q68,Y$4) -> 0 | Z68: =LARGE($B68:$Q68,Z$4) -> 0 | AA68: =LARGE($B68:$Q68,AA$4) -> 0 | AB68: =LARGE($B68:$Q68,AB$4) -> 0 | AC68: =LARGE($B68:$Q68,AC$4) -> 0 | AD68: =LARGE($B68:$Q68,AD$4) -> 0 | ... AG68: =LARGE($B68:$Q68,AG$4) -> 0 | AH68: =SUM(W68:OFFSET(W68,0,($AH$4-1))) -> 0
A69: ='Boat Name'!A69 -> 0 | B69: =IF('Boat Name'!F69>0,IF(OFFSET($B$3,0,'Boat Name'!F69, )=1,IF('Boat Name'!$C$2=0,OFFSET($B$36,0,'Boat Name'!F69),IF('Boat Name'!$C$2=1,OFFSET($B$3,0,'Boat Name'!F69)*100,"")),""),"") | C69: =IF(C$3=1,'1'!$O69,0) -> 0 | D69: =IF(D$3=1,'2'!$O69,0) -> 0 | E69: =IF(E$3=1,'3'!$O69,0) -> 0 | F69: =IF(F$3=1,'4'!$O69,0) -> 0 | G69: =IF(G$3=1,'5'!$O69,0) -> 0 | H69: =IF(H$3=1,'6'!$O69,0) -> 0 | I69: =IF(I$3=1,'7'!$O69,0) -> 0 | J69: =IF(J$3=1,'8'!$O69,0) -> 0 | K69: =IF(K$3=1,'9'!$O69,0) -> 0 | L69: =IF(L$3=1,'10'!$O69,0) -> 0 | M69: =IF(M$3=1,'11'!$O69,0) -> 0 | N69: =IF(N$3=1,'12'!$O69,0) -> 0 | O69: =IF(O$3=1,'13'!$O69,0) -> 0 | P69: =IF(P$3=1,'14'!$O69,0) -> 0 | Q69: =IF(Q$3=1,'15'!$O69,0) -> 0 | R69: =SUM(B69:Q69) -> 0 | S69: =AH69 -> 0 | T69: =RANK(S69,$S$39:$S$74) -> 12 | U69: =RANK(S69,$S$5:$S$74) -> 28 | W69: =LARGE($B69:$Q69,W$4) -> 0 | X69: =LARGE($B69:$Q69,X$4) -> 0 | Y69: =LARGE($B69:$Q69,Y$4) -> 0 | Z69: =LARGE($B69:$Q69,Z$4) -> 0 | AA69: =LARGE($B69:$Q69,AA$4) -> 0 | AB69: =LARGE($B69:$Q69,AB$4) -> 0 | AC69: =LARGE($B69:$Q69,AC$4) -> 0 | AD69: =LARGE($B69:$Q69,AD$4) -> 0 | ... AG69: =LARGE($B69:$Q69,AG$4) -> 0 | AH69: =SUM(W69:OFFSET(W69,0,($AH$4-1))) -> 0
A70: ='Boat Name'!A70 -> 0 | B70: =IF('Boat Name'!F70>0,IF(OFFSET($B$3,0,'Boat Name'!F70, )=1,IF('Boat Name'!$C$2=0,OFFSET($B$36,0,'Boat Name'!F70),IF('Boat Name'!$C$2=1,OFFSET($B$3,0,'Boat Name'!F70)*100,"")),""),"") | C70: =IF(C$3=1,'1'!$O70,0) -> 0 | D70: =IF(D$3=1,'2'!$O70,0) -> 0 | E70: =IF(E$3=1,'3'!$O70,0) -> 0 | F70: =IF(F$3=1,'4'!$O70,0) -> 0 | G70: =IF(G$3=1,'5'!$O70,0) -> 0 | H70: =IF(H$3=1,'6'!$O70,0) -> 0 | I70: =IF(I$3=1,'7'!$O70,0) -> 0 | J70: =IF(J$3=1,'8'!$O70,0) -> 0 | K70: =IF(K$3=1,'9'!$O70,0) -> 0 | L70: =IF(L$3=1,'10'!$O70,0) -> 0 | M70: =IF(M$3=1,'11'!$O70,0) -> 0 | N70: =IF(N$3=1,'12'!$O70,0) -> 0 | O70: =IF(O$3=1,'13'!$O70,0) -> 0 | P70: =IF(P$3=1,'14'!$O70,0) -> 0 | Q70: =IF(Q$3=1,'15'!$O70,0) -> 0 | R70: =SUM(B70:Q70) -> 0 | S70: =AH70 -> 0 | T70: =RANK(S70,$S$39:$S$74) -> 12 | U70: =RANK(S70,$S$5:$S$74) -> 28 | W70: =LARGE($B70:$Q70,W$4) -> 0 | X70: =LARGE($B70:$Q70,X$4) -> 0 | Y70: =LARGE($B70:$Q70,Y$4) -> 0 | Z70: =LARGE($B70:$Q70,Z$4) -> 0 | AA70: =LARGE($B70:$Q70,AA$4) -> 0 | AB70: =LARGE($B70:$Q70,AB$4) -> 0 | AC70: =LARGE($B70:$Q70,AC$4) -> 0 | AD70: =LARGE($B70:$Q70,AD$4) -> 0 | ... AG70: =LARGE($B70:$Q70,AG$4) -> 0 | AH70: =SUM(W70:OFFSET(W70,0,($AH$4-1))) -> 0
A71: ='Boat Name'!A71 -> 0 | B71: =IF('Boat Name'!F71>0,IF(OFFSET($B$3,0,'Boat Name'!F71, )=1,IF('Boat Name'!$C$2=0,OFFSET($B$36,0,'Boat Name'!F71),IF('Boat Name'!$C$2=1,OFFSET($B$3,0,'Boat Name'!F71)*100,"")),""),"") | C71: =IF(C$3=1,'1'!$O71,0) -> 0 | D71: =IF(D$3=1,'2'!$O71,0) -> 0 | E71: =IF(E$3=1,'3'!$O71,0) -> 0 | F71: =IF(F$3=1,'4'!$O71,0) -> 0 | G71: =IF(G$3=1,'5'!$O71,0) -> 0 | H71: =IF(H$3=1,'6'!$O71,0) -> 0 | I71: =IF(I$3=1,'7'!$O71,0) -> 0 | J71: =IF(J$3=1,'8'!$O71,0) -> 0 | K71: =IF(K$3=1,'9'!$O71,0) -> 0 | L71: =IF(L$3=1,'10'!$O71,0) -> 0 | M71: =IF(M$3=1,'11'!$O71,0) -> 0 | N71: =IF(N$3=1,'12'!$O71,0) -> 0 | O71: =IF(O$3=1,'13'!$O71,0) -> 0 | P71: =IF(P$3=1,'14'!$O71,0) -> 0 | Q71: =IF(Q$3=1,'15'!$O71,0) -> 0 | R71: =SUM(B71:Q71) -> 0 | S71: =AH71 -> 0 | T71: =RANK(S71,$S$39:$S$74) -> 12 | U71: =RANK(S71,$S$5:$S$74) -> 28 | W71: =LARGE($B71:$Q71,W$4) -> 0 | X71: =LARGE($B71:$Q71,X$4) -> 0 | Y71: =LARGE($B71:$Q71,Y$4) -> 0 | Z71: =LARGE($B71:$Q71,Z$4) -> 0 | AA71: =LARGE($B71:$Q71,AA$4) -> 0 | AB71: =LARGE($B71:$Q71,AB$4) -> 0 | AC71: =LARGE($B71:$Q71,AC$4) -> 0 | AD71: =LARGE($B71:$Q71,AD$4) -> 0 | ... AG71: =LARGE($B71:$Q71,AG$4) -> 0 | AH71: =SUM(W71:OFFSET(W71,0,($AH$4-1))) -> 0
A72: ='Boat Name'!A72 -> 0 | B72: =IF('Boat Name'!F72>0,IF(OFFSET($B$3,0,'Boat Name'!F72, )=1,IF('Boat Name'!$C$2=0,OFFSET($B$36,0,'Boat Name'!F72),IF('Boat Name'!$C$2=1,OFFSET($B$3,0,'Boat Name'!F72)*100,"")),""),"") | C72: =IF(C$3=1,'1'!$O72,0) -> 0 | D72: =IF(D$3=1,'2'!$O72,0) -> 0 | E72: =IF(E$3=1,'3'!$O72,0) -> 0 | F72: =IF(F$3=1,'4'!$O72,0) -> 0 | G72: =IF(G$3=1,'5'!$O72,0) -> 0 | H72: =IF(H$3=1,'6'!$O72,0) -> 0 | I72: =IF(I$3=1,'7'!$O72,0) -> 0 | J72: =IF(J$3=1,'8'!$O72,0) -> 0 | K72: =IF(K$3=1,'9'!$O72,0) -> 0 | L72: =IF(L$3=1,'10'!$O72,0) -> 0 | M72: =IF(M$3=1,'11'!$O72,0) -> 0 | N72: =IF(N$3=1,'12'!$O72,0) -> 0 | O72: =IF(O$3=1,'13'!$O72,0) -> 0 | P72: =IF(P$3=1,'14'!$O72,0) -> 0 | Q72: =IF(Q$3=1,'15'!$O72,0) -> 0 | R72: =SUM(B72:Q72) -> 0 | S72: =AH72 -> 0 | T72: =RANK(S72,$S$39:$S$74) -> 12 | U72: =RANK(S72,$S$5:$S$74) -> 28 | W72: =LARGE($B72:$Q72,W$4) -> 0 | X72: =LARGE($B72:$Q72,X$4) -> 0 | Y72: =LARGE($B72:$Q72,Y$4) -> 0 | Z72: =LARGE($B72:$Q72,Z$4) -> 0 | AA72: =LARGE($B72:$Q72,AA$4) -> 0 | AB72: =LARGE($B72:$Q72,AB$4) -> 0 | AC72: =LARGE($B72:$Q72,AC$4) -> 0 | AD72: =LARGE($B72:$Q72,AD$4) -> 0 | ... AG72: =LARGE($B72:$Q72,AG$4) -> 0 | AH72: =SUM(W72:OFFSET(W72,0,($AH$4-1))) -> 0
A73: ='Boat Name'!A73 -> 0 | B73: =IF('Boat Name'!F73>0,IF(OFFSET($B$3,0,'Boat Name'!F73, )=1,IF('Boat Name'!$C$2=0,OFFSET($B$36,0,'Boat Name'!F73),IF('Boat Name'!$C$2=1,OFFSET($B$3,0,'Boat Name'!F73)*100,"")),""),"") | C73: =IF(C$3=1,'1'!$O73,0) -> 0 | D73: =IF(D$3=1,'2'!$O73,0) -> 0 | E73: =IF(E$3=1,'3'!$O73,0) -> 0 | F73: =IF(F$3=1,'4'!$O73,0) -> 0 | G73: =IF(G$3=1,'5'!$O73,0) -> 0 | H73: =IF(H$3=1,'6'!$O73,0) -> 0 | I73: =IF(I$3=1,'7'!$O73,0) -> 0 | J73: =IF(J$3=1,'8'!$O73,0) -> 0 | K73: =IF(K$3=1,'9'!$O73,0) -> 0 | L73: =IF(L$3=1,'10'!$O73,0) -> 0 | M73: =IF(M$3=1,'11'!$O73,0) -> 0 | N73: =IF(N$3=1,'12'!$O73,0) -> 0 | O73: =IF(O$3=1,'13'!$O73,0) -> 0 | P73: =IF(P$3=1,'14'!$O73,0) -> 0 | Q73: =IF(Q$3=1,'15'!$O73,0) -> 0 | R73: =SUM(B73:Q73) -> 0 | S73: =AH73 -> 0 | T73: =RANK(S73,$S$39:$S$74) -> 12 | U73: =RANK(S73,$S$5:$S$74) -> 28 | W73: =LARGE($B73:$Q73,W$4) -> 0 | X73: =LARGE($B73:$Q73,X$4) -> 0 | Y73: =LARGE($B73:$Q73,Y$4) -> 0 | Z73: =LARGE($B73:$Q73,Z$4) -> 0 | AA73: =LARGE($B73:$Q73,AA$4) -> 0 | AB73: =LARGE($B73:$Q73,AB$4) -> 0 | AC73: =LARGE($B73:$Q73,AC$4) -> 0 | AD73: =LARGE($B73:$Q73,AD$4) -> 0 | ... AG73: =LARGE($B73:$Q73,AG$4) -> 0 | AH73: =SUM(W73:OFFSET(W73,0,($AH$4-1))) -> 0
A74: ='Boat Name'!A74 -> 0 | B74: =IF('Boat Name'!F74>0,IF(OFFSET($B$3,0,'Boat Name'!F74, )=1,IF('Boat Name'!$C$2=0,OFFSET($B$36,0,'Boat Name'!F74),IF('Boat Name'!$C$2=1,OFFSET($B$3,0,'Boat Name'!F74)*100,"")),""),"") | C74: =IF(C$3=1,'1'!$O74,0) -> 0 | D74: =IF(D$3=1,'2'!$O74,0) -> 0 | E74: =IF(E$3=1,'3'!$O74,0) -> 0 | F74: =IF(F$3=1,'4'!$O74,0) -> 0 | G74: =IF(G$3=1,'5'!$O74,0) -> 0 | H74: =IF(H$3=1,'6'!$O74,0) -> 0 | I74: =IF(I$3=1,'7'!$O74,0) -> 0 | J74: =IF(J$3=1,'8'!$O74,0) -> 0 | K74: =IF(K$3=1,'9'!$O74,0) -> 0 | L74: =IF(L$3=1,'10'!$O74,0) -> 0 | M74: =IF(M$3=1,'11'!$O74,0) -> 0 | N74: =IF(N$3=1,'12'!$O74,0) -> 0 | O74: =IF(O$3=1,'13'!$O74,0) -> 0 | P74: =IF(P$3=1,'14'!$O74,0) -> 0 | Q74: =IF(Q$3=1,'15'!$O74,0) -> 0 | R74: =SUM(B74:Q74) -> 0 | S74: =AH74 -> 0 | T74: =RANK(S74,$S$39:$S$74) -> 12 | U74: =RANK(S74,$S$5:$S$74) -> 28 | W74: =LARGE($B74:$Q74,W$4) -> 0 | X74: =LARGE($B74:$Q74,X$4) -> 0 | Y74: =LARGE($B74:$Q74,Y$4) -> 0 | Z74: =LARGE($B74:$Q74,Z$4) -> 0 | AA74: =LARGE($B74:$Q74,AA$4) -> 0 | AB74: =LARGE($B74:$Q74,AB$4) -> 0 | AC74: =LARGE($B74:$Q74,AC$4) -> 0 | AD74: =LARGE($B74:$Q74,AD$4) -> 0 | ... AG74: =LARGE($B74:$Q74,AG$4) -> 0 | AH74: =SUM(W74:OFFSET(W74,0,($AH$4-1))) -> 0

Sheet Sun
A1: High Score | B1: Sunday | C1: =LARGE(C5:C34,1) -> 0 | D1: =LARGE(D5:D34,1) -> 0 | E1: =LARGE(E5:E34,1) -> 0 | F1: =LARGE(F5:F34,1) -> 80 | G1: =LARGE(G5:G34,1) -> 0 | H1: =LARGE(H5:H34,1) -> 76 | I1: =LARGE(I5:I34,1) -> 0 | J1: =LARGE(J5:J34,1) -> 0
A2: ='Boat Name'!A2 -> Season 2026 | C2: 46278 | D2: 46285 | E2: 46292 | F2: 46298 | G2: 46306 | H2: 46313 | I2: 46320 | L2: Tot. Valid | M2: Sun. | N2: Sun. | V2: 60% Rule
A3: Valid Sun Races | B3: CB Duty | C3: 0 | D3: 0 | E3: 0 | F3: 1 | G3: 1 | H3: 1 | I3: 0 | J3: 0 | K3: Sum | L3: =SUM(C3:J3) -> 3 | M3: Class | N3: Overall | V3: # of Races
A4: Boat Name, Cruising | B4: Score | C4: R1 | D4: R2 | E4: R3 | F4: R4 | G4: R5 | H4: R6 | I4: R7 | J4: R8 | K4: Total | L4: 60% Total | M4: Standing | N4: Standing | P4: 1 | Q4: 2 | R4: 3 | S4: 4 | T4: 5 | U4: 6 | V4: 5
A5: ='Boat Name'!A5 -> Carry On | B5: =IF('Boat Name'!G5>0,IF(OFFSET($B$3,0,'Boat Name'!G5-14, )=1,IF('Boat Name'!$C$2=0,OFFSET($B$1,0,'Boat Name'!G5-14),IF('Boat Name'!$C$2=1,OFFSET($B$3,0,'Boat Name'!G5-14)*100,"")),""),"") | C5: =IF(C$3=1,'F1'!$O5,0) -> 0 | D5: =IF(D$3=1,'F2'!$O5,0) -> 0 | E5: =IF(E$3=1,'F3'!$O5,0) -> 0 | F5: =IF(F$3=1,'F4'!$O5,0) -> 0 | G5: =IF(G$3=1,'F5'!$O5,0) -> 0 | H5: =IF(H$3=1,'F6'!$O5,0) -> 0 | I5: =IF(I$3=1,'F7'!$O5,0) -> 0 | J5: =IF(J$3=1,'F8'!$O5,0) -> 0 | K5: =SUM(B5:J5) -> 0 | L5: =V5 -> 0 | M5: =RANK(L5,$L$5:$L$34) -> 4 | N5: =RANK(L5,$L$5:$L$64) -> 12 | P5: =LARGE($B5:$J5,P$4) -> 0 | Q5: =LARGE($B5:$J5,Q$4) -> 0 | R5: =LARGE($B5:$J5,R$4) -> 0 | S5: =LARGE($B5:$J5,S$4) -> 0 | T5: =LARGE($B5:$J5,T$4) -> 0 | U5: =LARGE($B5:$J5,U$4) -> 0 | V5: =SUM(P5:OFFSET(P5,0,($V$4-1))) -> 0
A6: ='Boat Name'!A6 -> Cheraz | B6: =IF('Boat Name'!G6>0,IF(OFFSET($B$3,0,'Boat Name'!G6-14, )=1,IF('Boat Name'!$C$2=0,OFFSET($B$1,0,'Boat Name'!G6-14),IF('Boat Name'!$C$2=1,OFFSET($B$3,0,'Boat Name'!G6-14)*100,"")),""),"") | C6: =IF(C$3=1,'F1'!$O6,0) -> 0 | D6: =IF(D$3=1,'F2'!$O6,0) -> 0 | E6: =IF(E$3=1,'F3'!$O6,0) -> 0 | F6: =IF(F$3=1,'F4'!$O6,0) -> 0 | G6: =IF(G$3=1,'F5'!$O6,0) -> 0 | H6: =IF(H$3=1,'F6'!$O6,0) -> 0 | I6: =IF(I$3=1,'F7'!$O6,0) -> 0 | J6: =IF(J$3=1,'F8'!$O6,0) -> 0 | K6: =SUM(B6:J6) -> 0 | L6: =V6 -> 0 | M6: =RANK(L6,$L$5:$L$34) -> 4 | N6: =RANK(L6,$L$5:$L$64) -> 12 | P6: =LARGE($B6:$J6,P$4) -> 0 | Q6: =LARGE($B6:$J6,Q$4) -> 0 | R6: =LARGE($B6:$J6,R$4) -> 0 | S6: =LARGE($B6:$J6,S$4) -> 0 | T6: =LARGE($B6:$J6,T$4) -> 0 | U6: =LARGE($B6:$J6,U$4) -> 0 | V6: =SUM(P6:OFFSET(P6,0,($V$4-1))) -> 0
A7: ='Boat Name'!A7 -> Dilemma | B7: =IF('Boat Name'!G7>0,IF(OFFSET($B$3,0,'Boat Name'!G7-14, )=1,IF('Boat Name'!$C$2=0,OFFSET($B$1,0,'Boat Name'!G7-14),IF('Boat Name'!$C$2=1,OFFSET($B$3,0,'Boat Name'!G7-14)*100,"")),""),"") | C7: =IF(C$3=1,'F1'!$O7,0) -> 0 | D7: =IF(D$3=1,'F2'!$O7,0) -> 0 | E7: =IF(E$3=1,'F3'!$O7,0) -> 0 | F7: =IF(F$3=1,'F4'!$O7,0) -> 0 | G7: =IF(G$3=1,'F5'!$O7,0) -> 0 | H7: =IF(H$3=1,'F6'!$O7,0) -> 0 | I7: =IF(I$3=1,'F7'!$O7,0) -> 0 | J7: =IF(J$3=1,'F8'!$O7,0) -> 0 | K7: =SUM(B7:J7) -> 0 | L7: =V7 -> 0 | M7: =RANK(L7,$L$5:$L$34) -> 4 | N7: =RANK(L7,$L$5:$L$64) -> 12 | P7: =LARGE($B7:$J7,P$4) -> 0 | Q7: =LARGE($B7:$J7,Q$4) -> 0 | R7: =LARGE($B7:$J7,R$4) -> 0 | S7: =LARGE($B7:$J7,S$4) -> 0 | T7: =LARGE($B7:$J7,T$4) -> 0 | U7: =LARGE($B7:$J7,U$4) -> 0 | V7: =SUM(P7:OFFSET(P7,0,($V$4-1))) -> 0
A8: ='Boat Name'!A8 -> Dulcinea | B8: =IF('Boat Name'!G8>0,IF(OFFSET($B$3,0,'Boat Name'!G8-14, )=1,IF('Boat Name'!$C$2=0,OFFSET($B$1,0,'Boat Name'!G8-14),IF('Boat Name'!$C$2=1,OFFSET($B$3,0,'Boat Name'!G8-14)*100,"")),""),"") | C8: =IF(C$3=1,'F1'!$O8,0) -> 0 | D8: =IF(D$3=1,'F2'!$O8,0) -> 0 | E8: =IF(E$3=1,'F3'!$O8,0) -> 0 | F8: =IF(F$3=1,'F4'!$O8,0) -> 0 | G8: =IF(G$3=1,'F5'!$O8,0) -> 0 | H8: =IF(H$3=1,'F6'!$O8,0) -> 0 | I8: =IF(I$3=1,'F7'!$O8,0) -> 0 | J8: =IF(J$3=1,'F8'!$O8,0) -> 0 | K8: =SUM(B8:J8) -> 0 | L8: =V8 -> 0 | M8: =RANK(L8,$L$5:$L$34) -> 4 | N8: =RANK(L8,$L$5:$L$64) -> 12 | P8: =LARGE($B8:$J8,P$4) -> 0 | Q8: =LARGE($B8:$J8,Q$4) -> 0 | R8: =LARGE($B8:$J8,R$4) -> 0 | S8: =LARGE($B8:$J8,S$4) -> 0 | T8: =LARGE($B8:$J8,T$4) -> 0 | U8: =LARGE($B8:$J8,U$4) -> 0 | V8: =SUM(P8:OFFSET(P8,0,($V$4-1))) -> 0
A9: ='Boat Name'!A9 -> Eclipse | B9: =IF('Boat Name'!G9>0,IF(OFFSET($B$3,0,'Boat Name'!G9-14, )=1,IF('Boat Name'!$C$2=0,OFFSET($B$1,0,'Boat Name'!G9-14),IF('Boat Name'!$C$2=1,OFFSET($B$3,0,'Boat Name'!G9-14)*100,"")),""),"") | C9: =IF(C$3=1,'F1'!$O9,0) -> 0 | D9: =IF(D$3=1,'F2'!$O9,0) -> 0 | E9: =IF(E$3=1,'F3'!$O9,0) -> 0 | F9: =IF(F$3=1,'F4'!$O9,0) -> 0 | G9: =IF(G$3=1,'F5'!$O9,0) -> 0 | H9: =IF(H$3=1,'F6'!$O9,0) -> 0 | I9: =IF(I$3=1,'F7'!$O9,0) -> 0 | J9: =IF(J$3=1,'F8'!$O9,0) -> 0 | K9: =SUM(B9:J9) -> 0 | L9: =V9 -> 0 | M9: =RANK(L9,$L$5:$L$34) -> 4 | N9: =RANK(L9,$L$5:$L$64) -> 12 | P9: =LARGE($B9:$J9,P$4) -> 0 | Q9: =LARGE($B9:$J9,Q$4) -> 0 | R9: =LARGE($B9:$J9,R$4) -> 0 | S9: =LARGE($B9:$J9,S$4) -> 0 | T9: =LARGE($B9:$J9,T$4) -> 0 | U9: =LARGE($B9:$J9,U$4) -> 0 | V9: =SUM(P9:OFFSET(P9,0,($V$4-1))) -> 0
A10: ='Boat Name'!A10 -> Electra | B10: =IF('Boat Name'!G10>0,IF(OFFSET($B$3,0,'Boat Name'!G10-14, )=1,IF('Boat Name'!$C$2=0,OFFSET($B$1,0,'Boat Name'!G10-14),IF('Boat Name'!$C$2=1,OFFSET($B$3,0,'Boat Name'!G10-14)*100,"")),""),"") | C10: =IF(C$3=1,'F1'!$O10,0) -> 0 | D10: =IF(D$3=1,'F2'!$O10,0) -> 0 | E10: =IF(E$3=1,'F3'!$O10,0) -> 0 | F10: =IF(F$3=1,'F4'!$O10,0) -> 0 | G10: =IF(G$3=1,'F5'!$O10,0) -> 0 | H10: =IF(H$3=1,'F6'!$O10,0) -> 0 | I10: =IF(I$3=1,'F7'!$O10,0) -> 0 | J10: =IF(J$3=1,'F8'!$O10,0) -> 0 | K10: =SUM(B10:J10) -> 0 | L10: =V10 -> 0 | M10: =RANK(L10,$L$5:$L$34) -> 4 | N10: =RANK(L10,$L$5:$L$64) -> 12 | P10: =LARGE($B10:$J10,P$4) -> 0 | Q10: =LARGE($B10:$J10,Q$4) -> 0 | R10: =LARGE($B10:$J10,R$4) -> 0 | S10: =LARGE($B10:$J10,S$4) -> 0 | T10: =LARGE($B10:$J10,T$4) -> 0 | U10: =LARGE($B10:$J10,U$4) -> 0 | V10: =SUM(P10:OFFSET(P10,0,($V$4-1))) -> 0
A11: ='Boat Name'!A11 -> Fast Eddy | B11: =IF('Boat Name'!G11>0,IF(OFFSET($B$3,0,'Boat Name'!G11-14, )=1,IF('Boat Name'!$C$2=0,OFFSET($B$1,0,'Boat Name'!G11-14),IF('Boat Name'!$C$2=1,OFFSET($B$3,0,'Boat Name'!G11-14)*100,"")),""),"") | C11: =IF(C$3=1,'F1'!$O11,0) -> 0 | D11: =IF(D$3=1,'F2'!$O11,0) -> 0 | E11: =IF(E$3=1,'F3'!$O11,0) -> 0 | F11: =IF(F$3=1,'F4'!$O11,0) -> 0 | G11: =IF(G$3=1,'F5'!$O11,0) -> 0 | H11: =IF(H$3=1,'F6'!$O11,0) -> 0 | I11: =IF(I$3=1,'F7'!$O11,0) -> 0 | J11: =IF(J$3=1,'F8'!$O11,0) -> 0 | K11: =SUM(B11:J11) -> 0 | L11: =V11 -> 0 | M11: =RANK(L11,$L$5:$L$34) -> 4 | N11: =RANK(L11,$L$5:$L$64) -> 12 | P11: =LARGE($B11:$J11,P$4) -> 0 | Q11: =LARGE($B11:$J11,Q$4) -> 0 | R11: =LARGE($B11:$J11,R$4) -> 0 | S11: =LARGE($B11:$J11,S$4) -> 0 | T11: =LARGE($B11:$J11,T$4) -> 0 | U11: =LARGE($B11:$J11,U$4) -> 0 | V11: =SUM(P11:OFFSET(P11,0,($V$4-1))) -> 0
A12: ='Boat Name'!A12 -> Golden Rule | B12: =IF('Boat Name'!G12>0,IF(OFFSET($B$3,0,'Boat Name'!G12-14, )=1,IF('Boat Name'!$C$2=0,OFFSET($B$1,0,'Boat Name'!G12-14),IF('Boat Name'!$C$2=1,OFFSET($B$3,0,'Boat Name'!G12-14)*100,"")),""),"") | C12: =IF(C$3=1,'F1'!$O12,0) -> 0 | D12: =IF(D$3=1,'F2'!$O12,0) -> 0 | E12: =IF(E$3=1,'F3'!$O12,0) -> 0 | F12: =IF(F$3=1,'F4'!$O12,0) -> 0 | G12: =IF(G$3=1,'F5'!$O12,0) -> 0 | H12: =IF(H$3=1,'F6'!$O12,0) -> 0 | I12: =IF(I$3=1,'F7'!$O12,0) -> 0 | J12: =IF(J$3=1,'F8'!$O12,0) -> 0 | K12: =SUM(B12:J12) -> 0 | L12: =V12 -> 0 | M12: =RANK(L12,$L$5:$L$34) -> 4 | N12: =RANK(L12,$L$5:$L$64) -> 12 | P12: =LARGE($B12:$J12,P$4) -> 0 | Q12: =LARGE($B12:$J12,Q$4) -> 0 | R12: =LARGE($B12:$J12,R$4) -> 0 | S12: =LARGE($B12:$J12,S$4) -> 0 | T12: =LARGE($B12:$J12,T$4) -> 0 | U12: =LARGE($B12:$J12,U$4) -> 0 | V12: =SUM(P12:OFFSET(P12,0,($V$4-1))) -> 0
A13: ='Boat Name'!A13 -> Grand Cru | B13: =IF('Boat Name'!G13>0,IF(OFFSET($B$3,0,'Boat Name'!G13-14, )=1,IF('Boat Name'!$C$2=0,OFFSET($B$1,0,'Boat Name'!G13-14),IF('Boat Name'!$C$2=1,OFFSET($B$3,0,'Boat Name'!G13-14)*100,"")),""),"") | C13: =IF(C$3=1,'F1'!$O13,0) -> 0 | D13: =IF(D$3=1,'F2'!$O13,0) -> 0 | E13: =IF(E$3=1,'F3'!$O13,0) -> 0 | F13: =IF(F$3=1,'F4'!$O13,0) -> 0 | G13: =IF(G$3=1,'F5'!$O13,0) -> 0 | H13: =IF(H$3=1,'F6'!$O13,0) -> 0 | I13: =IF(I$3=1,'F7'!$O13,0) -> 0 | J13: =IF(J$3=1,'F8'!$O13,0) -> 0 | K13: =SUM(B13:J13) -> 0 | L13: =V13 -> 0 | M13: =RANK(L13,$L$5:$L$34) -> 4 | N13: =RANK(L13,$L$5:$L$64) -> 12 | P13: =LARGE($B13:$J13,P$4) -> 0 | Q13: =LARGE($B13:$J13,Q$4) -> 0 | R13: =LARGE($B13:$J13,R$4) -> 0 | S13: =LARGE($B13:$J13,S$4) -> 0 | T13: =LARGE($B13:$J13,T$4) -> 0 | U13: =LARGE($B13:$J13,U$4) -> 0 | V13: =SUM(P13:OFFSET(P13,0,($V$4-1))) -> 0
A14: ='Boat Name'!A14 -> Irish Mist | B14: =IF('Boat Name'!G14>0,IF(OFFSET($B$3,0,'Boat Name'!G14-14, )=1,IF('Boat Name'!$C$2=0,OFFSET($B$1,0,'Boat Name'!G14-14),IF('Boat Name'!$C$2=1,OFFSET($B$3,0,'Boat Name'!G14-14)*100,"")),""),"") | C14: =IF(C$3=1,'F1'!$O14,0) -> 0 | D14: =IF(D$3=1,'F2'!$O14,0) -> 0 | E14: =IF(E$3=1,'F3'!$O14,0) -> 0 | F14: =IF(F$3=1,'F4'!$O14,0) -> 80 | G14: =IF(G$3=1,'F5'!$O14,0) -> 0 | H14: =IF(H$3=1,'F6'!$O14,0) -> 0 | I14: =IF(I$3=1,'F7'!$O14,0) -> 0 | J14: =IF(J$3=1,'F8'!$O14,0) -> 0 | K14: =SUM(B14:J14) -> 80 | L14: =V14 -> 80 | M14: =RANK(L14,$L$5:$L$34) -> 1 | N14: =RANK(L14,$L$5:$L$64) -> 7 | P14: =LARGE($B14:$J14,P$4) -> 80 | Q14: =LARGE($B14:$J14,Q$4) -> 0 | R14: =LARGE($B14:$J14,R$4) -> 0 | S14: =LARGE($B14:$J14,S$4) -> 0 | T14: =LARGE($B14:$J14,T$4) -> 0 | U14: =LARGE($B14:$J14,U$4) -> 0 | V14: =SUM(P14:OFFSET(P14,0,($V$4-1))) -> 80
A15: ='Boat Name'!A15 -> Jesse Leigh | B15: =IF('Boat Name'!G15>0,IF(OFFSET($B$3,0,'Boat Name'!G15-14, )=1,IF('Boat Name'!$C$2=0,OFFSET($B$1,0,'Boat Name'!G15-14),IF('Boat Name'!$C$2=1,OFFSET($B$3,0,'Boat Name'!G15-14)*100,"")),""),"") | C15: =IF(C$3=1,'F1'!$O15,0) -> 0 | D15: =IF(D$3=1,'F2'!$O15,0) -> 0 | E15: =IF(E$3=1,'F3'!$O15,0) -> 0 | F15: =IF(F$3=1,'F4'!$O15,0) -> 0 | G15: =IF(G$3=1,'F5'!$O15,0) -> 0 | H15: =IF(H$3=1,'F6'!$O15,0) -> 0 | I15: =IF(I$3=1,'F7'!$O15,0) -> 0 | J15: =IF(J$3=1,'F8'!$O15,0) -> 0 | K15: =SUM(B15:J15) -> 0 | L15: =V15 -> 0 | M15: =RANK(L15,$L$5:$L$34) -> 4 | N15: =RANK(L15,$L$5:$L$64) -> 12 | P15: =LARGE($B15:$J15,P$4) -> 0 | Q15: =LARGE($B15:$J15,Q$4) -> 0 | R15: =LARGE($B15:$J15,R$4) -> 0 | S15: =LARGE($B15:$J15,S$4) -> 0 | T15: =LARGE($B15:$J15,T$4) -> 0 | U15: =LARGE($B15:$J15,U$4) -> 0 | V15: =SUM(P15:OFFSET(P15,0,($V$4-1))) -> 0
A16: ='Boat Name'!A16 -> L'Arch De | B16: =IF('Boat Name'!G16>0,IF(OFFSET($B$3,0,'Boat Name'!G16-14, )=1,IF('Boat Name'!$C$2=0,OFFSET($B$1,0,'Boat Name'!G16-14),IF('Boat Name'!$C$2=1,OFFSET($B$3,0,'Boat Name'!G16-14)*100,"")),""),"") | C16: =IF(C$3=1,'F1'!$O16,0) -> 0 | D16: =IF(D$3=1,'F2'!$O16,0) -> 0 | E16: =IF(E$3=1,'F3'!$O16,0) -> 0 | F16: =IF(F$3=1,'F4'!$O16,0) -> 0 | G16: =IF(G$3=1,'F5'!$O16,0) -> 0 | H16: =IF(H$3=1,'F6'!$O16,0) -> 0 | I16: =IF(I$3=1,'F7'!$O16,0) -> 0 | J16: =IF(J$3=1,'F8'!$O16,0) -> 0 | K16: =SUM(B16:J16) -> 0 | L16: =V16 -> 0 | M16: =RANK(L16,$L$5:$L$34) -> 4 | N16: =RANK(L16,$L$5:$L$64) -> 12 | P16: =LARGE($B16:$J16,P$4) -> 0 | Q16: =LARGE($B16:$J16,Q$4) -> 0 | R16: =LARGE($B16:$J16,R$4) -> 0 | S16: =LARGE($B16:$J16,S$4) -> 0 | T16: =LARGE($B16:$J16,T$4) -> 0 | U16: =LARGE($B16:$J16,U$4) -> 0 | V16: =SUM(P16:OFFSET(P16,0,($V$4-1))) -> 0
... A34: ='Boat Name'!A34 -> 0 | B34: =IF('Boat Name'!G34>0,IF(OFFSET($B$3,0,'Boat Name'!G34-14, )=1,IF('Boat Name'!$C$2=0,OFFSET($B$1,0,'Boat Name'!G34-14),IF('Boat Name'!$C$2=1,OFFSET($B$3,0,'Boat Name'!G34-14)*100,"")),""),"") | C34: =IF(C$3=1,'F1'!$O34,0) -> 0 | D34: =IF(D$3=1,'F2'!$O34,0) -> 0 | E34: =IF(E$3=1,'F3'!$O34,0) -> 0 | F34: =IF(F$3=1,'F4'!$O34,0) -> 0 | G34: =IF(G$3=1,'F5'!$O34,0) -> 0 | H34: =IF(H$3=1,'F6'!$O34,0) -> 0 | I34: =IF(I$3=1,'F7'!$O34,0) -> 0 | J34: =IF(J$3=1,'F8'!$O34,0) -> 0 | K34: =SUM(B34:J34) -> 0 | L34: =V34 -> 0 | M34: =RANK(L34,$L$5:$L$34) -> 4 | N34: =RANK(L34,$L$5:$L$64) -> 12 | P34: =LARGE($B34:$J34,P$4) -> 0 | Q34: =LARGE($B34:$J34,Q$4) -> 0 | R34: =LARGE($B34:$J34,R$4) -> 0 | S34: =LARGE($B34:$J34,S$4) -> 0 | T34: =LARGE($B34:$J34,T$4) -> 0 | U34: =LARGE($B34:$J34,U$4) -> 0 | V34: =SUM(P34:OFFSET(P34,0,($V$4-1))) -> 0
A36: High Score | B36: Sunday | C36: =LARGE(C39:C74,1) -> 0 | D36: =LARGE(D39:D74,1) -> 0 | E36: =LARGE(E39:E74,1) -> 0 | F36: =LARGE(F39:F74,1) -> 90 | G36: =LARGE(G39:G74,1) -> 87 | H36: =LARGE(H39:H74,1) -> 87 | I36: =LARGE(I39:I74,1) -> 0 | J36: =LARGE(J39:J74,1) -> 0 | V36: 60% Rule
A37: ='Boat Name'!A2 -> Season 2026 | B37: CB Duty | C37: =C2 -> 46278 | D37: =D2 -> 46285 | E37: =E2 -> 46292 | F37: 42645 | G37: =G2 -> 46306 | H37: =H2 -> 46313 | I37: =I2 -> 46320 | J37: =J2 -> 0 | K37: Sum | M37: Class | N37: Overall | V37: # of Races
A38: Boat Name, Racing | B38: Score | C38: R1 | D38: R2 | E38: R3 | F38: R4 | G38: R5 | H38: R6 | I38: R7 | J38: R8 | K38: Total | L38: =L4 -> 60% Total | M38: Standing | N38: Standing | P38: 1 | Q38: 2 | R38: 3 | S38: 4 | T38: 5 | U38: 6 | V38: 4
A39: ='Boat Name'!A39 -> Alive | B39: =IF('Boat Name'!G39>0,IF(OFFSET($B$3,0,'Boat Name'!G39-14, )=1,IF('Boat Name'!$C$2=0,OFFSET($B$36,0,'Boat Name'!G39-14),IF('Boat Name'!$C$2=1,OFFSET($B$3,0,'Boat Name'!G39-14)*100,"")),""),"") | C39: =IF(C$3=1,'F1'!$O39,0) -> 0 | D39: =IF(D$3=1,'F2'!$O39,0) -> 0 | E39: =IF(E$3=1,'F3'!$O39,0) -> 0 | F39: =IF(F$3=1,'F4'!$O39,0) -> 0 | G39: =IF(G$3=1,'F5'!$O39,0) -> 81 | H39: =IF(H$3=1,'F6'!$O39,0) -> 0 | I39: =IF(I$3=1,'F7'!$O39,0) -> 0 | J39: =IF(J$3=1,'F8'!$O39,0) -> 0 | K39: =SUM(B39:J39) -> 81 | L39: =V39 -> 81 | M39: =RANK(L39,$L$39:$L$75) -> 6 | N39: =RANK(L39,$L$5:$L$75) -> 6 | P39: =LARGE($B39:$J39,P$4) -> 81 | Q39: =LARGE($B39:$J39,Q$4) -> 0 | R39: =LARGE($B39:$J39,R$4) -> 0 | S39: =LARGE($B39:$J39,S$4) -> 0 | T39: =LARGE($B39:$J39,T$4) -> 0 | U39: =LARGE($B39:$J39,U$4) -> 0 | V39: =SUM(P39:OFFSET(P39,0,($V$38-1))) -> 81
A40: ='Boat Name'!A40 -> Dilemma | B40: =IF('Boat Name'!G40>0,IF(OFFSET($B$3,0,'Boat Name'!G40-14, )=1,IF('Boat Name'!$C$2=0,OFFSET($B$36,0,'Boat Name'!G40-14),IF('Boat Name'!$C$2=1,OFFSET($B$3,0,'Boat Name'!G40-14)*100,"")),""),"") | C40: =IF(C$3=1,'F1'!$O40,0) -> 0 | D40: =IF(D$3=1,'F2'!$O40,0) -> 0 | E40: =IF(E$3=1,'F3'!$O40,0) -> 0 | F40: =IF(F$3=1,'F4'!$O40,0) -> 0 | G40: =IF(G$3=1,'F5'!$O40,0) -> 0 | H40: =IF(H$3=1,'F6'!$O40,0) -> 73 | I40: =IF(I$3=1,'F7'!$O40,0) -> 0 | J40: =IF(J$3=1,'F8'!$O40,0) -> 0 | K40: =SUM(B40:J40) -> 73 | L40: =V40 -> 73 | M40: =RANK(L40,$L$39:$L$75) -> 8 | N40: =RANK(L40,$L$5:$L$75) -> 11 | P40: =LARGE($B40:$J40,P$4) -> 73 | Q40: =LARGE($B40:$J40,Q$4) -> 0 | R40: =LARGE($B40:$J40,R$4) -> 0 | S40: =LARGE($B40:$J40,S$4) -> 0 | T40: =LARGE($B40:$J40,T$4) -> 0 | U40: =LARGE($B40:$J40,U$4) -> 0 | V40: =SUM(P40:OFFSET(P40,0,($V$38-1))) -> 73
A41: ='Boat Name'!A41 -> Doubledown - Sail Last | B41: =IF('Boat Name'!G41>0,IF(OFFSET($B$3,0,'Boat Name'!G41-14, )=1,IF('Boat Name'!$C$2=0,OFFSET($B$36,0,'Boat Name'!G41-14),IF('Boat Name'!$C$2=1,OFFSET($B$3,0,'Boat Name'!G41-14)*100,"")),""),"") | C41: =IF(C$3=1,'F1'!$O41,0) -> 0 | D41: =IF(D$3=1,'F2'!$O41,0) -> 0 | E41: =IF(E$3=1,'F3'!$O41,0) -> 0 | F41: =IF(F$3=1,'F4'!$O41,0) -> 0 | G41: =IF(G$3=1,'F5'!$O41,0) -> 0 | H41: =IF(H$3=1,'F6'!$O41,0) -> 0 | I41: =IF(I$3=1,'F7'!$O41,0) -> 0 | J41: =IF(J$3=1,'F8'!$O41,0) -> 0 | K41: =SUM(B41:J41) -> 0 | L41: =V41 -> 0 | M41: =RANK(L41,$L$39:$L$75) -> 9 | N41: =RANK(L41,$L$5:$L$75) -> 12 | P41: =LARGE($B41:$J41,P$4) -> 0 | Q41: =LARGE($B41:$J41,Q$4) -> 0 | R41: =LARGE($B41:$J41,R$4) -> 0 | S41: =LARGE($B41:$J41,S$4) -> 0 | T41: =LARGE($B41:$J41,T$4) -> 0 | U41: =LARGE($B41:$J41,U$4) -> 0 | V41: =SUM(P41:OFFSET(P41,0,($V$38-1))) -> 0
A42: ='Boat Name'!A42 -> Dulcinea | B42: =IF('Boat Name'!G42>0,IF(OFFSET($B$3,0,'Boat Name'!G42-14, )=1,IF('Boat Name'!$C$2=0,OFFSET($B$36,0,'Boat Name'!G42-14),IF('Boat Name'!$C$2=1,OFFSET($B$3,0,'Boat Name'!G42-14)*100,"")),""),"") | C42: =IF(C$3=1,'F1'!$O42,0) -> 0 | D42: =IF(D$3=1,'F2'!$O42,0) -> 0 | E42: =IF(E$3=1,'F3'!$O42,0) -> 0 | F42: =IF(F$3=1,'F4'!$O42,0) -> 75 | G42: =IF(G$3=1,'F5'!$O42,0) -> 77 | H42: =IF(H$3=1,'F6'!$O42,0) -> 0 | I42: =IF(I$3=1,'F7'!$O42,0) -> 0 | J42: =IF(J$3=1,'F8'!$O42,0) -> 0 | K42: =SUM(B42:J42) -> 152 | L42: =V42 -> 152 | M42: =RANK(L42,$L$39:$L$75) -> 3 | N42: =RANK(L42,$L$5:$L$75) -> 3 | P42: =LARGE($B42:$J42,P$4) -> 77 | Q42: =LARGE($B42:$J42,Q$4) -> 75 | R42: =LARGE($B42:$J42,R$4) -> 0 | S42: =LARGE($B42:$J42,S$4) -> 0 | T42: =LARGE($B42:$J42,T$4) -> 0 | U42: =LARGE($B42:$J42,U$4) -> 0 | V42: =SUM(P42:OFFSET(P42,0,($V$38-1))) -> 152
A43: ='Boat Name'!A43 -> Eclipse | B43: =IF('Boat Name'!G43>0,IF(OFFSET($B$3,0,'Boat Name'!G43-14, )=1,IF('Boat Name'!$C$2=0,OFFSET($B$36,0,'Boat Name'!G43-14),IF('Boat Name'!$C$2=1,OFFSET($B$3,0,'Boat Name'!G43-14)*100,"")),""),"") | C43: =IF(C$3=1,'F1'!$O43,0) -> 0 | D43: =IF(D$3=1,'F2'!$O43,0) -> 0 | E43: =IF(E$3=1,'F3'!$O43,0) -> 0 | F43: =IF(F$3=1,'F4'!$O43,0) -> 0 | G43: =IF(G$3=1,'F5'!$O43,0) -> 0 | H43: =IF(H$3=1,'F6'!$O43,0) -> 0 | I43: =IF(I$3=1,'F7'!$O43,0) -> 0 | J43: =IF(J$3=1,'F8'!$O43,0) -> 0 | K43: =SUM(B43:J43) -> 0 | L43: =V43 -> 0 | M43: =RANK(L43,$L$39:$L$75) -> 9 | N43: =RANK(L43,$L$5:$L$75) -> 12 | P43: =LARGE($B43:$J43,P$4) -> 0 | Q43: =LARGE($B43:$J43,Q$4) -> 0 | R43: =LARGE($B43:$J43,R$4) -> 0 | S43: =LARGE($B43:$J43,S$4) -> 0 | T43: =LARGE($B43:$J43,T$4) -> 0 | U43: =LARGE($B43:$J43,U$4) -> 0 | V43: =SUM(P43:OFFSET(P43,0,($V$38-1))) -> 0
A44: ='Boat Name'!A44 -> Gardian J | B44: =IF('Boat Name'!G44>0,IF(OFFSET($B$3,0,'Boat Name'!G44-14, )=1,IF('Boat Name'!$C$2=0,OFFSET($B$36,0,'Boat Name'!G44-14),IF('Boat Name'!$C$2=1,OFFSET($B$3,0,'Boat Name'!G44-14)*100,"")),""),"") | C44: =IF(C$3=1,'F1'!$O44,0) -> 0 | D44: =IF(D$3=1,'F2'!$O44,0) -> 0 | E44: =IF(E$3=1,'F3'!$O44,0) -> 0 | F44: =IF(F$3=1,'F4'!$O44,0) -> 0 | G44: =IF(G$3=1,'F5'!$O44,0) -> 0 | H44: =IF(H$3=1,'F6'!$O44,0) -> 0 | I44: =IF(I$3=1,'F7'!$O44,0) -> 0 | J44: =IF(J$3=1,'F8'!$O44,0) -> 0 | K44: =SUM(B44:J44) -> 0 | L44: =V44 -> 0 | M44: =RANK(L44,$L$39:$L$75) -> 9 | N44: =RANK(L44,$L$5:$L$75) -> 12 | P44: =LARGE($B44:$J44,P$4) -> 0 | Q44: =LARGE($B44:$J44,Q$4) -> 0 | R44: =LARGE($B44:$J44,R$4) -> 0 | S44: =LARGE($B44:$J44,S$4) -> 0 | T44: =LARGE($B44:$J44,T$4) -> 0 | U44: =LARGE($B44:$J44,U$4) -> 0 | V44: =SUM(P44:OFFSET(P44,0,($V$38-1))) -> 0
A45: ='Boat Name'!A45 -> Invicta | B45: =IF('Boat Name'!G45>0,IF(OFFSET($B$3,0,'Boat Name'!G45-14, )=1,IF('Boat Name'!$C$2=0,OFFSET($B$36,0,'Boat Name'!G45-14),IF('Boat Name'!$C$2=1,OFFSET($B$3,0,'Boat Name'!G45-14)*100,"")),""),"") | C45: =IF(C$3=1,'F1'!$O45,0) -> 0 | D45: =IF(D$3=1,'F2'!$O45,0) -> 0 | E45: =IF(E$3=1,'F3'!$O45,0) -> 0 | F45: =IF(F$3=1,'F4'!$O45,0) -> 0 | G45: =IF(G$3=1,'F5'!$O45,0) -> 0 | H45: =IF(H$3=1,'F6'!$O45,0) -> 0 | I45: =IF(I$3=1,'F7'!$O45,0) -> 0 | J45: =IF(J$3=1,'F8'!$O45,0) -> 0 | K45: =SUM(B45:J45) -> 0 | L45: =V45 -> 0 | M45: =RANK(L45,$L$39:$L$75) -> 9 | N45: =RANK(L45,$L$5:$L$75) -> 12 | P45: =LARGE($B45:$J45,P$4) -> 0 | Q45: =LARGE($B45:$J45,Q$4) -> 0 | R45: =LARGE($B45:$J45,R$4) -> 0 | S45: =LARGE($B45:$J45,S$4) -> 0 | T45: =LARGE($B45:$J45,T$4) -> 0 | U45: =LARGE($B45:$J45,U$4) -> 0 | V45: =SUM(P45:OFFSET(P45,0,($V$38-1))) -> 0
A46: ='Boat Name'!A46 -> Jesse Leigh | B46: =IF('Boat Name'!G46>0,IF(OFFSET($B$3,0,'Boat Name'!G46-14, )=1,IF('Boat Name'!$C$2=0,OFFSET($B$36,0,'Boat Name'!G46-14),IF('Boat Name'!$C$2=1,OFFSET($B$3,0,'Boat Name'!G46-14)*100,"")),""),"") | C46: =IF(C$3=1,'F1'!$O46,0) -> 0 | D46: =IF(D$3=1,'F2'!$O46,0) -> 0 | E46: =IF(E$3=1,'F3'!$O46,0) -> 0 | F46: =IF(F$3=1,'F4'!$O46,0) -> 84 | G46: =IF(G$3=1,'F5'!$O46,0) -> 0 | H46: =IF(H$3=1,'F6'!$O46,0) -> 0 | I46: =IF(I$3=1,'F7'!$O46,0) -> 0 | J46: =IF(J$3=1,'F8'!$O46,0) -> 0 | K46: =SUM(B46:J46) -> 84 | L46: =V46 -> 84 | M46: =RANK(L46,$L$39:$L$75) -> 5 | N46: =RANK(L46,$L$5:$L$75) -> 5 | P46: =LARGE($B46:$J46,P$4) -> 84 | Q46: =LARGE($B46:$J46,Q$4) -> 0 | R46: =LARGE($B46:$J46,R$4) -> 0 | S46: =LARGE($B46:$J46,S$4) -> 0 | T46: =LARGE($B46:$J46,T$4) -> 0 | U46: =LARGE($B46:$J46,U$4) -> 0 | V46: =SUM(P46:OFFSET(P46,0,($V$38-1))) -> 84
A47: ='Boat Name'!A47 -> Kestrel | B47: =IF('Boat Name'!G47>0,IF(OFFSET($B$3,0,'Boat Name'!G47-14, )=1,IF('Boat Name'!$C$2=0,OFFSET($B$36,0,'Boat Name'!G47-14),IF('Boat Name'!$C$2=1,OFFSET($B$3,0,'Boat Name'!G47-14)*100,"")),""),"") | C47: =IF(C$3=1,'F1'!$O47,0) -> 0 | D47: =IF(D$3=1,'F2'!$O47,0) -> 0 | E47: =IF(E$3=1,'F3'!$O47,0) -> 0 | F47: =IF(F$3=1,'F4'!$O47,0) -> 0 | G47: =IF(G$3=1,'F5'!$O47,0) -> 73 | H47: =IF(H$3=1,'F6'!$O47,0) -> 87 | I47: =IF(I$3=1,'F7'!$O47,0) -> 0 | J47: =IF(J$3=1,'F8'!$O47,0) -> 0 | K47: =SUM(B47:J47) -> 160 | L47: =V47 -> 160 | M47: =RANK(L47,$L$39:$L$75) -> 2 | N47: =RANK(L47,$L$5:$L$75) -> 2 | P47: =LARGE($B47:$J47,P$4) -> 87 | Q47: =LARGE($B47:$J47,Q$4) -> 73 | R47: =LARGE($B47:$J47,R$4) -> 0 | S47: =LARGE($B47:$J47,S$4) -> 0 | T47: =LARGE($B47:$J47,T$4) -> 0 | U47: =LARGE($B47:$J47,U$4) -> 0 | V47: =SUM(P47:OFFSET(P47,0,($V$38-1))) -> 160
A48: ='Boat Name'!A48 -> Madcap | B48: =IF('Boat Name'!G48>0,IF(OFFSET($B$3,0,'Boat Name'!G48-14, )=1,IF('Boat Name'!$C$2=0,OFFSET($B$36,0,'Boat Name'!G48-14),IF('Boat Name'!$C$2=1,OFFSET($B$3,0,'Boat Name'!G48-14)*100,"")),""),"") | C48: =IF(C$3=1,'F1'!$O48,0) -> 0 | D48: =IF(D$3=1,'F2'!$O48,0) -> 0 | E48: =IF(E$3=1,'F3'!$O48,0) -> 0 | F48: =IF(F$3=1,'F4'!$O48,0) -> 0 | G48: =IF(G$3=1,'F5'!$O48,0) -> 0 | H48: =IF(H$3=1,'F6'!$O48,0) -> 0 | I48: =IF(I$3=1,'F7'!$O48,0) -> 0 | J48: =IF(J$3=1,'F8'!$O48,0) -> 0 | K48: =SUM(B48:J48) -> 0 | L48: =V48 -> 0 | M48: =RANK(L48,$L$39:$L$75) -> 9 | N48: =RANK(L48,$L$5:$L$75) -> 12 | P48: =LARGE($B48:$J48,P$4) -> 0 | Q48: =LARGE($B48:$J48,Q$4) -> 0 | R48: =LARGE($B48:$J48,R$4) -> 0 | S48: =LARGE($B48:$J48,S$4) -> 0 | T48: =LARGE($B48:$J48,T$4) -> 0 | U48: =LARGE($B48:$J48,U$4) -> 0 | V48: =SUM(P48:OFFSET(P48,0,($V$38-1))) -> 0
A49: ='Boat Name'!A49 -> Mademoiselle | B49: =IF('Boat Name'!G49>0,IF(OFFSET($B$3,0,'Boat Name'!G49-14, )=1,IF('Boat Name'!$C$2=0,OFFSET($B$36,0,'Boat Name'!G49-14),IF('Boat Name'!$C$2=1,OFFSET($B$3,0,'Boat Name'!G49-14)*100,"")),""),"") | C49: =IF(C$3=1,'F1'!$O49,0) -> 0 | D49: =IF(D$3=1,'F2'!$O49,0) -> 0 | E49: =IF(E$3=1,'F3'!$O49,0) -> 0 | F49: =IF(F$3=1,'F4'!$O49,0) -> 0 | G49: =IF(G$3=1,'F5'!$O49,0) -> 0 | H49: =IF(H$3=1,'F6'!$O49,0) -> 0 | I49: =IF(I$3=1,'F7'!$O49,0) -> 0 | J49: =IF(J$3=1,'F8'!$O49,0) -> 0 | K49: =SUM(B49:J49) -> 0 | L49: =V49 -> 0 | M49: =RANK(L49,$L$39:$L$75) -> 9 | N49: =RANK(L49,$L$5:$L$75) -> 12 | P49: =LARGE($B49:$J49,P$4) -> 0 | Q49: =LARGE($B49:$J49,Q$4) -> 0 | R49: =LARGE($B49:$J49,R$4) -> 0 | S49: =LARGE($B49:$J49,S$4) -> 0 | T49: =LARGE($B49:$J49,T$4) -> 0 | U49: =LARGE($B49:$J49,U$4) -> 0 | V49: =SUM(P49:OFFSET(P49,0,($V$38-1))) -> 0
A50: ='Boat Name'!A50 -> Magan | B50: =IF('Boat Name'!G50>0,IF(OFFSET($B$3,0,'Boat Name'!G50-14, )=1,IF('Boat Name'!$C$2=0,OFFSET($B$36,0,'Boat Name'!G50-14),IF('Boat Name'!$C$2=1,OFFSET($B$3,0,'Boat Name'!G50-14)*100,"")),""),"") | C50: =IF(C$3=1,'F1'!$O50,0) -> 0 | D50: =IF(D$3=1,'F2'!$O50,0) -> 0 | E50: =IF(E$3=1,'F3'!$O50,0) -> 0 | F50: =IF(F$3=1,'F4'!$O50,0) -> 0 | G50: =IF(G$3=1,'F5'!$O50,0) -> 0 | H50: =IF(H$3=1,'F6'!$O50,0) -> 0 | I50: =IF(I$3=1,'F7'!$O50,0) -> 0 | J50: =IF(J$3=1,'F8'!$O50,0) -> 0 | K50: =SUM(B50:J50) -> 0 | L50: =V50 -> 0 | M50: =RANK(L50,$L$39:$L$75) -> 9 | N50: =RANK(L50,$L$5:$L$75) -> 12 | P50: =LARGE($B50:$J50,P$4) -> 0 | Q50: =LARGE($B50:$J50,Q$4) -> 0 | R50: =LARGE($B50:$J50,R$4) -> 0 | S50: =LARGE($B50:$J50,S$4) -> 0 | T50: =LARGE($B50:$J50,T$4) -> 0 | U50: =LARGE($B50:$J50,U$4) -> 0 | V50: =SUM(P50:OFFSET(P50,0,($V$38-1))) -> 0
... A56: ='Boat Name'!A56 -> Glow Boat | B56: =IF('Boat Name'!G56>0,IF(OFFSET($B$3,0,'Boat Name'!G56-14, )=1,IF('Boat Name'!$C$2=0,OFFSET($B$36,0,'Boat Name'!G56-14),IF('Boat Name'!$C$2=1,OFFSET($B$3,0,'Boat Name'!G56-14)*100,"")),""),"") | C56: =IF(C$3=1,'F1'!$O56,0) -> 0 | D56: =IF(D$3=1,'F2'!$O56,0) -> 0 | E56: =IF(E$3=1,'F3'!$O56,0) -> 0 | F56: =IF(F$3=1,'F4'!$O56,0) -> 0 | G56: =IF(G$3=1,'F5'!$O56,0) -> 0 | H56: =IF(H$3=1,'F6'!$O56,0) -> 0 | I56: =IF(I$3=1,'F7'!$O56,0) -> 0 | J56: =IF(J$3=1,'F8'!$O56,0) -> 0 | K56: =SUM(B56:J56) -> 0 | L56: =V56 -> 0 | M56: =RANK(L56,$L$39:$L$75) -> 9 | N56: =RANK(L56,$L$5:$L$75) -> 12 | P56: =LARGE($B56:$J56,P$4) -> 0 | Q56: =LARGE($B56:$J56,Q$4) -> 0 | R56: =LARGE($B56:$J56,R$4) -> 0 | S56: =LARGE($B56:$J56,S$4) -> 0 | T56: =LARGE($B56:$J56,T$4) -> 0 | U56: =LARGE($B56:$J56,U$4) -> 0 | V56: =SUM(P56:OFFSET(P56,0,($V$38-1))) -> 0
A57: BeauChe | B57: =IF('Boat Name'!G57>0,IF(OFFSET($B$3,0,'Boat Name'!G57-14, )=1,IF('Boat Name'!$C$2=0,OFFSET($B$36,0,'Boat Name'!G57-14),IF('Boat Name'!$C$2=1,OFFSET($B$3,0,'Boat Name'!G57-14)*100,"")),""),"") | C57: =IF(C$3=1,'F1'!$O57,0) -> 0 | D57: =IF(D$3=1,'F2'!$O57,0) -> 0 | E57: =IF(E$3=1,'F3'!$O57,0) -> 0 | F57: =IF(F$3=1,'F4'!$O57,0) -> 90 | G57: =IF(G$3=1,'F5'!$O57,0) -> 87 | H57: =IF(H$3=1,'F6'!$O57,0) -> 81 | I57: =IF(I$3=1,'F7'!$O57,0) -> 0 | J57: =IF(J$3=1,'F8'!$O57,0) -> 0 | K57: =SUM(B57:J57) -> 258 | L57: =V57 -> 258 | M57: =RANK(L57,$L$39:$L$75) -> 1 | N57: =RANK(L57,$L$5:$L$75) -> 1 | P57: =LARGE($B57:$J57,P$4) -> 90 | Q57: =LARGE($B57:$J57,Q$4) -> 87 | R57: =LARGE($B57:$J57,R$4) -> 81 | S57: =LARGE($B57:$J57,S$4) -> 0 | T57: =LARGE($B57:$J57,T$4) -> 0 | U57: =LARGE($B57:$J57,U$4) -> 0 | V57: =SUM(P57:OFFSET(P57,0,($V$38-1))) -> 258
A58: ='Boat Name'!A58 -> TBD | B58: =IF('Boat Name'!G58>0,IF(OFFSET($B$3,0,'Boat Name'!G58-14, )=1,IF('Boat Name'!$C$2=0,OFFSET($B$36,0,'Boat Name'!G58-14),IF('Boat Name'!$C$2=1,OFFSET($B$3,0,'Boat Name'!G58-14)*100,"")),""),"") | C58: =IF(C$3=1,'F1'!$O58,0) -> 0 | D58: =IF(D$3=1,'F2'!$O58,0) -> 0 | E58: =IF(E$3=1,'F3'!$O58,0) -> 0 | F58: =IF(F$3=1,'F4'!$O58,0) -> 0 | G58: =IF(G$3=1,'F5'!$O58,0) -> 0 | H58: =IF(H$3=1,'F6'!$O58,0) -> 0 | I58: =IF(I$3=1,'F7'!$O58,0) -> 0 | J58: =IF(J$3=1,'F8'!$O58,0) -> 0 | K58: =SUM(B58:J58) -> 0 | L58: =V58 -> 0 | M58: =RANK(L58,$L$39:$L$75) -> 9 | N58: =RANK(L58,$L$5:$L$75) -> 12 | P58: =LARGE($B58:$J58,P$4) -> 0 | Q58: =LARGE($B58:$J58,Q$4) -> 0 | R58: =LARGE($B58:$J58,R$4) -> 0 | S58: =LARGE($B58:$J58,S$4) -> 0 | T58: =LARGE($B58:$J58,T$4) -> 0 | U58: =LARGE($B58:$J58,U$4) -> 0 | V58: =SUM(P58:OFFSET(P58,0,($V$38-1))) -> 0
A59: ='Boat Name'!A59 -> Witchcraft | B59: =IF('Boat Name'!G59>0,IF(OFFSET($B$3,0,'Boat Name'!G59-14, )=1,IF('Boat Name'!$C$2=0,OFFSET($B$36,0,'Boat Name'!G59-14),IF('Boat Name'!$C$2=1,OFFSET($B$3,0,'Boat Name'!G59-14)*100,"")),""),"") | C59: =IF(C$3=1,'F1'!$O59,0) -> 0 | D59: =IF(D$3=1,'F2'!$O59,0) -> 0 | E59: =IF(E$3=1,'F3'!$O59,0) -> 0 | F59: =IF(F$3=1,'F4'!$O59,0) -> 0 | G59: =IF(G$3=1,'F5'!$O59,0) -> 0 | H59: =IF(H$3=1,'F6'!$O59,0) -> 0 | I59: =IF(I$3=1,'F7'!$O59,0) -> 0 | J59: =IF(J$3=1,'F8'!$O59,0) -> 0 | K59: =SUM(B59:J59) -> 0 | L59: =V59 -> 0 | M59: =RANK(L59,$L$39:$L$75) -> 9 | N59: =RANK(L59,$L$5:$L$75) -> 12 | P59: =LARGE($B59:$J59,P$4) -> 0 | Q59: =LARGE($B59:$J59,Q$4) -> 0 | R59: =LARGE($B59:$J59,R$4) -> 0 | S59: =LARGE($B59:$J59,S$4) -> 0 | T59: =LARGE($B59:$J59,T$4) -> 0 | U59: =LARGE($B59:$J59,U$4) -> 0 | V59: =SUM(P59:OFFSET(P59,0,($V$38-1))) -> 0
A60: ='Boat Name'!A60 -> Yonder | B60: =IF('Boat Name'!G60>0,IF(OFFSET($B$3,0,'Boat Name'!G60-14, )=1,IF('Boat Name'!$C$2=0,OFFSET($B$36,0,'Boat Name'!G60-14),IF('Boat Name'!$C$2=1,OFFSET($B$3,0,'Boat Name'!G60-14)*100,"")),""),"") | C60: =IF(C$3=1,'F1'!$O60,0) -> 0 | D60: =IF(D$3=1,'F2'!$O60,0) -> 0 | E60: =IF(E$3=1,'F3'!$O60,0) -> 0 | F60: =IF(F$3=1,'F4'!$O60,0) -> 72 | G60: =IF(G$3=1,'F5'!$O60,0) -> 0 | H60: =IF(H$3=1,'F6'!$O60,0) -> 77 | I60: =IF(I$3=1,'F7'!$O60,0) -> 0 | J60: =IF(J$3=1,'F8'!$O60,0) -> 0 | K60: =SUM(B60:J60) -> 149 | L60: =V60 -> 149 | M60: =RANK(L60,$L$39:$L$75) -> 4 | N60: =RANK(L60,$L$5:$L$75) -> 4 | P60: =LARGE($B60:$J60,P$4) -> 77 | Q60: =LARGE($B60:$J60,Q$4) -> 72 | R60: =LARGE($B60:$J60,R$4) -> 0 | S60: =LARGE($B60:$J60,S$4) -> 0 | T60: =LARGE($B60:$J60,T$4) -> 0 | U60: =LARGE($B60:$J60,U$4) -> 0 | V60: =SUM(P60:OFFSET(P60,0,($V$38-1))) -> 149
A61: ='Boat Name'!A61 -> 0 | B61: =IF('Boat Name'!G61>0,IF(OFFSET($B$3,0,'Boat Name'!G61-14, )=1,IF('Boat Name'!$C$2=0,OFFSET($B$36,0,'Boat Name'!G61-14),IF('Boat Name'!$C$2=1,OFFSET($B$3,0,'Boat Name'!G61-14)*100,"")),""),"") | C61: =IF(C$3=1,'F1'!$O61,0) -> 0 | D61: =IF(D$3=1,'F2'!$O61,0) -> 0 | E61: =IF(E$3=1,'F3'!$O61,0) -> 0 | F61: =IF(F$3=1,'F4'!$O61,0) -> 0 | G61: =IF(G$3=1,'F5'!$O61,0) -> 0 | H61: =IF(H$3=1,'F6'!$O61,0) -> 0 | I61: =IF(I$3=1,'F7'!$O61,0) -> 0 | J61: =IF(J$3=1,'F8'!$O61,0) -> 0 | K61: =SUM(B61:J61) -> 0 | L61: =V61 -> 0 | M61: =RANK(L61,$L$39:$L$75) -> 9 | N61: =RANK(L61,$L$5:$L$75) -> 12 | P61: =LARGE($B61:$J61,P$4) -> 0 | Q61: =LARGE($B61:$J61,Q$4) -> 0 | R61: =LARGE($B61:$J61,R$4) -> 0 | S61: =LARGE($B61:$J61,S$4) -> 0 | T61: =LARGE($B61:$J61,T$4) -> 0 | U61: =LARGE($B61:$J61,U$4) -> 0 | V61: =SUM(P61:OFFSET(P61,0,($V$38-1))) -> 0
A62: ='Boat Name'!A62 -> 0 | B62: =IF('Boat Name'!G62>0,IF(OFFSET($B$3,0,'Boat Name'!G62-14, )=1,IF('Boat Name'!$C$2=0,OFFSET($B$36,0,'Boat Name'!G62-14),IF('Boat Name'!$C$2=1,OFFSET($B$3,0,'Boat Name'!G62-14)*100,"")),""),"") | C62: =IF(C$3=1,'F1'!$O62,0) -> 0 | D62: =IF(D$3=1,'F2'!$O62,0) -> 0 | E62: =IF(E$3=1,'F3'!$O62,0) -> 0 | F62: =IF(F$3=1,'F4'!$O62,0) -> 0 | G62: =IF(G$3=1,'F5'!$O62,0) -> 0 | H62: =IF(H$3=1,'F6'!$O62,0) -> 0 | I62: =IF(I$3=1,'F7'!$O62,0) -> 0 | J62: =IF(J$3=1,'F8'!$O62,0) -> 0 | K62: =SUM(B62:J62) -> 0 | L62: =V62 -> 0 | M62: =RANK(L62,$L$39:$L$75) -> 9 | N62: =RANK(L62,$L$5:$L$75) -> 12 | P62: =LARGE($B62:$J62,P$4) -> 0 | Q62: =LARGE($B62:$J62,Q$4) -> 0 | R62: =LARGE($B62:$J62,R$4) -> 0 | S62: =LARGE($B62:$J62,S$4) -> 0 | T62: =LARGE($B62:$J62,T$4) -> 0 | U62: =LARGE($B62:$J62,U$4) -> 0 | V62: =SUM(P62:OFFSET(P62,0,($V$38-1))) -> 0
A63: ='Boat Name'!A63 -> 0 | B63: =IF('Boat Name'!G63>0,IF(OFFSET($B$3,0,'Boat Name'!G63-14, )=1,IF('Boat Name'!$C$2=0,OFFSET($B$36,0,'Boat Name'!G63-14),IF('Boat Name'!$C$2=1,OFFSET($B$3,0,'Boat Name'!G63-14)*100,"")),""),"") | C63: =IF(C$3=1,'F1'!$O63,0) -> 0 | D63: =IF(D$3=1,'F2'!$O63,0) -> 0 | E63: =IF(E$3=1,'F3'!$O63,0) -> 0 | F63: =IF(F$3=1,'F4'!$O63,0) -> 0 | G63: =IF(G$3=1,'F5'!$O63,0) -> 0 | H63: =IF(H$3=1,'F6'!$O63,0) -> 0 | I63: =IF(I$3=1,'F7'!$O63,0) -> 0 | J63: =IF(J$3=1,'F8'!$O63,0) -> 0 | K63: =SUM(B63:J63) -> 0 | L63: =V63 -> 0 | M63: =RANK(L63,$L$39:$L$75) -> 9 | N63: =RANK(L63,$L$5:$L$75) -> 12 | P63: =LARGE($B63:$J63,P$4) -> 0 | Q63: =LARGE($B63:$J63,Q$4) -> 0 | R63: =LARGE($B63:$J63,R$4) -> 0 | S63: =LARGE($B63:$J63,S$4) -> 0 | T63: =LARGE($B63:$J63,T$4) -> 0 | U63: =LARGE($B63:$J63,U$4) -> 0 | V63: =SUM(P63:OFFSET(P63,0,($V$38-1))) -> 0
A64: ='Boat Name'!A64 -> 0 | B64: =IF('Boat Name'!G64>0,IF(OFFSET($B$3,0,'Boat Name'!G64-14, )=1,IF('Boat Name'!$C$2=0,OFFSET($B$36,0,'Boat Name'!G64-14),IF('Boat Name'!$C$2=1,OFFSET($B$3,0,'Boat Name'!G64-14)*100,"")),""),"") | C64: =IF(C$3=1,'F1'!$O64,0) -> 0 | D64: =IF(D$3=1,'F2'!$O64,0) -> 0 | E64: =IF(E$3=1,'F3'!$O64,0) -> 0 | F64: =IF(F$3=1,'F4'!$O64,0) -> 0 | G64: =IF(G$3=1,'F5'!$O64,0) -> 0 | H64: =IF(H$3=1,'F6'!$O64,0) -> 0 | I64: =IF(I$3=1,'F7'!$O64,0) -> 0 | J64: =IF(J$3=1,'F8'!$O64,0) -> 0 | K64: =SUM(B64:J64) -> 0 | L64: =V64 -> 0 | M64: =RANK(L64,$L$39:$L$75) -> 9 | N64: =RANK(L64,$L$5:$L$75) -> 12 | P64: =LARGE($B64:$J64,P$4) -> 0 | Q64: =LARGE($B64:$J64,Q$4) -> 0 | R64: =LARGE($B64:$J64,R$4) -> 0 | S64: =LARGE($B64:$J64,S$4) -> 0 | T64: =LARGE($B64:$J64,T$4) -> 0 | U64: =LARGE($B64:$J64,U$4) -> 0 | V64: =SUM(P64:OFFSET(P64,0,($V$38-1))) -> 0
A65: ='Boat Name'!A65 -> 0 | B65: =IF('Boat Name'!G65>0,IF(OFFSET($B$3,0,'Boat Name'!G65-14, )=1,IF('Boat Name'!$C$2=0,OFFSET($B$36,0,'Boat Name'!G65-14),IF('Boat Name'!$C$2=1,OFFSET($B$3,0,'Boat Name'!G65-14)*100,"")),""),"") | C65: =IF(C$3=1,'F1'!$O65,0) -> 0 | D65: =IF(D$3=1,'F2'!$O65,0) -> 0 | E65: =IF(E$3=1,'F3'!$O65,0) -> 0 | F65: =IF(F$3=1,'F4'!$O65,0) -> 0 | G65: =IF(G$3=1,'F5'!$O65,0) -> 0 | H65: =IF(H$3=1,'F6'!$O65,0) -> 0 | I65: =IF(I$3=1,'F7'!$O65,0) -> 0 | J65: =IF(J$3=1,'F8'!$O65,0) -> 0 | K65: =SUM(B65:J65) -> 0 | L65: =V65 -> 0 | M65: =RANK(L65,$L$39:$L$75) -> 9 | N65: =RANK(L65,$L$5:$L$75) -> 12 | P65: =LARGE($B65:$J65,P$4) -> 0 | Q65: =LARGE($B65:$J65,Q$4) -> 0 | R65: =LARGE($B65:$J65,R$4) -> 0 | S65: =LARGE($B65:$J65,S$4) -> 0 | T65: =LARGE($B65:$J65,T$4) -> 0 | U65: =LARGE($B65:$J65,U$4) -> 0 | V65: =SUM(P65:OFFSET(P65,0,($V$38-1))) -> 0
A66: ='Boat Name'!A66 -> 0 | B66: =IF('Boat Name'!G66>0,IF(OFFSET($B$3,0,'Boat Name'!G66-14, )=1,IF('Boat Name'!$C$2=0,OFFSET($B$36,0,'Boat Name'!G66-14),IF('Boat Name'!$C$2=1,OFFSET($B$3,0,'Boat Name'!G66-14)*100,"")),""),"") | C66: =IF(C$3=1,'F1'!$O66,0) -> 0 | D66: =IF(D$3=1,'F2'!$O66,0) -> 0 | E66: =IF(E$3=1,'F3'!$O66,0) -> 0 | F66: =IF(F$3=1,'F4'!$O66,0) -> 0 | G66: =IF(G$3=1,'F5'!$O66,0) -> 0 | H66: =IF(H$3=1,'F6'!$O66,0) -> 0 | I66: =IF(I$3=1,'F7'!$O66,0) -> 0 | J66: =IF(J$3=1,'F8'!$O66,0) -> 0 | K66: =SUM(B66:J66) -> 0 | L66: =V66 -> 0 | M66: =RANK(L66,$L$39:$L$75) -> 9 | N66: =RANK(L66,$L$5:$L$75) -> 12 | P66: =LARGE($B66:$J66,P$4) -> 0 | Q66: =LARGE($B66:$J66,Q$4) -> 0 | R66: =LARGE($B66:$J66,R$4) -> 0 | S66: =LARGE($B66:$J66,S$4) -> 0 | T66: =LARGE($B66:$J66,T$4) -> 0 | U66: =LARGE($B66:$J66,U$4) -> 0 | V66: =SUM(P66:OFFSET(P66,0,($V$38-1))) -> 0
A67: ='Boat Name'!A67 -> 0 | B67: =IF('Boat Name'!G67>0,IF(OFFSET($B$3,0,'Boat Name'!G67-14, )=1,IF('Boat Name'!$C$2=0,OFFSET($B$36,0,'Boat Name'!G67-14),IF('Boat Name'!$C$2=1,OFFSET($B$3,0,'Boat Name'!G67-14)*100,"")),""),"") | C67: =IF(C$3=1,'F1'!$O67,0) -> 0 | D67: =IF(D$3=1,'F2'!$O67,0) -> 0 | E67: =IF(E$3=1,'F3'!$O67,0) -> 0 | F67: =IF(F$3=1,'F4'!$O67,0) -> 0 | G67: =IF(G$3=1,'F5'!$O67,0) -> 0 | H67: =IF(H$3=1,'F6'!$O67,0) -> 0 | I67: =IF(I$3=1,'F7'!$O67,0) -> 0 | J67: =IF(J$3=1,'F8'!$O67,0) -> 0 | K67: =SUM(B67:J67) -> 0 | L67: =V67 -> 0 | M67: =RANK(L67,$L$39:$L$75) -> 9 | N67: =RANK(L67,$L$5:$L$75) -> 12 | P67: =LARGE($B67:$J67,P$4) -> 0 | Q67: =LARGE($B67:$J67,Q$4) -> 0 | R67: =LARGE($B67:$J67,R$4) -> 0 | S67: =LARGE($B67:$J67,S$4) -> 0 | T67: =LARGE($B67:$J67,T$4) -> 0 | U67: =LARGE($B67:$J67,U$4) -> 0 | V67: =SUM(P67:OFFSET(P67,0,($V$38-1))) -> 0
A68: ='Boat Name'!A68 -> 0 | B68: =IF('Boat Name'!G68>0,IF(OFFSET($B$3,0,'Boat Name'!G68-14, )=1,IF('Boat Name'!$C$2=0,OFFSET($B$36,0,'Boat Name'!G68-14),IF('Boat Name'!$C$2=1,OFFSET($B$3,0,'Boat Name'!G68-14)*100,"")),""),"") | C68: =IF(C$3=1,'F1'!$O68,0) -> 0 | D68: =IF(D$3=1,'F2'!$O68,0) -> 0 | E68: =IF(E$3=1,'F3'!$O68,0) -> 0 | F68: =IF(F$3=1,'F4'!$O68,0) -> 0 | G68: =IF(G$3=1,'F5'!$O68,0) -> 0 | H68: =IF(H$3=1,'F6'!$O68,0) -> 0 | I68: =IF(I$3=1,'F7'!$O68,0) -> 0 | J68: =IF(J$3=1,'F8'!$O68,0) -> 0 | K68: =SUM(B68:J68) -> 0 | L68: =V68 -> 0 | M68: =RANK(L68,$L$39:$L$75) -> 9 | N68: =RANK(L68,$L$5:$L$75) -> 12 | P68: =LARGE($B68:$J68,P$4) -> 0 | Q68: =LARGE($B68:$J68,Q$4) -> 0 | R68: =LARGE($B68:$J68,R$4) -> 0 | S68: =LARGE($B68:$J68,S$4) -> 0 | T68: =LARGE($B68:$J68,T$4) -> 0 | U68: =LARGE($B68:$J68,U$4) -> 0 | V68: =SUM(P68:OFFSET(P68,0,($V$38-1))) -> 0
A69: ='Boat Name'!A69 -> 0 | B69: =IF('Boat Name'!G69>0,IF(OFFSET($B$3,0,'Boat Name'!G69-14, )=1,IF('Boat Name'!$C$2=0,OFFSET($B$36,0,'Boat Name'!G69-14),IF('Boat Name'!$C$2=1,OFFSET($B$3,0,'Boat Name'!G69-14)*100,"")),""),"") | C69: =IF(C$3=1,'F1'!$O69,0) -> 0 | D69: =IF(D$3=1,'F2'!$O69,0) -> 0 | E69: =IF(E$3=1,'F3'!$O69,0) -> 0 | F69: =IF(F$3=1,'F4'!$O69,0) -> 0 | G69: =IF(G$3=1,'F5'!$O69,0) -> 0 | H69: =IF(H$3=1,'F6'!$O69,0) -> 0 | I69: =IF(I$3=1,'F7'!$O69,0) -> 0 | J69: =IF(J$3=1,'F8'!$O69,0) -> 0 | K69: =SUM(B69:J69) -> 0 | L69: =V69 -> 0 | M69: =RANK(L69,$L$39:$L$75) -> 9 | N69: =RANK(L69,$L$5:$L$75) -> 12 | P69: =LARGE($B69:$J69,P$4) -> 0 | Q69: =LARGE($B69:$J69,Q$4) -> 0 | R69: =LARGE($B69:$J69,R$4) -> 0 | S69: =LARGE($B69:$J69,S$4) -> 0 | T69: =LARGE($B69:$J69,T$4) -> 0 | U69: =LARGE($B69:$J69,U$4) -> 0 | V69: =SUM(P69:OFFSET(P69,0,($V$38-1))) -> 0
... A74: ='Boat Name'!A74 -> 0 | B74: =IF('Boat Name'!G74>0,IF(OFFSET($B$3,0,'Boat Name'!G74-14, )=1,IF('Boat Name'!$C$2=0,OFFSET($B$36,0,'Boat Name'!G74-14),IF('Boat Name'!$C$2=1,OFFSET($B$3,0,'Boat Name'!G74-14)*100,"")),""),"") | C74: =IF(C$3=1,'F1'!$O74,0) -> 0 | D74: =IF(D$3=1,'F2'!$O74,0) -> 0 | E74: =IF(E$3=1,'F3'!$O74,0) -> 0 | F74: =IF(F$3=1,'F4'!$O74,0) -> 0 | G74: =IF(G$3=1,'F5'!$O74,0) -> 0 | H74: =IF(H$3=1,'F6'!$O74,0) -> 0 | I74: =IF(I$3=1,'F7'!$O74,0) -> 0 | J74: =IF(J$3=1,'F8'!$O74,0) -> 0 | K74: =SUM(B74:J74) -> 0 | L74: =V74 -> 0 | M74: =RANK(L74,$L$39:$L$75) -> 9 | N74: =RANK(L74,$L$5:$L$75) -> 12 | P74: =LARGE($B74:$J74,P$4) -> 0 | Q74: =LARGE($B74:$J74,Q$4) -> 0 | R74: =LARGE($B74:$J74,R$4) -> 0 | S74: =LARGE($B74:$J74,S$4) -> 0 | T74: =LARGE($B74:$J74,T$4) -> 0 | U74: =LARGE($B74:$J74,U$4) -> 0 | V74: =SUM(P74:OFFSET(P74,0,($V$38-1))) -> 0

Sheet Cox
A1: # of Boats | B1: 1 | C1: 2 | D1: 3 | E1: 4 | F1: 5 | G1: 6 | H1: 7 | I1: 8 | J1: 9 | K1: 10 | L1: 11 | M1: 12 | N1: 13 | O1: 14 | P1: 15 | Q1: 16 | R1: 17 | S1: 18 | T1: 19 | U1: 20 | V1: 21 | W1: 22 | X1: 23 | Y1: 24 | Z1: 25 | AA1: 26 | AB1: 27 | AC1: 28 | AD1: 29 | AE1: 30 | AF1: 31 | AG1: 32 | AH1: 33 | AI1: 34
A2: 1 | B2: 76 | K2: Final Position of Boats
A3: 2 | B3: 80 | C3: 74 | D3: 72
A4: 3 | B4: 84 | C4: 78 | D4: 74 | E4: 72
A5: 4 | B5: 87 | C5: 81 | D5: 77 | E5: 73 | F5: 71
A6: 5 | B6: 90 | C6: 84 | D6: 80 | E6: 75 | F6: 72 | G6: 70
A7: 6 | B7: 92 | C7: 86 | D7: 82 | E7: 78 | F7: 75 | G7: 72 | H7: 70
A8: 7 | B8: 94 | C8: 88 | D8: 84 | E8: 80 | F8: 77 | G8: 74 | H8: 72 | I8: 70
A9: 8 | B9: 96 | C9: 90 | D9: 86 | E9: 82 | F9: 79 | G9: 76 | H9: 74 | I9: 72 | J9: 70
A10: 9 | B10: 97 | C10: 91 | D10: 87 | E10: 83 | F10: 80 | G10: 77 | H10: 75 | I10: 73 | J10: 71 | K10: 69
A11: 10 | B11: 98 | C11: 92 | D11: 88 | E11: 84 | F11: 81 | G11: 78 | H11: 76 | I11: 74 | J11: 72 | K11: 70 | L11: 68
A12: 11 | B12: 99 | C12: 93 | D12: 89 | E12: 85 | F12: 82 | G12: 79 | H12: 77 | I12: 75 | J12: 73 | K12: 71 | L12: 69 | M12: 67
A13: 12 | B13: 100 | C13: 94 | D13: 90 | E13: 86 | F13: 83 | G13: 80 | H13: 78 | I13: 76 | J13: 74 | K13: 72 | L13: 70 | M13: 68 | N13: 66
A14: 13 | B14: 100 | C14: 94 | D14: 90 | E14: 86 | F14: 83 | G14: 80 | H14: 78 | I14: 76 | J14: 74 | K14: 72 | L14: 70 | M14: 68 | N14: 67 | O14: 65
A15: 14 | B15: 100 | C15: 94 | D15: 90 | E15: 86 | F15: 83 | G15: 80 | H15: 78 | I15: 76 | J15: 74 | K15: 72 | L15: 70 | M15: 68 | N15: 67 | O15: 66 | P15: 64
A16: 15 | B16: 100 | C16: 94 | D16: 90 | E16: 86 | F16: 83 | G16: 80 | H16: 78 | I16: 76 | J16: 74 | K16: 72 | L16: 70 | M16: 68 | N16: 67 | O16: 66 | P16: 65 | Q16: 64
A17: 16 | B17: 100 | C17: 94 | D17: 90 | E17: 86 | F17: 83 | G17: 80 | H17: 78 | I17: 76 | J17: 74 | K17: 72 | L17: 70 | M17: 68 | N17: 67 | O17: 66 | P17: 65 | Q17: 64 | R17: 63
A18: 17 | B18: 100 | C18: 94 | D18: 90 | E18: 86 | F18: 83 | G18: 80 | H18: 78 | I18: 76 | J18: 74 | K18: 72 | L18: 70 | M18: 68 | N18: 67 | O18: 66 | P18: 65 | Q18: 64 | R18: 63 | S18: 62
A19: 18 | B19: 100 | C19: 94 | D19: 90 | E19: 86 | F19: 83 | G19: 80 | H19: 78 | I19: 76 | J19: 74 | K19: 72 | L19: 70 | M19: 68 | N19: 67 | O19: 66 | P19: 65 | Q19: 64 | R19: 63 | S19: 62 | T19: 61
A20: 19 | B20: 100 | C20: 94 | D20: 90 | E20: 86 | F20: 83 | G20: 80 | H20: 78 | I20: 76 | J20: 74 | K20: 72 | L20: 70 | M20: 68 | N20: 67 | O20: 66 | P20: 65 | Q20: 64 | R20: 63 | S20: 62 | T20: 61 | U20: 60
A21: 20 | B21: 100 | C21: 94 | D21: 90 | E21: 86 | F21: 83 | G21: 80 | H21: 78 | I21: 76 | J21: 74 | K21: 72 | L21: 70 | M21: 68 | N21: 67 | O21: 66 | P21: 65 | Q21: 64 | R21: 63 | S21: 62 | T21: 61 | U21: 60 | V21: 59
A22: 21 | B22: 100 | C22: 94 | D22: 90 | E22: 86 | F22: 83 | G22: 80 | H22: 78 | I22: 76 | J22: 74 | K22: 72 | L22: 70 | M22: 68 | N22: 67 | O22: 66 | P22: 65 | Q22: 64 | R22: 63 | S22: 62 | T22: 61 | U22: 60 | V22: 59 | W22: 58
A23: 22 | B23: 100 | C23: 94 | D23: 90 | E23: 86 | F23: 83 | G23: 80 | H23: 78 | I23: 76 | J23: 74 | K23: 72 | L23: 70 | M23: 68 | N23: 67 | O23: 66 | P23: 65 | Q23: 64 | R23: 63 | S23: 62 | T23: 61 | U23: 60 | V23: 59 | W23: 58 | X23: 57
A24: 23 | B24: 100 | C24: 94 | D24: 90 | E24: 86 | F24: 83 | G24: 80 | H24: 78 | I24: 76 | J24: 74 | K24: 72 | L24: 70 | M24: 68 | N24: 67 | O24: 66 | P24: 65 | Q24: 64 | R24: 63 | S24: 62 | T24: 61 | U24: 60 | V24: 59 | W24: 58 | X24: 57 | Y24: 56
A25: 24 | B25: 100 | C25: 94 | D25: 90 | E25: 86 | F25: 83 | G25: 80 | H25: 78 | I25: 76 | J25: 74 | K25: 72 | L25: 70 | M25: 68 | N25: 67 | O25: 66 | P25: 65 | Q25: 64 | R25: 63 | S25: 62 | T25: 61 | U25: 60 | V25: 59 | W25: 58 | X25: 57 | Y25: 56 | Z25: 55
A26: 25 | B26: 100 | C26: 94 | D26: 90 | E26: 86 | F26: 83 | G26: 80 | H26: 78 | I26: 76 | J26: 74 | K26: 72 | L26: 70 | M26: 68 | N26: 67 | O26: 66 | P26: 65 | Q26: 64 | R26: 63 | S26: 62 | T26: 61 | U26: 60 | V26: 59 | W26: 58 | X26: 57 | Y26: 56 | Z26: 55 | AA26: 54
A27: 26 | B27: 100 | C27: 94 | D27: 90 | E27: 86 | F27: 83 | G27: 80 | H27: 78 | I27: 76 | J27: 74 | K27: 72 | L27: 70 | M27: 68 | N27: 67 | O27: 66 | P27: 65 | Q27: 64 | R27: 63 | S27: 62 | T27: 61 | U27: 60 | V27: 59 | W27: 58 | X27: 57 | Y27: 56 | Z27: 55 | AA27: 54 | AB27: 53
A28: 27 | B28: 100 | C28: 94 | D28: 90 | E28: 86 | F28: 83 | G28: 80 | H28: 78 | I28: 76 | J28: 74 | K28: 72 | L28: 70 | M28: 68 | N28: 67 | O28: 66 | P28: 65 | Q28: 64 | R28: 63 | S28: 62 | T28: 61 | U28: 60 | V28: 59 | W28: 58 | X28: 57 | Y28: 56 | Z28: 55 | AA28: 54 | AB28: 53 | AC28: 52
A29: 28 | B29: 100 | C29: 94 | D29: 90 | E29: 86 | F29: 83 | G29: 80 | H29: 78 | I29: 76 | J29: 74 | K29: 72 | L29: 70 | M29: 68 | N29: 67 | O29: 66 | P29: 65 | Q29: 64 | R29: 63 | S29: 62 | T29: 61 | U29: 60 | V29: 59 | W29: 58 | X29: 57 | Y29: 56 | Z29: 55 | AA29: 54 | AB29: 53 | AC29: 52 | AD29: 51
A30: 29 | B30: 100 | C30: 94 | D30: 90 | E30: 86 | F30: 83 | G30: 80 | H30: 78 | I30: 76 | J30: 74 | K30: 72 | L30: 70 | M30: 68 | N30: 67 | O30: 66 | P30: 65 | Q30: 64 | R30: 63 | S30: 62 | T30: 61 | U30: 60 | V30: 59 | W30: 58 | X30: 57 | Y30: 56 | Z30: 55 | AA30: 54 | AB30: 53 | AC30: 52 | AD30: 51 | AE30: 50
A31: 30 | B31: 100 | C31: 94 | D31: 90 | E31: 86 | F31: 83 | G31: 80 | H31: 78 | I31: 76 | J31: 74 | K31: 72 | L31: 70 | M31: 68 | N31: 67 | O31: 66 | P31: 65 | Q31: 64 | R31: 63 | S31: 62 | T31: 61 | U31: 60 | V31: 59 | W31: 58 | X31: 57 | Y31: 56 | Z31: 55 | AA31: 54 | AB31: 53 | AC31: 52 | AD31: 51 | AE31: 50 | AF31: 49
A32: 31 | B32: 100 | C32: 94 | D32: 90 | E32: 86 | F32: 83 | G32: 80 | H32: 78 | I32: 76 | J32: 74 | K32: 72 | L32: 70 | M32: 68 | N32: 67 | O32: 66 | P32: 65 | Q32: 64 | R32: 63 | S32: 62 | T32: 61 | U32: 60 | V32: 59 | W32: 58 | X32: 57 | Y32: 56 | Z32: 55 | AA32: 54 | AB32: 53 | AC32: 52 | AD32: 51 | AE32: 50 | AF32: 49 | AG32: 48
A33: 32 | B33: 100 | C33: 94 | D33: 90 | E33: 86 | F33: 83 | G33: 80 | H33: 78 | I33: 76 | J33: 74 | K33: 72 | L33: 70 | M33: 68 | N33: 67 | O33: 66 | P33: 65 | Q33: 64 | R33: 63 | S33: 62 | T33: 61 | U33: 60 | V33: 59 | W33: 58 | X33: 57 | Y33: 56 | Z33: 55 | AA33: 54 | AB33: 53 | AC33: 52 | AD33: 51 | AE33: 50 | AF33: 49 | AG33: 48 | AH33: 47
A34: 33 | B34: 100 | C34: 94 | D34: 90 | E34: 86 | F34: 83 | G34: 80 | H34: 78 | I34: 76 | J34: 74 | K34: 72 | L34: 70 | M34: 68 | N34: 67 | O34: 66 | P34: 65 | Q34: 64 | R34: 63 | S34: 62 | T34: 61 | U34: 60 | V34: 59 | W34: 58 | X34: 57 | Y34: 56 | Z34: 55 | AA34: 54 | AB34: 53 | AC34: 52 | AD34: 51 | AE34: 50 | AF34: 49 | AG34: 48 | AH34: 47 | AI34: 46
A35: 34 | B35: 100 | C35: 94 | D35: 90 | E35: 86 | F35: 83 | G35: 80 | H35: 78 | I35: 76 | J35: 74 | K35: 72 | L35: 70 | M35: 68 | N35: 67 | O35: 66 | P35: 65 | Q35: 64 | R35: 63 | S35: 62 | T35: 61 | U35: 60 | V35: 59 | W35: 58 | X35: 57 | Y35: 56 | Z35: 55 | AA35: 54 | AB35: 53 | AC35: 52 | AD35: 51 | AE35: 50 | AF35: 49 | AG35: 48 | AH35: 47 | AI35: 46 | AJ35: 45

Sheet Perf Stats
A1: Total Competing in class | B1: =#REF!+#REF! -> #REF! | C1: =#REF! -> #REF! | D1: =#REF!+#REF! -> #REF! | E1: =#REF! -> #REF! | F1: =#REF!+#REF! -> #REF! | G1: =#REF! -> #REF! | H1: =#REF!+#REF! -> #REF! | I1: =#REF! -> #REF! | J1: =#REF!+#REF! -> #REF! | K1: =#REF! -> #REF! | L1: =#REF!+#REF! -> #REF! | M1: =#REF! -> #REF! | N1: =#REF!+#REF! -> #REF! | O1: =#REF! -> #REF! | P1: =#REF!+#REF! -> #REF! | Q1: =#REF! -> #REF! | R1: =#REF!+#REF! -> #REF! | S1: =#REF! -> #REF! | T1: =#REF!+#REF! -> #REF! | U1: =#REF! -> #REF! | V1: =#REF!+#REF! -> #REF! | W1: =#REF! -> #REF! | X1: =#REF!+#REF! -> #REF! | Y1: =#REF! -> #REF! | Z1: =#REF!+#REF! -> #REF! | AA1: =#REF! -> #REF! | AB1: =#REF!+#REF! -> #REF! | AC1: =#REF! -> #REF! | AF1: =#REF!+#REF! -> #REF! | AG1: =#REF!+#REF! -> #REF! | AH1: =#REF!+#REF! -> #REF! | AI1: =#REF!+#REF! -> #REF! | AJ1: =#REF!+#REF! -> #REF! | AK1: =#REF!+#REF! -> #REF! | AL1: =#REF!+#REF! -> #REF! | AM1: =#REF!+#REF! -> #REF! | AO1: 1 | AP1: 2 | AQ1: 3 | AR1: 4 | AS1: 5 | AT1: 6 | AU1: 7 | AV1: 8 | AW1: 9 | AX1: 10 | AY1: 11 | AZ1: 12 | BA1: 13 | BB1: 14 | BD1: 1 | BE1: 2 | BF1: 3 | BG1: 4 | BH1: 5 | BI1: 6 | BJ1: 7 | BK1: 8 | BL1: 9 | BM1: 10
A2: ='Boat Name'!A2 -> Season 2026 | B2: Wednesday | AF2: Sunday
B3: Class Finish | AD3: Activity | AF3: Class Finish | AN3: Activity
A4: ='Boat Name'!A4 -> CruisingClass | B4: #1 | C4: kts/H | D4: #2 | E4: kts/H | F4: #3 | G4: kts/H | H4: #4 | I4: kts/H | J4: #5 | K4: kts/H | L4: #6 | M4: kts/H | N4: #7 | O4: kts/H | P4: #8 | Q4: kts/H | R4: #9 | S4: kts/H | T4: #10 | U4: kts/H | V4: #11 | W4: kts/H | X4: #12 | Y4: kts/H | Z4: #13 | AA4: kts/H | AB4: #14 | AC4: kts/H | AD4: Level | AF4: #1 | AG4: #2 | AH4: #3 | AI4: #4 | AJ4: #5 | AK4: #6 | AL4: #7 | AM4: #8 | AN4: Level
A5: ='Boat Name'!A5 -> Carry On | B5: =#REF! -> #REF! | C5: =#REF! -> #REF! | D5: =#REF! -> #REF! | E5: =#REF! -> #REF! | F5: =#REF! -> #REF! | G5: =#REF! -> #REF! | H5: =#REF! -> #REF! | I5: =#REF! -> #REF! | ... AC5: =#REF! -> #REF! | AD5: =COUNTIF(B5:AB5,">0")/Wed!$S$3 -> 0 | AF5: =#REF! -> #REF! | AG5: =#REF! -> #REF! | AH5: =#REF! -> #REF! | AI5: =#REF! -> #REF! | AJ5: =#REF! -> #REF! | AK5: =#REF! -> #REF! | AL5: =#REF! -> #REF! | AM5: =#REF! -> #REF! | AN5: =COUNTIF(AF5:AM5,">0")/Sun!$L$3 -> 0 | AO5: =B5 -> #REF! | AP5: =D5 -> #REF! | AQ5: =F5 -> #REF! | AR5: =H5 -> #REF! | AS5: =J5 -> #REF! | AT5: =L5 -> #REF! | AU5: =N5 -> #REF! | AV5: =P5 -> #REF! | AW5: =R5 -> #REF! | AX5: =T5 -> #REF! | AY5: =V5 -> #REF! | AZ5: =X5 -> #REF! | BA5: =Z5 -> #REF! | BB5: =AB5 -> #REF! | BD5: =SMALL(AO5:BB5,BD1) -> #REF!
A6: ='Boat Name'!A6 -> Cheraz | B6: =#REF! -> #REF! | C6: =#REF! -> #REF! | D6: =#REF! -> #REF! | E6: =#REF! -> #REF! | F6: =#REF! -> #REF! | G6: =#REF! -> #REF! | H6: =#REF! -> #REF! | I6: =#REF! -> #REF! | ... AC6: =#REF! -> #REF! | AD6: =COUNTIF(B6:AB6,">0")/Wed!$S$3 -> 0 | AF6: =#REF! -> #REF! | AG6: =#REF! -> #REF! | AH6: =#REF! -> #REF! | AI6: =#REF! -> #REF! | AJ6: =#REF! -> #REF! | AK6: =#REF! -> #REF! | AL6: =#REF! -> #REF! | AM6: =#REF! -> #REF! | AN6: =COUNTIF(AF6:AM6,">0")/Sun!$L$3 -> 0 | AO6: =B6 -> #REF! | AP6: =D6 -> #REF! | AQ6: =F6 -> #REF! | AR6: =H6 -> #REF! | AS6: =J6 -> #REF! | AT6: =L6 -> #REF! | AU6: =N6 -> #REF! | AV6: =P6 -> #REF! | AW6: =R6 -> #REF! | AX6: =T6 -> #REF! | AY6: =V6 -> #REF! | AZ6: =X6 -> #REF! | BA6: =Z6 -> #REF! | BB6: =AB6 -> #REF!
A7: ='Boat Name'!A7 -> Dilemma | B7: =#REF! -> #REF! | C7: =#REF! -> #REF! | D7: =#REF! -> #REF! | E7: =#REF! -> #REF! | F7: =#REF! -> #REF! | G7: =#REF! -> #REF! | H7: =#REF! -> #REF! | I7: =#REF! -> #REF! | ... AC7: =#REF! -> #REF! | AD7: =COUNTIF(B7:AB7,">0")/Wed!$S$3 -> 0 | AF7: =#REF! -> #REF! | AG7: =#REF! -> #REF! | AH7: =#REF! -> #REF! | AI7: =#REF! -> #REF! | AJ7: =#REF! -> #REF! | AK7: =#REF! -> #REF! | AL7: =#REF! -> #REF! | AM7: =#REF! -> #REF! | AN7: =COUNTIF(AF7:AM7,">0")/Sun!$L$3 -> 0 | AO7: =B7 -> #REF! | AP7: =D7 -> #REF! | AQ7: =F7 -> #REF! | AR7: =H7 -> #REF! | AS7: =J7 -> #REF! | AT7: =L7 -> #REF! | AU7: =N7 -> #REF! | AV7: =P7 -> #REF! | AW7: =R7 -> #REF! | AX7: =T7 -> #REF! | AY7: =V7 -> #REF! | AZ7: =X7 -> #REF! | BA7: =Z7 -> #REF! | BB7: =AB7 -> #REF!
A8: ='Boat Name'!A8 -> Dulcinea | B8: =#REF! -> #REF! | C8: =#REF! -> #REF! | D8: =#REF! -> #REF! | E8: =#REF! -> #REF! | F8: =#REF! -> #REF! | G8: =#REF! -> #REF! | H8: =#REF! -> #REF! | I8: =#REF! -> #REF! | ... AC8: =#REF! -> #REF! | AD8: =COUNTIF(B8:AB8,">0")/Wed!$S$3 -> 0 | AF8: =#REF! -> #REF! | AG8: =#REF! -> #REF! | AH8: =#REF! -> #REF! | AI8: =#REF! -> #REF! | AJ8: =#REF! -> #REF! | AK8: =#REF! -> #REF! | AL8: =#REF! -> #REF! | AM8: =#REF! -> #REF! | AN8: =COUNTIF(AF8:AM8,">0")/Sun!$L$3 -> 0 | AO8: =B8 -> #REF! | AP8: =D8 -> #REF! | AQ8: =F8 -> #REF! | AR8: =H8 -> #REF! | AS8: =J8 -> #REF! | AT8: =L8 -> #REF! | AU8: =N8 -> #REF! | AV8: =P8 -> #REF! | AW8: =R8 -> #REF! | AX8: =T8 -> #REF! | AY8: =V8 -> #REF! | AZ8: =X8 -> #REF! | BA8: =Z8 -> #REF! | BB8: =AB8 -> #REF!
A9: ='Boat Name'!A9 -> Eclipse | B9: =#REF! -> #REF! | C9: =#REF! -> #REF! | D9: =#REF! -> #REF! | E9: =#REF! -> #REF! | F9: =#REF! -> #REF! | G9: =#REF! -> #REF! | H9: =#REF! -> #REF! | I9: =#REF! -> #REF! | ... AC9: =#REF! -> #REF! | AD9: =COUNTIF(B9:AB9,">0")/Wed!$S$3 -> 0 | AF9: =#REF! -> #REF! | AG9: =#REF! -> #REF! | AH9: =#REF! -> #REF! | AI9: =#REF! -> #REF! | AJ9: =#REF! -> #REF! | AK9: =#REF! -> #REF! | AL9: =#REF! -> #REF! | AM9: =#REF! -> #REF! | AN9: =COUNTIF(AF9:AM9,">0")/Sun!$L$3 -> 0 | AO9: =B9 -> #REF! | AP9: =D9 -> #REF! | AQ9: =F9 -> #REF! | AR9: =H9 -> #REF! | AS9: =J9 -> #REF! | AT9: =L9 -> #REF! | AU9: =N9 -> #REF! | AV9: =P9 -> #REF! | AW9: =R9 -> #REF! | AX9: =T9 -> #REF! | AY9: =V9 -> #REF! | AZ9: =X9 -> #REF! | BA9: =Z9 -> #REF! | BB9: =AB9 -> #REF!
A10: ='Boat Name'!A10 -> Electra | B10: =#REF! -> #REF! | C10: =#REF! -> #REF! | D10: =#REF! -> #REF! | E10: =#REF! -> #REF! | F10: =#REF! -> #REF! | G10: =#REF! -> #REF! | H10: =#REF! -> #REF! | I10: =#REF! -> #REF! | ... AC10: =#REF! -> #REF! | AD10: =COUNTIF(B10:AB10,">0")/Wed!$S$3 -> 0 | AF10: =#REF! -> #REF! | AG10: =#REF! -> #REF! | AH10: =#REF! -> #REF! | AI10: =#REF! -> #REF! | AJ10: =#REF! -> #REF! | AK10: =#REF! -> #REF! | AL10: =#REF! -> #REF! | AM10: =#REF! -> #REF! | AN10: =COUNTIF(AF10:AM10,">0")/Sun!$L$3 -> 0 | AO10: =B10 -> #REF! | AP10: =D10 -> #REF! | AQ10: =F10 -> #REF! | AR10: =H10 -> #REF! | AS10: =J10 -> #REF! | AT10: =L10 -> #REF! | AU10: =N10 -> #REF! | AV10: =P10 -> #REF! | AW10: =R10 -> #REF! | AX10: =T10 -> #REF! | AY10: =V10 -> #REF! | AZ10: =X10 -> #REF! | BA10: =Z10 -> #REF! | BB10: =AB10 -> #REF!
A11: ='Boat Name'!A11 -> Fast Eddy | B11: =#REF! -> #REF! | C11: =#REF! -> #REF! | D11: =#REF! -> #REF! | E11: =#REF! -> #REF! | F11: =#REF! -> #REF! | G11: =#REF! -> #REF! | H11: =#REF! -> #REF! | I11: =#REF! -> #REF! | ... AC11: =#REF! -> #REF! | AD11: =COUNTIF(B11:AB11,">0")/Wed!$S$3 -> 0 | AF11: =#REF! -> #REF! | AG11: =#REF! -> #REF! | AH11: =#REF! -> #REF! | AI11: =#REF! -> #REF! | AJ11: =#REF! -> #REF! | AK11: =#REF! -> #REF! | AL11: =#REF! -> #REF! | AM11: =#REF! -> #REF! | AN11: =COUNTIF(AF11:AM11,">0")/Sun!$L$3 -> 0 | AO11: =B11 -> #REF! | AP11: =D11 -> #REF! | AQ11: =F11 -> #REF! | AR11: =H11 -> #REF! | AS11: =J11 -> #REF! | AT11: =L11 -> #REF! | AU11: =N11 -> #REF! | AV11: =P11 -> #REF! | AW11: =R11 -> #REF! | AX11: =T11 -> #REF! | AY11: =V11 -> #REF! | AZ11: =X11 -> #REF! | BA11: =Z11 -> #REF! | BB11: =AB11 -> #REF!
A12: ='Boat Name'!A12 -> Golden Rule | B12: =#REF! -> #REF! | C12: =#REF! -> #REF! | D12: =#REF! -> #REF! | E12: =#REF! -> #REF! | F12: =#REF! -> #REF! | G12: =#REF! -> #REF! | H12: =#REF! -> #REF! | I12: =#REF! -> #REF! | ... AC12: =#REF! -> #REF! | AD12: =COUNTIF(B12:AB12,">0")/Wed!$S$3 -> 0 | AF12: =#REF! -> #REF! | AG12: =#REF! -> #REF! | AH12: =#REF! -> #REF! | AI12: =#REF! -> #REF! | AJ12: =#REF! -> #REF! | AK12: =#REF! -> #REF! | AL12: =#REF! -> #REF! | AM12: =#REF! -> #REF! | AN12: =COUNTIF(AF12:AM12,">0")/Sun!$L$3 -> 0 | AO12: =B12 -> #REF! | AP12: =D12 -> #REF! | AQ12: =F12 -> #REF! | AR12: =H12 -> #REF! | AS12: =J12 -> #REF! | AT12: =L12 -> #REF! | AU12: =N12 -> #REF! | AV12: =P12 -> #REF! | AW12: =R12 -> #REF! | AX12: =T12 -> #REF! | AY12: =V12 -> #REF! | AZ12: =X12 -> #REF! | BA12: =Z12 -> #REF! | BB12: =AB12 -> #REF!
A13: ='Boat Name'!A13 -> Grand Cru | B13: =#REF! -> #REF! | C13: =#REF! -> #REF! | D13: =#REF! -> #REF! | E13: =#REF! -> #REF! | F13: =#REF! -> #REF! | G13: =#REF! -> #REF! | H13: =#REF! -> #REF! | I13: =#REF! -> #REF! | ... AC13: =#REF! -> #REF! | AD13: =COUNTIF(B13:AB13,">0")/Wed!$S$3 -> 0 | AF13: =#REF! -> #REF! | AG13: =#REF! -> #REF! | AH13: =#REF! -> #REF! | AI13: =#REF! -> #REF! | AJ13: =#REF! -> #REF! | AK13: =#REF! -> #REF! | AL13: =#REF! -> #REF! | AM13: =#REF! -> #REF! | AN13: =COUNTIF(AF13:AM13,">0")/Sun!$L$3 -> 0 | AO13: =B13 -> #REF! | AP13: =D13 -> #REF! | AQ13: =F13 -> #REF! | AR13: =H13 -> #REF! | AS13: =J13 -> #REF! | AT13: =L13 -> #REF! | AU13: =N13 -> #REF! | AV13: =P13 -> #REF! | AW13: =R13 -> #REF! | AX13: =T13 -> #REF! | AY13: =V13 -> #REF! | AZ13: =X13 -> #REF! | BA13: =Z13 -> #REF! | BB13: =AB13 -> #REF!
A14: ='Boat Name'!A14 -> Irish Mist | B14: =#REF! -> #REF! | C14: =#REF! -> #REF! | D14: =#REF! -> #REF! | E14: =#REF! -> #REF! | F14: =#REF! -> #REF! | G14: =#REF! -> #REF! | H14: =#REF! -> #REF! | I14: =#REF! -> #REF! | ... AC14: =#REF! -> #REF! | AD14: =COUNTIF(B14:AB14,">0")/Wed!$S$3 -> 0 | AF14: =#REF! -> #REF! | AG14: =#REF! -> #REF! | AH14: =#REF! -> #REF! | AI14: =#REF! -> #REF! | AJ14: =#REF! -> #REF! | AK14: =#REF! -> #REF! | AL14: =#REF! -> #REF! | AM14: =#REF! -> #REF! | AN14: =COUNTIF(AF14:AM14,">0")/Sun!$L$3 -> 0 | AO14: =B14 -> #REF! | AP14: =D14 -> #REF! | AQ14: =F14 -> #REF! | AR14: =H14 -> #REF! | AS14: =J14 -> #REF! | AT14: =L14 -> #REF! | AU14: =N14 -> #REF! | AV14: =P14 -> #REF! | AW14: =R14 -> #REF! | AX14: =T14 -> #REF! | AY14: =V14 -> #REF! | AZ14: =X14 -> #REF! | BA14: =Z14 -> #REF! | BB14: =AB14 -> #REF!
A15: ='Boat Name'!A15 -> Jesse Leigh | B15: =#REF! -> #REF! | C15: =#REF! -> #REF! | D15: =#REF! -> #REF! | E15: =#REF! -> #REF! | F15: =#REF! -> #REF! | G15: =#REF! -> #REF! | H15: =#REF! -> #REF! | I15: =#REF! -> #REF! | ... AC15: =#REF! -> #REF! | AD15: =COUNTIF(B15:AB15,">0")/Wed!$S$3 -> 0 | AF15: =#REF! -> #REF! | AG15: =#REF! -> #REF! | AH15: =#REF! -> #REF! | AI15: =#REF! -> #REF! | AJ15: =#REF! -> #REF! | AK15: =#REF! -> #REF! | AL15: =#REF! -> #REF! | AM15: =#REF! -> #REF! | AN15: =COUNTIF(AF15:AM15,">0")/Sun!$L$3 -> 0 | AO15: =B15 -> #REF! | AP15: =D15 -> #REF! | AQ15: =F15 -> #REF! | AR15: =H15 -> #REF! | AS15: =J15 -> #REF! | AT15: =L15 -> #REF! | AU15: =N15 -> #REF! | AV15: =P15 -> #REF! | AW15: =R15 -> #REF! | AX15: =T15 -> #REF! | AY15: =V15 -> #REF! | AZ15: =X15 -> #REF! | BA15: =Z15 -> #REF! | BB15: =AB15 -> #REF!
A16: ='Boat Name'!A16 -> L'Arch De | B16: =#REF! -> #REF! | C16: =#REF! -> #REF! | D16: =#REF! -> #REF! | E16: =#REF! -> #REF! | F16: =#REF! -> #REF! | G16: =#REF! -> #REF! | H16: =#REF! -> #REF! | I16: =#REF! -> #REF! | ... AC16: =#REF! -> #REF! | AD16: =COUNTIF(B16:AB16,">0")/Wed!$S$3 -> 0 | AF16: =#REF! -> #REF! | AG16: =#REF! -> #REF! | AH16: =#REF! -> #REF! | AI16: =#REF! -> #REF! | AJ16: =#REF! -> #REF! | AK16: =#REF! -> #REF! | AL16: =#REF! -> #REF! | AM16: =#REF! -> #REF! | AN16: =COUNTIF(AF16:AM16,">0")/Sun!$L$3 -> 0 | AO16: =B16 -> #REF! | AP16: =D16 -> #REF! | AQ16: =F16 -> #REF! | AR16: =H16 -> #REF! | AS16: =J16 -> #REF! | AT16: =L16 -> #REF! | AU16: =N16 -> #REF! | AV16: =P16 -> #REF! | AW16: =R16 -> #REF! | AX16: =T16 -> #REF! | AY16: =V16 -> #REF! | AZ16: =X16 -> #REF! | BA16: =Z16 -> #REF! | BB16: =AB16 -> #REF!
A17: ='Boat Name'!A17 -> Madcap 1.5 | B17: =#REF! -> #REF! | C17: =#REF! -> #REF! | D17: =#REF! -> #REF! | E17: =#REF! -> #REF! | F17: =#REF! -> #REF! | G17: =#REF! -> #REF! | H17: =#REF! -> #REF! | I17: =#REF! -> #REF! | ... AC17: =#REF! -> #REF! | AD17: =COUNTIF(B17:AB17,">0")/Wed!$S$3 -> 0 | AF17: =#REF! -> #REF! | AG17: =#REF! -> #REF! | AH17: =#REF! -> #REF! | AI17: =#REF! -> #REF! | AJ17: =#REF! -> #REF! | AK17: =#REF! -> #REF! | AL17: =#REF! -> #REF! | AM17: =#REF! -> #REF! | AN17: =COUNTIF(AF17:AM17,">0")/Sun!$L$3 -> 0 | AO17: =B17 -> #REF! | AP17: =D17 -> #REF! | AQ17: =F17 -> #REF! | AR17: =H17 -> #REF! | AS17: =J17 -> #REF! | AT17: =L17 -> #REF! | AU17: =N17 -> #REF! | AV17: =P17 -> #REF! | AW17: =R17 -> #REF! | AX17: =T17 -> #REF! | AY17: =V17 -> #REF! | AZ17: =X17 -> #REF! | BA17: =Z17 -> #REF! | BB17: =AB17 -> #REF!
... A34: ='Boat Name'!A34 -> 0 | B34: =#REF! -> #REF! | C34: =#REF! -> #REF! | D34: =#REF! -> #REF! | E34: =#REF! -> #REF! | F34: =#REF! -> #REF! | G34: =#REF! -> #REF! | H34: =#REF! -> #REF! | I34: =#REF! -> #REF! | ... AC34: =#REF! -> #REF! | AD34: =COUNTIF(B34:AB34,">0")/Wed!$S$3 -> 0 | AF34: =#REF! -> #REF! | AG34: =#REF! -> #REF! | AH34: =#REF! -> #REF! | AI34: =#REF! -> #REF! | AJ34: =#REF! -> #REF! | AK34: =#REF! -> #REF! | AL34: =#REF! -> #REF! | AM34: =#REF! -> #REF! | AN34: =COUNTIF(AF34:AM34,">0")/Sun!$L$3 -> 0 | AO34: =B34 -> #REF! | AP34: =D34 -> #REF! | AQ34: =F34 -> #REF! | AR34: =H34 -> #REF! | AS34: =J34 -> #REF! | AT34: =L34 -> #REF! | AU34: =N34 -> #REF! | AV34: =P34 -> #REF! | AW34: =R34 -> #REF! | AX34: =T34 -> #REF! | AY34: =V34 -> #REF! | AZ34: =X34 -> #REF! | BA34: =Z34 -> #REF! | BB34: =AB34 -> #REF!
A35: Total Competing in class | B35: =#REF!+#REF! -> #REF! | D35: =#REF!+#REF! -> #REF! | F35: =#REF!+#REF! -> #REF! | H35: =#REF!+#REF! -> #REF! | J35: =#REF!+#REF! -> #REF! | L35: =#REF!+#REF! -> #REF! | N35: =#REF!+#REF! -> #REF! | P35: =#REF!+#REF! -> #REF! | R35: =#REF!+#REF! -> #REF! | T35: =#REF!+#REF! -> #REF! | V35: =#REF!+#REF! -> #REF! | X35: =#REF!+#REF! -> #REF! | Z35: =#REF!+#REF! -> #REF! | AB35: =#REF!+#REF! -> #REF! | AF35: =#REF!+#REF! -> #REF! | AG35: =#REF!+#REF! -> #REF! | AH35: =#REF!+#REF! -> #REF! | AI35: =#REF!+#REF! -> #REF! | AJ35: =#REF!+#REF! -> #REF! | AK35: =#REF!+#REF! -> #REF! | AL35: =#REF!+#REF! -> #REF! | AM35: =#REF!+#REF! -> #REF!
A36: ='Boat Name'!A36 -> Season 2026 | B36: Wednesday | AF36: Sunday
B37: Class Finish | AD37: Activity | AF37: Class Finish | AN37: Activity
A38: ='Boat Name'!A38 -> Racing Class | B38: #1 | C38: kts/H | D38: #2 | E38: kts/H | F38: #3 | G38: kts/H | H38: #4 | I38: kts/H | J38: #5 | K38: kts/H | L38: #6 | M38: kts/H | N38: #7 | O38: kts/H | P38: #8 | Q38: kts/H | R38: #9 | S38: kts/H | T38: #10 | U38: kts/H | V38: #11 | W38: kts/H | X38: #12 | Y38: kts/H | Z38: #13 | AA38: kts/H | AB38: #14 | AC38: kts/H | AD38: Level | AF38: #1 | AG38: #2 | AH38: #3 | AI38: #4 | AJ38: #5 | AK38: #6 | AL38: #7 | AM38: #8 | AN38: Level
A39: ='Boat Name'!A39 -> Alive | B39: =#REF! -> #REF! | C39: =#REF! -> #REF! | D39: =#REF! -> #REF! | E39: =#REF! -> #REF! | F39: =#REF! -> #REF! | G39: =#REF! -> #REF! | H39: =#REF! -> #REF! | I39: =#REF! -> #REF! | ... AC39: =#REF! -> #REF! | AD39: =COUNTIF(B39:AB39,">0")/Wed!$S$3 -> 0 | AF39: =#REF! -> #REF! | AG39: =#REF! -> #REF! | AH39: =#REF! -> #REF! | AI39: =#REF! -> #REF! | AJ39: =#REF! -> #REF! | AK39: =#REF! -> #REF! | AL39: =#REF! -> #REF! | AM39: =#REF! -> #REF! | AN39: =COUNTIF(AF39:AM39,">0")/Sun!$L$3 -> 0 | AO39: =B39 -> #REF! | AP39: =D39 -> #REF! | AQ39: =F39 -> #REF! | AR39: =H39 -> #REF! | AS39: =J39 -> #REF! | AT39: =L39 -> #REF! | AU39: =N39 -> #REF! | AV39: =P39 -> #REF! | AW39: =R39 -> #REF! | AX39: =T39 -> #REF! | AY39: =V39 -> #REF! | AZ39: =X39 -> #REF! | BA39: =Z39 -> #REF! | BB39: =AB39 -> #REF!
A40: ='Boat Name'!A40 -> Dilemma | B40: =#REF! -> #REF! | C40: =#REF! -> #REF! | D40: =#REF! -> #REF! | E40: =#REF! -> #REF! | F40: =#REF! -> #REF! | G40: =#REF! -> #REF! | H40: =#REF! -> #REF! | I40: =#REF! -> #REF! | ... AC40: =#REF! -> #REF! | AD40: =COUNTIF(B40:AB40,">0")/Wed!$S$3 -> 0 | AF40: =#REF! -> #REF! | AG40: =#REF! -> #REF! | AH40: =#REF! -> #REF! | AI40: =#REF! -> #REF! | AJ40: =#REF! -> #REF! | AK40: =#REF! -> #REF! | AL40: =#REF! -> #REF! | AM40: =#REF! -> #REF! | AN40: =COUNTIF(AF40:AM40,">0")/Sun!$L$3 -> 0 | AO40: =B40 -> #REF! | AP40: =D40 -> #REF! | AQ40: =F40 -> #REF! | AR40: =H40 -> #REF! | AS40: =J40 -> #REF! | AT40: =L40 -> #REF! | AU40: =N40 -> #REF! | AV40: =P40 -> #REF! | AW40: =R40 -> #REF! | AX40: =T40 -> #REF! | AY40: =V40 -> #REF! | AZ40: =X40 -> #REF! | BA40: =Z40 -> #REF! | BB40: =AB40 -> #REF!
A41: ='Boat Name'!A41 -> Doubledown - Sail Last | B41: =#REF! -> #REF! | C41: =#REF! -> #REF! | D41: =#REF! -> #REF! | E41: =#REF! -> #REF! | F41: =#REF! -> #REF! | G41: =#REF! -> #REF! | H41: =#REF! -> #REF! | I41: =#REF! -> #REF! | ... AC41: =#REF! -> #REF! | AD41: =COUNTIF(B41:AB41,">0")/Wed!$S$3 -> 0 | AF41: =#REF! -> #REF! | AG41: =#REF! -> #REF! | AH41: =#REF! -> #REF! | AI41: =#REF! -> #REF! | AJ41: =#REF! -> #REF! | AK41: =#REF! -> #REF! | AL41: =#REF! -> #REF! | AM41: =#REF! -> #REF! | AN41: =COUNTIF(AF41:AM41,">0")/Sun!$L$3 -> 0 | AO41: =B41 -> #REF! | AP41: =D41 -> #REF! | AQ41: =F41 -> #REF! | AR41: =H41 -> #REF! | AS41: =J41 -> #REF! | AT41: =L41 -> #REF! | AU41: =N41 -> #REF! | AV41: =P41 -> #REF! | AW41: =R41 -> #REF! | AX41: =T41 -> #REF! | AY41: =V41 -> #REF! | AZ41: =X41 -> #REF! | BA41: =Z41 -> #REF! | BB41: =AB41 -> #REF!
A42: ='Boat Name'!A42 -> Dulcinea | B42: =#REF! -> #REF! | C42: =#REF! -> #REF! | D42: =#REF! -> #REF! | E42: =#REF! -> #REF! | F42: =#REF! -> #REF! | G42: =#REF! -> #REF! | H42: =#REF! -> #REF! | I42: =#REF! -> #REF! | ... AC42: =#REF! -> #REF! | AD42: =COUNTIF(B42:AB42,">0")/Wed!$S$3 -> 0 | AF42: =#REF! -> #REF! | AG42: =#REF! -> #REF! | AH42: =#REF! -> #REF! | AI42: =#REF! -> #REF! | AJ42: =#REF! -> #REF! | AK42: =#REF! -> #REF! | AL42: =#REF! -> #REF! | AM42: =#REF! -> #REF! | AN42: =COUNTIF(AF42:AM42,">0")/Sun!$L$3 -> 0 | AO42: =B42 -> #REF! | AP42: =D42 -> #REF! | AQ42: =F42 -> #REF! | AR42: =H42 -> #REF! | AS42: =J42 -> #REF! | AT42: =L42 -> #REF! | AU42: =N42 -> #REF! | AV42: =P42 -> #REF! | AW42: =R42 -> #REF! | AX42: =T42 -> #REF! | AY42: =V42 -> #REF! | AZ42: =X42 -> #REF! | BA42: =Z42 -> #REF! | BB42: =AB42 -> #REF!
A43: ='Boat Name'!A43 -> Eclipse | B43: =#REF! -> #REF! | C43: =#REF! -> #REF! | D43: =#REF! -> #REF! | E43: =#REF! -> #REF! | F43: =#REF! -> #REF! | G43: =#REF! -> #REF! | H43: =#REF! -> #REF! | I43: =#REF! -> #REF! | ... AC43: =#REF! -> #REF! | AD43: =COUNTIF(B43:AB43,">0")/Wed!$S$3 -> 0 | AF43: =#REF! -> #REF! | AG43: =#REF! -> #REF! | AH43: =#REF! -> #REF! | AI43: =#REF! -> #REF! | AJ43: =#REF! -> #REF! | AK43: =#REF! -> #REF! | AL43: =#REF! -> #REF! | AM43: =#REF! -> #REF! | AN43: =COUNTIF(AF43:AM43,">0")/Sun!$L$3 -> 0 | AO43: =B43 -> #REF! | AP43: =D43 -> #REF! | AQ43: =F43 -> #REF! | AR43: =H43 -> #REF! | AS43: =J43 -> #REF! | AT43: =L43 -> #REF! | AU43: =N43 -> #REF! | AV43: =P43 -> #REF! | AW43: =R43 -> #REF! | AX43: =T43 -> #REF! | AY43: =V43 -> #REF! | AZ43: =X43 -> #REF! | BA43: =Z43 -> #REF! | BB43: =AB43 -> #REF!
A44: ='Boat Name'!A44 -> Gardian J | B44: =#REF! -> #REF! | C44: =#REF! -> #REF! | D44: =#REF! -> #REF! | E44: =#REF! -> #REF! | F44: =#REF! -> #REF! | G44: =#REF! -> #REF! | H44: =#REF! -> #REF! | I44: =#REF! -> #REF! | ... AC44: =#REF! -> #REF! | AD44: =COUNTIF(B44:AB44,">0")/Wed!$S$3 -> 0 | AF44: =#REF! -> #REF! | AG44: =#REF! -> #REF! | AH44: =#REF! -> #REF! | AI44: =#REF! -> #REF! | AJ44: =#REF! -> #REF! | AK44: =#REF! -> #REF! | AL44: =#REF! -> #REF! | AM44: =#REF! -> #REF! | AN44: =COUNTIF(AF44:AM44,">0")/Sun!$L$3 -> 0 | AO44: =B44 -> #REF! | AP44: =D44 -> #REF! | AQ44: =F44 -> #REF! | AR44: =H44 -> #REF! | AS44: =J44 -> #REF! | AT44: =L44 -> #REF! | AU44: =N44 -> #REF! | AV44: =P44 -> #REF! | AW44: =R44 -> #REF! | AX44: =T44 -> #REF! | AY44: =V44 -> #REF! | AZ44: =X44 -> #REF! | BA44: =Z44 -> #REF! | BB44: =AB44 -> #REF!
A45: ='Boat Name'!A45 -> Invicta | B45: =#REF! -> #REF! | C45: =#REF! -> #REF! | D45: =#REF! -> #REF! | E45: =#REF! -> #REF! | F45: =#REF! -> #REF! | G45: =#REF! -> #REF! | H45: =#REF! -> #REF! | I45: =#REF! -> #REF! | ... AC45: =#REF! -> #REF! | AD45: =COUNTIF(B45:AB45,">0")/Wed!$S$3 -> 0 | AF45: =#REF! -> #REF! | AG45: =#REF! -> #REF! | AH45: =#REF! -> #REF! | AI45: =#REF! -> #REF! | AJ45: =#REF! -> #REF! | AK45: =#REF! -> #REF! | AL45: =#REF! -> #REF! | AM45: =#REF! -> #REF! | AN45: =COUNTIF(AF45:AM45,">0")/Sun!$L$3 -> 0 | AO45: =B45 -> #REF! | AP45: =D45 -> #REF! | AQ45: =F45 -> #REF! | AR45: =H45 -> #REF! | AS45: =J45 -> #REF! | AT45: =L45 -> #REF! | AU45: =N45 -> #REF! | AV45: =P45 -> #REF! | AW45: =R45 -> #REF! | AX45: =T45 -> #REF! | AY45: =V45 -> #REF! | AZ45: =X45 -> #REF! | BA45: =Z45 -> #REF! | BB45: =AB45 -> #REF!
A46: ='Boat Name'!A46 -> Jesse Leigh | B46: =#REF! -> #REF! | C46: =#REF! -> #REF! | D46: =#REF! -> #REF! | E46: =#REF! -> #REF! | F46: =#REF! -> #REF! | G46: =#REF! -> #REF! | H46: =#REF! -> #REF! | I46: =#REF! -> #REF! | ... AC46: =#REF! -> #REF! | AD46: =COUNTIF(B46:AB46,">0")/Wed!$S$3 -> 0 | AF46: =#REF! -> #REF! | AG46: =#REF! -> #REF! | AH46: =#REF! -> #REF! | AI46: =#REF! -> #REF! | AJ46: =#REF! -> #REF! | AK46: =#REF! -> #REF! | AL46: =#REF! -> #REF! | AM46: =#REF! -> #REF! | AN46: =COUNTIF(AF46:AM46,">0")/Sun!$L$3 -> 0 | AO46: =B46 -> #REF! | AP46: =D46 -> #REF! | AQ46: =F46 -> #REF! | AR46: =H46 -> #REF! | AS46: =J46 -> #REF! | AT46: =L46 -> #REF! | AU46: =N46 -> #REF! | AV46: =P46 -> #REF! | AW46: =R46 -> #REF! | AX46: =T46 -> #REF! | AY46: =V46 -> #REF! | AZ46: =X46 -> #REF! | BA46: =Z46 -> #REF! | BB46: =AB46 -> #REF!
A47: ='Boat Name'!A47 -> Kestrel | B47: =#REF! -> #REF! | C47: =#REF! -> #REF! | D47: =#REF! -> #REF! | E47: =#REF! -> #REF! | F47: =#REF! -> #REF! | G47: =#REF! -> #REF! | H47: =#REF! -> #REF! | I47: =#REF! -> #REF! | ... AC47: =#REF! -> #REF! | AD47: =COUNTIF(B47:AB47,">0")/Wed!$S$3 -> 0 | AF47: =#REF! -> #REF! | AG47: =#REF! -> #REF! | AH47: =#REF! -> #REF! | AI47: =#REF! -> #REF! | AJ47: =#REF! -> #REF! | AK47: =#REF! -> #REF! | AL47: =#REF! -> #REF! | AM47: =#REF! -> #REF! | AN47: =COUNTIF(AF47:AM47,">0")/Sun!$L$3 -> 0 | AO47: =B47 -> #REF! | AP47: =D47 -> #REF! | AQ47: =F47 -> #REF! | AR47: =H47 -> #REF! | AS47: =J47 -> #REF! | AT47: =L47 -> #REF! | AU47: =N47 -> #REF! | AV47: =P47 -> #REF! | AW47: =R47 -> #REF! | AX47: =T47 -> #REF! | AY47: =V47 -> #REF! | AZ47: =X47 -> #REF! | BA47: =Z47 -> #REF! | BB47: =AB47 -> #REF!
A48: ='Boat Name'!A48 -> Madcap | B48: =#REF! -> #REF! | C48: =#REF! -> #REF! | D48: =#REF! -> #REF! | E48: =#REF! -> #REF! | F48: =#REF! -> #REF! | G48: =#REF! -> #REF! | H48: =#REF! -> #REF! | I48: =#REF! -> #REF! | ... AC48: =#REF! -> #REF! | AD48: =COUNTIF(B48:AB48,">0")/Wed!$S$3 -> 0 | AF48: =#REF! -> #REF! | AG48: =#REF! -> #REF! | AH48: =#REF! -> #REF! | AI48: =#REF! -> #REF! | AJ48: =#REF! -> #REF! | AK48: =#REF! -> #REF! | AL48: =#REF! -> #REF! | AM48: =#REF! -> #REF! | AN48: =COUNTIF(AF48:AM48,">0")/Sun!$L$3 -> 0 | AO48: =B48 -> #REF! | AP48: =D48 -> #REF! | AQ48: =F48 -> #REF! | AR48: =H48 -> #REF! | AS48: =J48 -> #REF! | AT48: =L48 -> #REF! | AU48: =N48 -> #REF! | AV48: =P48 -> #REF! | AW48: =R48 -> #REF! | AX48: =T48 -> #REF! | AY48: =V48 -> #REF! | AZ48: =X48 -> #REF! | BA48: =Z48 -> #REF! | BB48: =AB48 -> #REF!
A49: ='Boat Name'!A49 -> Mademoiselle | B49: =#REF! -> #REF! | C49: =#REF! -> #REF! | D49: =#REF! -> #REF! | E49: =#REF! -> #REF! | F49: =#REF! -> #REF! | G49: =#REF! -> #REF! | H49: =#REF! -> #REF! | I49: =#REF! -> #REF! | ... AC49: =#REF! -> #REF! | AD49: =COUNTIF(B49:AB49,">0")/Wed!$S$3 -> 0 | AF49: =#REF! -> #REF! | AG49: =#REF! -> #REF! | AH49: =#REF! -> #REF! | AI49: =#REF! -> #REF! | AJ49: =#REF! -> #REF! | AK49: =#REF! -> #REF! | AL49: =#REF! -> #REF! | AM49: =#REF! -> #REF! | AN49: =COUNTIF(AF49:AM49,">0")/Sun!$L$3 -> 0 | AO49: =B49 -> #REF! | AP49: =D49 -> #REF! | AQ49: =F49 -> #REF! | AR49: =H49 -> #REF! | AS49: =J49 -> #REF! | AT49: =L49 -> #REF! | AU49: =N49 -> #REF! | AV49: =P49 -> #REF! | AW49: =R49 -> #REF! | AX49: =T49 -> #REF! | AY49: =V49 -> #REF! | AZ49: =X49 -> #REF! | BA49: =Z49 -> #REF! | BB49: =AB49 -> #REF!
A50: ='Boat Name'!A50 -> Magan | B50: =#REF! -> #REF! | C50: =#REF! -> #REF! | D50: =#REF! -> #REF! | E50: =#REF! -> #REF! | F50: =#REF! -> #REF! | G50: =#REF! -> #REF! | H50: =#REF! -> #REF! | I50: =#REF! -> #REF! | ... AC50: =#REF! -> #REF! | AD50: =COUNTIF(B50:AB50,">0")/Wed!$S$3 -> 0 | AF50: =#REF! -> #REF! | AG50: =#REF! -> #REF! | AH50: =#REF! -> #REF! | AI50: =#REF! -> #REF! | AJ50: =#REF! -> #REF! | AK50: =#REF! -> #REF! | AL50: =#REF! -> #REF! | AM50: =#REF! -> #REF! | AN50: =COUNTIF(AF50:AM50,">0")/Sun!$L$3 -> 0 | AO50: =B50 -> #REF! | AP50: =D50 -> #REF! | AQ50: =F50 -> #REF! | AR50: =H50 -> #REF! | AS50: =J50 -> #REF! | AT50: =L50 -> #REF! | AU50: =N50 -> #REF! | AV50: =P50 -> #REF! | AW50: =R50 -> #REF! | AX50: =T50 -> #REF! | AY50: =V50 -> #REF! | AZ50: =X50 -> #REF! | BA50: =Z50 -> #REF! | BB50: =AB50 -> #REF!
... A74: ='Boat Name'!A74 -> 0 | B74: =#REF! -> #REF! | C74: =#REF! -> #REF! | D74: =#REF! -> #REF! | E74: =#REF! -> #REF! | F74: =#REF! -> #REF! | G74: =#REF! -> #REF! | H74: =#REF! -> #REF! | I74: =#REF! -> #REF! | ... AC74: =#REF! -> #REF! | AD74: =COUNTIF(B74:AB74,">0")/Wed!$S$3 -> 0 | AF74: =#REF! -> #REF! | AG74: =#REF! -> #REF! | AH74: =#REF! -> #REF! | AI74: =#REF! -> #REF! | AJ74: =#REF! -> #REF! | AK74: =#REF! -> #REF! | AL74: =#REF! -> #REF! | AM74: =#REF! -> #REF! | AN74: =COUNTIF(AF74:AM74,">0")/Sun!$L$3 -> 0 | AO74: =B74 -> #REF! | AP74: =D74 -> #REF! | AQ74: =F74 -> #REF! | AR74: =H74 -> #REF! | AS74: =J74 -> #REF! | AT74: =L74 -> #REF! | AU74: =N74 -> #REF! | AV74: =P74 -> #REF! | AW74: =R74 -> #REF! | AX74: =T74 -> #REF! | AY74: =V74 -> #REF! | AZ74: =X74 -> #REF! | BA74: =Z74 -> #REF! | BB74: =AB74 -> #REF!

Sheet 1
A1: {=INDIRECT("Wed!"&ADDRESS(2,VALUE(MID(CELL("filename",A1),FIND("]",CELL("filename",A1))+1,10))+2))} -> 46169 | B1: Scratch Boat PHRF = | C1: =OFFSET(C4,(MATCH(SMALL($F$5:$F$74,1),$F$5:$F$74,0)),0) -> -3 | F1: Total | G1: Finished | I1: =COUNTIF(F5:F34,">0") -> 6 | M1: DNF = | N1: =IF(D3>0,OFFSET(Cox!$A$1,$E$3+$I$1,$E$3+$I$1+1),0) -> 0
A2: ='Boat Name'!A2 -> Season 2026 | E2: Tot | J2: 0.0069444444 | K2: 0.76041667 | M2: W/L TOT | N2: R/L TOT | O2: W/L TOT | T2: Avg.
A3: ='Boat Name'!A4 -> CruisingClass | E3: =COUNTIF(E5:E34,"Y") -> 0 | F3: Actual | G3: W/L Handicap | H3: R/L Handicap | I3: HDCP | J3: Start | K3: W/L ADJ. | M3: Class | N3: Class | O3: Class | P3: TOT W/L | Q3: TOT R/L | R3: TOT W/L | S3: TOT R/L | T3: Boat
A4: Yacht | B4: Type | C4: PHRF W/L | E4: DNF | F4: Finish | G4: Applied | H4: Applied | I4: + / - | J4: Factor | K4: Finish | M4: Fin. | N4: Fin. | O4: Points | P4: Factor | Q4: Factor | R4: Adj Time | S4: Adj Time | T4: KTS
A5: ='Boat Name'!A5 -> Carry On | B5: ='Boat Name'!B5 -> Passport 40 | C5: ='Boat Name'!D5 -> 172 | G5: =IF(F5>0,ABS(((C5-$C$1)*$B$81)/86400),"") | I5: =IF(C5>$C$1,"-","+") -> - | J5: =$J$2 -> 0.0069444444 | K5: =IF(F5>0,IF(C5>$C$1,((F5-G5)+J5),(F5+G5+J5)),IF(E5="Y",0.916665,"")) | M5: =IF(OR($E5="Y",$F5>0),RANK($R5,$R$5:$R$34,1),"") | O5: =IF(F5>0,OFFSET(Cox!A$1,($I$1+$E$3),M5),IF(E5="Y",($E$3+$I$1+1),0)) -> 0 | P5: =($B$83/($B$84+C5)) -> 0.90027701 | R5: =IF(F5>0,((F5-$K$2)*P5),IF(E5="Y",0.916665,"")) | T5: =IF(F5>0,(($B$81)/(F5-$K$2))/24,"")
A6: ='Boat Name'!A6 -> Cheraz | B6: ='Boat Name'!B6 -> O'Day 322 | C6: ='Boat Name'!D6 -> 204 | G6: =IF(F6>0,ABS(((C6-$C$1)*$B$81)/86400),"") | I6: =IF(C6>$C$1,"-","+") -> - | J6: =$J$2 -> 0.0069444444 | K6: =IF(F6>0,IF(C6>$C$1,((F6-G6)+J6),(F6+G6+J6)),IF(E6="Y",0.916665,"")) | M6: =IF(OR($E6="Y",$F6>0),RANK($R6,$R$5:$R$34,1),"") | O6: =IF(F6>0,OFFSET(Cox!A$1,($I$1+$E$3),M6),IF(E6="Y",($E$3+$I$1+1),0)) -> 0 | P6: =($B$83/($B$84+C6)) -> 0.86206897 | R6: =IF(F6>0,((F6-$K$2)*P6),IF(E6="Y",0.916665,"")) | T6: =IF(F6>0,(($B$81)/(F6-$K$2))/24,"")
A7: ='Boat Name'!A7 -> Dilemma | B7: ='Boat Name'!B7 -> Evelyn 32 | C7: ='Boat Name'!D7 -> 116 | G7: =IF(F7>0,ABS(((C7-$C$1)*$B$81)/86400),"") | I7: =IF(C7>$C$1,"-","+") -> - | J7: =$J$2 -> 0.0069444444 | K7: =IF(F7>0,IF(C7>$C$1,((F7-G7)+J7),(F7+G7+J7)),IF(E7="Y",0.916665,"")) | M7: =IF(OR($E7="Y",$F7>0),RANK($R7,$R$5:$R$34,1),"") | O7: =IF(F7>0,OFFSET(Cox!A$1,($I$1+$E$3),M7),IF(E7="Y",($E$3+$I$1+1),0)) -> 0 | P7: =($B$83/($B$84+C7)) -> 0.97597598 | R7: =IF(F7>0,((F7-$K$2)*P7),IF(E7="Y",0.916665,"")) | T7: =IF(F7>0,(($B$81)/(F7-$K$2))/24,"")
A8: ='Boat Name'!A8 -> Dulcinea | B8: ='Boat Name'!B8 -> Tripp 36 | C8: ='Boat Name'!D8 -> 81 | G8: =IF(F8>0,ABS(((C8-$C$1)*$B$81)/86400),"") | I8: =IF(C8>$C$1,"-","+") -> - | J8: =$J$2 -> 0.0069444444 | K8: =IF(F8>0,IF(C8>$C$1,((F8-G8)+J8),(F8+G8+J8)),IF(E8="Y",0.916665,"")) | M8: =IF(OR($E8="Y",$F8>0),RANK($R8,$R$5:$R$34,1),"") | O8: =IF(F8>0,OFFSET(Cox!A$1,($I$1+$E$3),M8),IF(E8="Y",($E$3+$I$1+1),0)) -> 0 | P8: =($B$83/($B$84+C8)) -> 1.0301109 | R8: =IF(F8>0,((F8-$K$2)*P8),IF(E8="Y",0.916665,"")) | T8: =IF(F8>0,(($B$81)/(F8-$K$2))/24,"")
A9: ='Boat Name'!A9 -> Eclipse | B9: ='Boat Name'!B9 -> J 36 | C9: ='Boat Name'!D9 -> 105 | G9: =IF(F9>0,ABS(((C9-$C$1)*$B$81)/86400),"") | I9: =IF(C9>$C$1,"-","+") -> - | J9: =$J$2 -> 0.0069444444 | K9: =IF(F9>0,IF(C9>$C$1,((F9-G9)+J9),(F9+G9+J9)),IF(E9="Y",0.916665,"")) | M9: =IF(OR($E9="Y",$F9>0),RANK($R9,$R$5:$R$34,1),"") | O9: =IF(F9>0,OFFSET(Cox!A$1,($I$1+$E$3),M9),IF(E9="Y",($E$3+$I$1+1),0)) -> 0 | P9: =($B$83/($B$84+C9)) -> 0.99236641 | R9: =IF(F9>0,((F9-$K$2)*P9),IF(E9="Y",0.916665,"")) | T9: =IF(F9>0,(($B$81)/(F9-$K$2))/24,"")
A10: ='Boat Name'!A10 -> Electra | B10: ='Boat Name'!B10 -> Dolphin 24 | C10: ='Boat Name'!D10 -> 276 | G10: =IF(F10>0,ABS(((C10-$C$1)*$B$81)/86400),"") | I10: =IF(C10>$C$1,"-","+") -> - | J10: =$J$2 -> 0.0069444444 | K10: =IF(F10>0,IF(C10>$C$1,((F10-G10)+J10),(F10+G10+J10)),IF(E10="Y",0.916665,"")) | M10: =IF(OR($E10="Y",$F10>0),RANK($R10,$R$5:$R$34,1),"") | O10: =IF(F10>0,OFFSET(Cox!A$1,($I$1+$E$3),M10),IF(E10="Y",($E$3+$I$1+1),0)) -> 0 | P10: =($B$83/($B$84+C10)) -> 0.78692494 | R10: =IF(F10>0,((F10-$K$2)*P10),IF(E10="Y",0.916665,"")) | T10: =IF(F10>0,(($B$81)/(F10-$K$2))/24,"")
A11: ='Boat Name'!A11 -> Fast Eddy | B11: ='Boat Name'!B11 -> O'Day 322 | C11: ='Boat Name'!D11 -> 204 | F11: 0.82482639 | G11: =IF(F11>0,ABS(((C11-$C$1)*$B$81)/86400),"") -> 0.0129375 | I11: =IF(C11>$C$1,"-","+") -> - | J11: =$J$2 -> 0.0069444444 | K11: =IF(F11>0,IF(C11>$C$1,((F11-G11)+J11),(F11+G11+J11)),IF(E11="Y",0.916665,"")) -> 0.81883333 | M11: =IF(OR($E11="Y",$F11>0),RANK($R11,$R$5:$R$34,1),"") -> 3 | O11: =IF(F11>0,OFFSET(Cox!A$1,($I$1+$E$3),M11),IF(E11="Y",($E$3+$I$1+1),0)) -> 82 | P11: =($B$83/($B$84+C11)) -> 0.86206897 | R11: =IF(F11>0,((F11-$K$2)*P11),IF(E11="Y",0.916665,"")) -> 0.055525623 | T11: =IF(F11>0,(($B$81)/(F11-$K$2))/24,"") -> 3.4932615
A12: ='Boat Name'!A12 -> Golden Rule | B12: ='Boat Name'!B12 -> C&C 35 Mk3 | C12: ='Boat Name'!D12 -> 147 | G12: =IF(F12>0,ABS(((C12-$C$1)*$B$81)/86400),"") | I12: =IF(C12>$C$1,"-","+") -> - | J12: =$J$2 -> 0.0069444444 | K12: =IF(F12>0,IF(C12>$C$1,((F12-G12)+J12),(F12+G12+J12)),IF(E12="Y",0.916665,"")) | M12: =IF(OR($E12="Y",$F12>0),RANK($R12,$R$5:$R$34,1),"") | O12: =IF(F12>0,OFFSET(Cox!A$1,($I$1+$E$3),M12),IF(E12="Y",($E$3+$I$1+1),0)) -> 0 | P12: =($B$83/($B$84+C12)) -> 0.93256815 | R12: =IF(F12>0,((F12-$K$2)*P12),IF(E12="Y",0.916665,"")) | T12: =IF(F12>0,(($B$81)/(F12-$K$2))/24,"")
A13: ='Boat Name'!A13 -> Grand Cru | B13: ='Boat Name'!B13 -> Catalina 36 | C13: ='Boat Name'!D13 -> 178 | G13: =IF(F13>0,ABS(((C13-$C$1)*$B$81)/86400),"") | I13: =IF(C13>$C$1,"-","+") -> - | J13: =$J$2 -> 0.0069444444 | K13: =IF(F13>0,IF(C13>$C$1,((F13-G13)+J13),(F13+G13+J13)),IF(E13="Y",0.916665,"")) | M13: =IF(OR($E13="Y",$F13>0),RANK($R13,$R$5:$R$34,1),"") | O13: =IF(F13>0,OFFSET(Cox!A$1,($I$1+$E$3),M13),IF(E13="Y",($E$3+$I$1+1),0)) -> 0 | P13: =($B$83/($B$84+C13)) -> 0.89285714 | R13: =IF(F13>0,((F13-$K$2)*P13),IF(E13="Y",0.916665,"")) | T13: =IF(F13>0,(($B$81)/(F13-$K$2))/24,"")
A14: ='Boat Name'!A14 -> Irish Mist | B14: ='Boat Name'!B14 -> Nonsuch 33 | C14: ='Boat Name'!D14 -> 180 | F14: 0.81672454 | G14: =IF(F14>0,ABS(((C14-$C$1)*$B$81)/86400),"") -> 0.0114375 | I14: =IF(C14>$C$1,"-","+") -> - | J14: =$J$2 -> 0.0069444444 | K14: =IF(F14>0,IF(C14>$C$1,((F14-G14)+J14),(F14+G14+J14)),IF(E14="Y",0.916665,"")) -> 0.81223148 | M14: =IF(OR($E14="Y",$F14>0),RANK($R14,$R$5:$R$34,1),"") -> 1 | O14: =IF(F14>0,OFFSET(Cox!A$1,($I$1+$E$3),M14),IF(E14="Y",($E$3+$I$1+1),0)) -> 92 | P14: =($B$83/($B$84+C14)) -> 0.89041096 | R14: =IF(F14>0,((F14-$K$2)*P14),IF(E14="Y",0.916665,"")) -> 0.050137145 | T14: =IF(F14>0,(($B$81)/(F14-$K$2))/24,"") -> 3.995889
A15: ='Boat Name'!A15 -> Jesse Leigh | B15: ='Boat Name'!B15 -> J 35 | C15: ='Boat Name'!D15 -> 103 | G15: =IF(F15>0,ABS(((C15-$C$1)*$B$81)/86400),"") | I15: =IF(C15>$C$1,"-","+") -> - | J15: =$J$2 -> 0.0069444444 | K15: =IF(F15>0,IF(C15>$C$1,((F15-G15)+J15),(F15+G15+J15)),IF(E15="Y",0.916665,"")) | M15: =IF(OR($E15="Y",$F15>0),RANK($R15,$R$5:$R$34,1),"") | O15: =IF(F15>0,OFFSET(Cox!A$1,($I$1+$E$3),M15),IF(E15="Y",($E$3+$I$1+1),0)) -> 0 | P15: =($B$83/($B$84+C15)) -> 0.99540582 | R15: =IF(F15>0,((F15-$K$2)*P15),IF(E15="Y",0.916665,"")) | T15: =IF(F15>0,(($B$81)/(F15-$K$2))/24,"")
A16: ='Boat Name'!A16 -> L'Arch De | B16: ='Boat Name'!B16 -> Beneteau First 32 | C16: ='Boat Name'!D16 -> 135 | F16: 0.82298611 | G16: =IF(F16>0,ABS(((C16-$C$1)*$B$81)/86400),"") -> 0.008625 | I16: =IF(C16>$C$1,"-","+") -> - | J16: =$J$2 -> 0.0069444444 | K16: =IF(F16>0,IF(C16>$C$1,((F16-G16)+J16),(F16+G16+J16)),IF(E16="Y",0.916665,"")) -> 0.82130556 | M16: =IF(OR($E16="Y",$F16>0),RANK($R16,$R$5:$R$34,1),"") -> 6 | O16: =IF(F16>0,OFFSET(Cox!A$1,($I$1+$E$3),M16),IF(E16="Y",($E$3+$I$1+1),0)) -> 72 | P16: =($B$83/($B$84+C16)) -> 0.94890511 | R16: =IF(F16>0,((F16-$K$2)*P16),IF(E16="Y",0.916665,"")) -> 0.059372466 | T16: =IF(F16>0,(($B$81)/(F16-$K$2))/24,"") -> 3.5960044
A17: ='Boat Name'!A17 -> Madcap 1.5 | B17: ='Boat Name'!B17 -> J 105 | C17: ='Boat Name'!D17 -> 118 | G17: =IF(F17>0,ABS(((C17-$C$1)*$B$81)/86400),"") | I17: =IF(C17>$C$1,"-","+") -> - | J17: =$J$2 -> 0.0069444444 | K17: =IF(F17>0,IF(C17>$C$1,((F17-G17)+J17),(F17+G17+J17)),IF(E17="Y",0.916665,"")) | M17: =IF(OR($E17="Y",$F17>0),RANK($R17,$R$5:$R$34,1),"") | O17: =IF(F17>0,OFFSET(Cox!A$1,($I$1+$E$3),M17),IF(E17="Y",($E$3+$I$1+1),0)) -> 0 | P17: =($B$83/($B$84+C17)) -> 0.97305389 | R17: =IF(F17>0,((F17-$K$2)*P17),IF(E17="Y",0.916665,"")) | T17: =IF(F17>0,(($B$81)/(F17-$K$2))/24,"")
A18: ='Boat Name'!A18 -> Magan | B18: ='Boat Name'!B18 -> Olson 34 | C18: ='Boat Name'!D18 -> 142 | G18: =IF(F18>0,ABS(((C18-$C$1)*$B$81)/86400),"") | I18: =IF(C18>$C$1,"-","+") -> - | J18: =$J$2 -> 0.0069444444 | K18: =IF(F18>0,IF(C18>$C$1,((F18-G18)+J18),(F18+G18+J18)),IF(E18="Y",0.916665,"")) | M18: =IF(OR($E18="Y",$F18>0),RANK($R18,$R$5:$R$34,1),"") | O18: =IF(F18>0,OFFSET(Cox!A$1,($I$1+$E$3),M18),IF(E18="Y",($E$3+$I$1+1),0)) -> 0 | P18: =($B$83/($B$84+C18)) -> 0.93930636 | R18: =IF(F18>0,((F18-$K$2)*P18),IF(E18="Y",0.916665,"")) | T18: =IF(F18>0,(($B$81)/(F18-$K$2))/24,"")
A19: ='Boat Name'!A19 -> Meltemi | B19: ='Boat Name'!B19 -> X 372 | C19: ='Boat Name'!D19 -> 123 | F19: 0.81594907 | G19: =IF(F19>0,ABS(((C19-$C$1)*$B$81)/86400),"") -> 0.007875 | I19: =IF(C19>$C$1,"-","+") -> - | J19: =$J$2 -> 0.0069444444 | K19: =IF(F19>0,IF(C19>$C$1,((F19-G19)+J19),(F19+G19+J19)),IF(E19="Y",0.916665,"")) -> 0.81501852 | M19: =IF(OR($E19="Y",$F19>0),RANK($R19,$R$5:$R$34,1),"") -> 2 | O19: =IF(F19>0,OFFSET(Cox!A$1,($I$1+$E$3),M19),IF(E19="Y",($E$3+$I$1+1),0)) -> 86 | P19: =($B$83/($B$84+C19)) -> 0.96582467 | R19: =IF(F19>0,((F19-$K$2)*P19),IF(E19="Y",0.916665,"")) -> 0.053634569 | T19: =IF(F19>0,(($B$81)/(F19-$K$2))/24,"") -> 4.0516882
A20: ='Boat Name'!A20 -> Nomade | B20: ='Boat Name'!B20 -> Dufour V35 | C20: ='Boat Name'!D20 -> 167 | G20: =IF(F20>0,ABS(((C20-$C$1)*$B$81)/86400),"") | I20: =IF(C20>$C$1,"-","+") -> - | J20: =$J$2 -> 0.0069444444 | K20: =IF(F20>0,IF(C20>$C$1,((F20-G20)+J20),(F20+G20+J20)),IF(E20="Y",0.916665,"")) | M20: =IF(OR($E20="Y",$F20>0),RANK($R20,$R$5:$R$34,1),"") | O20: =IF(F20>0,OFFSET(Cox!A$1,($I$1+$E$3),M20),IF(E20="Y",($E$3+$I$1+1),0)) -> 0 | P20: =($B$83/($B$84+C20)) -> 0.90655509 | R20: =IF(F20>0,((F20-$K$2)*P20),IF(E20="Y",0.916665,"")) | T20: =IF(F20>0,(($B$81)/(F20-$K$2))/24,"")
A21: ='Boat Name'!A21 -> Park Place | B21: ='Boat Name'!B21 -> O'Day 34 | C21: ='Boat Name'!D21 -> 169 | G21: =IF(F21>0,ABS(((C21-$C$1)*$B$81)/86400),"") | I21: =IF(C21>$C$1,"-","+") -> - | J21: =$J$2 -> 0.0069444444 | K21: =IF(F21>0,IF(C21>$C$1,((F21-G21)+J21),(F21+G21+J21)),IF(E21="Y",0.916665,"")) | M21: =IF(OR($E21="Y",$F21>0),RANK($R21,$R$5:$R$34,1),"") | O21: =IF(F21>0,OFFSET(Cox!A$1,($I$1+$E$3),M21),IF(E21="Y",($E$3+$I$1+1),0)) -> 0 | P21: =($B$83/($B$84+C21)) -> 0.90403338 | R21: =IF(F21>0,((F21-$K$2)*P21),IF(E21="Y",0.916665,"")) | T21: =IF(F21>0,(($B$81)/(F21-$K$2))/24,"")
A22: ='Boat Name'!A22 -> Phoenix | B22: ='Boat Name'!B22 -> X 332 | C22: ='Boat Name'!D22 -> 131 | G22: =IF(F22>0,ABS(((C22-$C$1)*$B$81)/86400),"") | I22: =IF(C22>$C$1,"-","+") -> - | J22: =$J$2 -> 0.0069444444 | K22: =IF(F22>0,IF(C22>$C$1,((F22-G22)+J22),(F22+G22+J22)),IF(E22="Y",0.916665,"")) | M22: =IF(OR($E22="Y",$F22>0),RANK($R22,$R$5:$R$34,1),"") | O22: =IF(F22>0,OFFSET(Cox!A$1,($I$1+$E$3),M22),IF(E22="Y",($E$3+$I$1+1),0)) -> 0 | P22: =($B$83/($B$84+C22)) -> 0.95447871 | R22: =IF(F22>0,((F22-$K$2)*P22),IF(E22="Y",0.916665,"")) | T22: =IF(F22>0,(($B$81)/(F22-$K$2))/24,"")
A23: ='Boat Name'!A23 -> Restless | B23: ='Boat Name'!B23 -> Rhodes 41 | C23: ='Boat Name'!D23 -> 192 | G23: =IF(F23>0,ABS(((C23-$C$1)*$B$81)/86400),"") | I23: =IF(C23>$C$1,"-","+") -> - | J23: =$J$2 -> 0.0069444444 | K23: =IF(F23>0,IF(C23>$C$1,((F23-G23)+J23),(F23+G23+J23)),IF(E23="Y",0.916665,"")) | M23: =IF(OR($E23="Y",$F23>0),RANK($R23,$R$5:$R$34,1),"") | O23: =IF(F23>0,OFFSET(Cox!A$1,($I$1+$E$3),M23),IF(E23="Y",($E$3+$I$1+1),0)) -> 0 | P23: =($B$83/($B$84+C23)) -> 0.87601078 | R23: =IF(F23>0,((F23-$K$2)*P23),IF(E23="Y",0.916665,"")) | T23: =IF(F23>0,(($B$81)/(F23-$K$2))/24,"")
A24: ='Boat Name'!A24 -> Sagacious | B24: ='Boat Name'!B24 -> Express 34 | C24: ='Boat Name'!D24 -> 123 | G24: =IF(F24>0,ABS(((C24-$C$1)*$B$81)/86400),"") | I24: =IF(C24>$C$1,"-","+") -> - | J24: =$J$2 -> 0.0069444444 | K24: =IF(F24>0,IF(C24>$C$1,((F24-G24)+J24),(F24+G24+J24)),IF(E24="Y",0.916665,"")) | M24: =IF(OR($E24="Y",$F24>0),RANK($R24,$R$5:$R$34,1),"") | O24: =IF(F24>0,OFFSET(Cox!A$1,($I$1+$E$3),M24),IF(E24="Y",($E$3+$I$1+1),0)) -> 0 | P24: =($B$83/($B$84+C24)) -> 0.96582467 | R24: =IF(F24>0,((F24-$K$2)*P24),IF(E24="Y",0.916665,"")) | T24: =IF(F24>0,(($B$81)/(F24-$K$2))/24,"")
A25: ='Boat Name'!A25 -> Silent Lady | B25: ='Boat Name'!B25 -> Catalina 25 | C25: ='Boat Name'!D25 -> 250 | G25: =IF(F25>0,ABS(((C25-$C$1)*$B$81)/86400),"") | I25: =IF(C25>$C$1,"-","+") -> - | J25: =$J$2 -> 0.0069444444 | K25: =IF(F25>0,IF(C25>$C$1,((F25-G25)+J25),(F25+G25+J25)),IF(E25="Y",0.916665,"")) | M25: =IF(OR($E25="Y",$F25>0),RANK($R25,$R$5:$R$34,1),"") | O25: =IF(F25>0,OFFSET(Cox!A$1,($I$1+$E$3),M25),IF(E25="Y",($E$3+$I$1+1),0)) -> 0 | P25: =($B$83/($B$84+C25)) -> 0.8125 | R25: =IF(F25>0,((F25-$K$2)*P25),IF(E25="Y",0.916665,"")) | T25: =IF(F25>0,(($B$81)/(F25-$K$2))/24,"")
A26: ='Boat Name'!A26 -> Spindrift | B26: ='Boat Name'!B26 -> Jeanneau 36 | C26: ='Boat Name'!D26 -> 142 | G26: =IF(F26>0,ABS(((C26-$C$1)*$B$81)/86400),"") | I26: =IF(C26>$C$1,"-","+") -> - | J26: =$J$2 -> 0.0069444444 | K26: =IF(F26>0,IF(C26>$C$1,((F26-G26)+J26),(F26+G26+J26)),IF(E26="Y",0.916665,"")) | M26: =IF(OR($E26="Y",$F26>0),RANK($R26,$R$5:$R$34,1),"") | O26: =IF(F26>0,OFFSET(Cox!A$1,($I$1+$E$3),M26),IF(E26="Y",($E$3+$I$1+1),0)) -> 0 | P26: =($B$83/($B$84+C26)) -> 0.93930636 | R26: =IF(F26>0,((F26-$K$2)*P26),IF(E26="Y",0.916665,"")) | T26: =IF(F26>0,(($B$81)/(F26-$K$2))/24,"")
A27: ='Boat Name'!A27 -> Towhee | B27: ='Boat Name'!B27 -> Cal 40 | C27: ='Boat Name'!D27 -> 138 | G27: =IF(F27>0,ABS(((C27-$C$1)*$B$81)/86400),"") | I27: =IF(C27>$C$1,"-","+") -> - | J27: =$J$2 -> 0.0069444444 | K27: =IF(F27>0,IF(C27>$C$1,((F27-G27)+J27),(F27+G27+J27)),IF(E27="Y",0.916665,"")) | M27: =IF(OR($E27="Y",$F27>0),RANK($R27,$R$5:$R$34,1),"") | O27: =IF(F27>0,OFFSET(Cox!A$1,($I$1+$E$3),M27),IF(E27="Y",($E$3+$I$1+1),0)) -> 0 | P27: =($B$83/($B$84+C27)) -> 0.94476744 | R27: =IF(F27>0,((F27-$K$2)*P27),IF(E27="Y",0.916665,"")) | T27: =IF(F27>0,(($B$81)/(F27-$K$2))/24,"")
A28: ='Boat Name'!A28 -> Tre Scooch | B28: ='Boat Name'!B28 -> Catalina 36 | C28: ='Boat Name'!D28 -> 187 | F28: 0.82476852 | G28: =IF(F28>0,ABS(((C28-$C$1)*$B$81)/86400),"") -> 0.011875 | I28: =IF(C28>$C$1,"-","+") -> - | J28: =$J$2 -> 0.0069444444 | K28: =IF(F28>0,IF(C28>$C$1,((F28-G28)+J28),(F28+G28+J28)),IF(E28="Y",0.916665,"")) -> 0.81983796 | M28: =IF(OR($E28="Y",$F28>0),RANK($R28,$R$5:$R$34,1),"") -> 5 | O28: =IF(F28>0,OFFSET(Cox!A$1,($I$1+$E$3),M28),IF(E28="Y",($E$3+$I$1+1),0)) -> 75 | P28: =($B$83/($B$84+C28)) -> 0.88195387 | R28: =IF(F28>0,((F28-$K$2)*P28),IF(E28="Y",0.916665,"")) -> 0.056755365 | T28: =IF(F28>0,(($B$81)/(F28-$K$2))/24,"") -> 3.4964029
A29: ='Boat Name'!A29 -> Yonder | B29: ='Boat Name'!B29 -> J-95 | C29: ='Boat Name'!D29 -> 121 | F29: 0.81805556 | G29: =IF(F29>0,ABS(((C29-$C$1)*$B$81)/86400),"") -> 0.00775 | I29: =IF(C29>$C$1,"-","+") -> - | J29: =$J$2 -> 0.0069444444 | K29: =IF(F29>0,IF(C29>$C$1,((F29-G29)+J29),(F29+G29+J29)),IF(E29="Y",0.916665,"")) -> 0.81725 | M29: =IF(OR($E29="Y",$F29>0),RANK($R29,$R$5:$R$34,1),"") -> 4 | O29: =IF(F29>0,OFFSET(Cox!A$1,($I$1+$E$3),M29),IF(E29="Y",($E$3+$I$1+1),0)) -> 78 | P29: =($B$83/($B$84+C29)) -> 0.96870343 | R29: =IF(F29>0,((F29-$K$2)*P29),IF(E29="Y",0.916665,"")) -> 0.055834989 | T29: =IF(F29>0,(($B$81)/(F29-$K$2))/24,"") -> 3.9036145
A30: ='Boat Name'!A30 -> Glow Boat | B30: ='Boat Name'!B30 -> F24 | C30: ='Boat Name'!D30 -> 80 | G30: =IF(F30>0,ABS(((C30-$C$1)*$B$81)/86400),"") | I30: =IF(C30>$C$1,"-","+") -> - | J30: =$J$2 -> 0.0069444444 | K30: =IF(F30>0,IF(C30>$C$1,((F30-G30)+J30),(F30+G30+J30)),IF(E30="Y",0.916665,"")) | M30: =IF(OR($E30="Y",$F30>0),RANK($R30,$R$5:$R$34,1),"") | O30: =IF(F30>0,OFFSET(Cox!A$1,($I$1+$E$3),M30),IF(E30="Y",($E$3+$I$1+1),0)) -> 0 | P30: =($B$83/($B$84+C30)) -> 1.031746 | R30: =IF(F30>0,((F30-$K$2)*P30),IF(E30="Y",0.916665,"")) | T30: =IF(F30>0,(($B$81)/(F30-$K$2))/24,"")
A31: ='Boat Name'!A31 -> Hooligan | B31: ='Boat Name'!B31 -> F27 | C31: ='Boat Name'!D31 -> 80 | G31: =IF(F31>0,ABS(((C31-$C$1)*$B$81)/86400),"") | I31: =IF(C31>$C$1,"-","+") -> - | J31: =$J$2 -> 0.0069444444 | K31: =IF(F31>0,IF(C31>$C$1,((F31-G31)+J31),(F31+G31+J31)),IF(E31="Y",0.916665,"")) | M31: =IF(OR($E31="Y",$F31>0),RANK($R31,$R$5:$R$34,1),"") | O31: =IF(F31>0,OFFSET(Cox!A$1,($I$1+$E$3),M31),IF(E31="Y",($E$3+$I$1+1),0)) -> 0 | P31: =($B$83/($B$84+C31)) -> 1.031746 | R31: =IF(F31>0,((F31-$K$2)*P31),IF(E31="Y",0.916665,"")) | T31: =IF(F31>0,(($B$81)/(F31-$K$2))/24,"")
A32: ='Boat Name'!A32 -> Holiday Routine | B32: ='Boat Name'!B32 -> 0 | C32: ='Boat Name'!D32 -> 204 | G32: =IF(F32>0,ABS(((C32-$C$1)*$B$81)/86400),"") | I32: =IF(C32>$C$1,"-","+") -> - | J32: =$J$2 -> 0.0069444444 | K32: =IF(F32>0,IF(C32>$C$1,((F32-G32)+J32),(F32+G32+J32)),IF(E32="Y",0.916665,"")) | M32: =IF(OR($E32="Y",$F32>0),RANK($R32,$R$5:$R$34,1),"") | O32: =IF(F32>0,OFFSET(Cox!A$1,($I$1+$E$3),M32),IF(E32="Y",($E$3+$I$1+1),0)) -> 0 | P32: =($B$83/($B$84+C32)) -> 0.86206897 | R32: =IF(F32>0,((F32-$K$2)*P32),IF(E32="Y",0.916665,"")) | T32: =IF(F32>0,(($B$81)/(F32-$K$2))/24,"")
A33: ='Boat Name'!A33 -> Sonas | B33: ='Boat Name'!B33 -> Oday 322 | C33: ='Boat Name'!D33 -> 204 | G33: =IF(F33>0,ABS(((C33-$C$1)*$B$81)/86400),"") | I33: =IF(C33>$C$1,"-","+") -> - | J33: =$J$2 -> 0.0069444444 | K33: =IF(F33>0,IF(C33>$C$1,((F33-G33)+J33),(F33+G33+J33)),IF(E33="Y",0.916665,"")) | M33: =IF(OR($E33="Y",$F33>0),RANK($R33,$R$5:$R$34,1),"") | O33: =IF(F33>0,OFFSET(Cox!A$1,($I$1+$E$3),M33),IF(E33="Y",($E$3+$I$1+1),0)) -> 0 | P33: =($B$83/($B$84+C33)) -> 0.86206897 | R33: =IF(F33>0,((F33-$K$2)*P33),IF(E33="Y",0.916665,"")) | T33: =IF(F33>0,(($B$81)/(F33-$K$2))/24,"")
A34: ='Boat Name'!A34 -> 0 | B34: ='Boat Name'!B34 -> 0 | C34: ='Boat Name'!D34 -> 0 | G34: =IF(F34>0,ABS(((C34-$C$1)*$B$81)/86400),"") | I34: =IF(C34>$C$1,"-","+") -> - | J34: =$J$2 -> 0.0069444444 | K34: =IF(F34>0,IF(C34>$C$1,((F34-G34)+J34),(F34+G34+J34)),IF(E34="Y",0.916665,"")) | M34: =IF(OR($E34="Y",$F34>0),RANK($R34,$R$5:$R$34,1),"") | O34: =IF(F34>0,OFFSET(Cox!A$1,($I$1+$E$3),M34),IF(E34="Y",($E$3+$I$1+1),0)) -> 0 | P34: =($B$83/($B$84+C34)) -> 1.1818182 | R34: =IF(F34>0,((F34-$K$2)*P34),IF(E34="Y",0.916665,"")) | T34: =IF(F34>0,(($B$81)/(F34-$K$2))/24,"")
F35: Total | G35: Crossed | I35: =COUNTIF(F39:F74,">0") -> 7 | M35: R/L or W/L Class Points? | O35: W/L
E36: Tot | J36: 0 | K36: 0.76736111 | L36: 0.76736111 | M36: W/L TOT | N36: R/L TOT | O36: TOT | T36: Avg.
E37: =COUNTIF(E39:E74,"Y") -> 0 | F37: Actual | G37: Handicap | I37: HDCP | J37: Start | K37: W/L ADJ. | L37: R/L ADJ. | M37: Class | N37: Class | O37: Class | P37: TOT W/L | Q37: TOT R/L | R37: TOT W/L | S37: TOT R/L | T37: Boat
A38: ='Boat Name'!A38 -> Racing Class | B38: ='Boat Name'!B38 -> Model | C38: ='Boat Name'!D38 -> W/L PHRF | D38: ='Boat Name'!E38 -> R/L PHRF | E38: DNF | F38: Finish | G38: Applied | I38: + / - | J38: Factor | K38: Finish | L38: Finish | M38: Fin. | N38: Fin. | O38: Points | P38: Factor | Q38: Factor | R38: Adj Time | S38: Adj Time | T38: KTS
A39: ='Boat Name'!A39 -> Alive | B39: ='Boat Name'!B39 -> J-105 | C39: ='Boat Name'!D39 -> 96 | D39: ='Boat Name'!E39 -> 90 | F39: 0.80876157 | G39: =IF(F39>0,ABS(((C39-$C$1)*$B$82)/86400),"") -> 0.004125 | H39: =IF(F39>0,ABS(((D39-$C$1)*$B$82)/86400),"") -> 0.003875 | I39: =IF(C39>$C$1,"-","+") -> - | J39: =$J$36 -> 0 | K39: =IF(F39>0,IF(C39>$C$1,((F39-G39)+J39),(F39+G39+J39)),IF(E39="Y",0.916665,"")) -> 0.80463657 | L39: =IF(F39>0,IF(D39>$C$1,((F39-H39)+J39),(F39+H39+J39)),IF(E39="Y",0.916665,"")) -> 0.80488657 | M39: =IF(OR($E39="Y",$F39>0),RANK($R39,$R$39:$R$74,1),"") -> 5 | N39: =IF(OR($E39="Y",$F39>0),RANK($S39,$S$39:$S$74,1),"") -> 5 | O39: =IF($O$35="R/L",IF(F39>0,OFFSET(Cox!A$1,($I$35+$E$37),N39),IF(E39="Y",($E$37+$I$35+1),0)),IF($O$35="W/L",IF(F39>0,OFFSET(Cox!A$1,($I$35+$E$37),M39),IF(E39="Y",($E$37+$I$35+1),0)))) -> 77 | P39: =($B$83/($B$84+C39)) -> 1.006192 | Q39: =($B$83/($B$84+D39)) -> 1.015625 | R39: =IF(F39>0,((F39-$K$36)*P39),IF(E39="Y",0.916665,"")) -> 0.041656813 | S39: =IF(F39>0,((F39-$L$36)*Q39),IF(E39="Y",0.916665,"")) -> 0.042047345 | T39: =IF(F39>0,(($B$82)/(F39-$K$36))/24,"") -> 3.6231479
A40: ='Boat Name'!A40 -> Dilemma | B40: ='Boat Name'!B40 -> Evelyn 32-2 | C40: ='Boat Name'!D40 -> 96 | D40: ='Boat Name'!E40 -> 92 | F40: 0.80979167 | G40: =IF(F40>0,ABS(((C40-$C$1)*$B$82)/86400),"") -> 0.004125 | H40: =IF(F40>0,ABS(((D40-$C$1)*$B$82)/86400),"") -> 0.0039583333 | I40: =IF(C40>$C$1,"-","+") -> - | J40: =$J$36 -> 0 | K40: =IF(F40>0,IF(C40>$C$1,((F40-G40)+J40),(F40+G40+J40)),IF(E40="Y",0.916665,"")) -> 0.80566667 | L40: =IF(F40>0,IF(D40>$C$1,((F40-H40)+J40),(F40+H40+J40)),IF(E40="Y",0.916665,"")) -> 0.80583333 | M40: =IF(OR($E40="Y",$F40>0),RANK($R40,$R$39:$R$74,1),"") -> 6 | N40: =IF(OR($E40="Y",$F40>0),RANK($S40,$S$39:$S$74,1),"") -> 6 | O40: =IF($O$35="R/L",IF(F40>0,OFFSET(Cox!A$1,($I$35+$E$37),N40),IF(E40="Y",($E$37+$I$35+1),0)),IF($O$35="W/L",IF(F40>0,OFFSET(Cox!A$1,($I$35+$E$37),M40),IF(E40="Y",($E$37+$I$35+1),0)))) -> 74 | P40: =($B$83/($B$84+C40)) -> 1.006192 | Q40: =($B$83/($B$84+D40)) -> 1.0124611 | R40: =IF(F40>0,((F40-$K$36)*P40),IF(E40="Y",0.916665,"")) -> 0.042693283 | S40: =IF(F40>0,((F40-$L$36)*Q40),IF(E40="Y",0.916665,"")) -> 0.042959285 | T40: =IF(F40>0,(($B$82)/(F40-$K$36))/24,"") -> 3.5351882
A41: ='Boat Name'!A41 -> Doubledown - Sail Last | B41: ='Boat Name'!B41 -> Henderson 30 | C41: ='Boat Name'!D41 -> 42 | D41: ='Boat Name'!E41 -> 42 | G41: =IF(F41>0,ABS(((C41-$C$1)*$B$82)/86400),"") | H41: =IF(F41>0,ABS(((D41-$C$1)*$B$82)/86400),"") | I41: =IF(C41>$C$1,"-","+") -> - | J41: =$J$36 -> 0 | K41: =IF(F41>0,IF(C41>$C$1,((F41-G41)+J41),(F41+G41+J41)),IF(E41="Y",0.916665,"")) | L41: =IF(F41>0,IF(D41>$C$1,((F41-H41)+J41),(F41+H41+J41)),IF(E41="Y",0.916665,"")) | M41: =IF(OR($E41="Y",$F41>0),RANK($R41,$R$39:$R$74,1),"") | N41: =IF(OR($E41="Y",$F41>0),RANK($S41,$S$39:$S$74,1),"") | O41: =IF($O$35="R/L",IF(F41>0,OFFSET(Cox!A$1,($I$35+$E$37),N41),IF(E41="Y",($E$37+$I$35+1),0)),IF($O$35="W/L",IF(F41>0,OFFSET(Cox!A$1,($I$35+$E$37),M41),IF(E41="Y",($E$37+$I$35+1),0)))) -> 0 | P41: =($B$83/($B$84+C41)) -> 1.097973 | Q41: =($B$83/($B$84+D41)) -> 1.097973 | R41: =IF(F41>0,((F41-$K$36)*P41),IF(E41="Y",0.916665,"")) | S41: =IF(F41>0,((F41-$L$36)*Q41),IF(E41="Y",0.916665,"")) | T41: =IF(F41>0,(($B$82)/(F41-$K$36))/24,"")
A42: ='Boat Name'!A42 -> Dulcinea | B42: ='Boat Name'!B42 -> Tripp 36 | C42: ='Boat Name'!D42 -> 60 | D42: ='Boat Name'!E42 -> 59 | F42: 0.80618056 | G42: =IF(F42>0,ABS(((C42-$C$1)*$B$82)/86400),"") -> 0.002625 | H42: =IF(F42>0,ABS(((D42-$C$1)*$B$82)/86400),"") -> 0.0025833333 | I42: =IF(C42>$C$1,"-","+") -> - | J42: =$J$36 -> 0 | K42: =IF(F42>0,IF(C42>$C$1,((F42-G42)+J42),(F42+G42+J42)),IF(E42="Y",0.916665,"")) -> 0.80355556 | L42: =IF(F42>0,IF(D42>$C$1,((F42-H42)+J42),(F42+H42+J42)),IF(E42="Y",0.916665,"")) -> 0.80359722 | M42: =IF(OR($E42="Y",$F42>0),RANK($R42,$R$39:$R$74,1),"") -> 4 | N42: =IF(OR($E42="Y",$F42>0),RANK($S42,$S$39:$S$74,1),"") -> 4 | O42: =IF($O$35="R/L",IF(F42>0,OFFSET(Cox!A$1,($I$35+$E$37),N42),IF(E42="Y",($E$37+$I$35+1),0)),IF($O$35="W/L",IF(F42>0,OFFSET(Cox!A$1,($I$35+$E$37),M42),IF(E42="Y",($E$37+$I$35+1),0)))) -> 80 | P42: =($B$83/($B$84+C42)) -> 1.0655738 | Q42: =($B$83/($B$84+D42)) -> 1.0673235 | R42: =IF(F42>0,((F42-$K$36)*P42),IF(E42="Y",0.916665,"")) -> 0.041364982 | S42: =IF(F42>0,((F42-$L$36)*Q42),IF(E42="Y",0.916665,"")) -> 0.041432905 | T42: =IF(F42>0,(($B$82)/(F42-$K$36))/24,"") -> 3.8640429
A43: ='Boat Name'!A43 -> Eclipse | B43: ='Boat Name'!B43 -> J 36 | C43: ='Boat Name'!D43 -> 87 | D43: ='Boat Name'!E43 -> 87 | G43: =IF(F43>0,ABS(((C43-$C$1)*$B$82)/86400),"") | H43: =IF(F43>0,ABS(((D43-$C$1)*$B$82)/86400),"") | I43: =IF(C43>$C$1,"-","+") -> - | J43: =$J$36 -> 0 | K43: =IF(F43>0,IF(C43>$C$1,((F43-G43)+J43),(F43+G43+J43)),IF(E43="Y",0.916665,"")) | L43: =IF(F43>0,IF(D43>$C$1,((F43-H43)+J43),(F43+H43+J43)),IF(E43="Y",0.916665,"")) | M43: =IF(OR($E43="Y",$F43>0),RANK($R43,$R$39:$R$74,1),"") | N43: =IF(OR($E43="Y",$F43>0),RANK($S43,$S$39:$S$74,1),"") | O43: =IF($O$35="R/L",IF(F43>0,OFFSET(Cox!A$1,($I$35+$E$37),N43),IF(E43="Y",($E$37+$I$35+1),0)),IF($O$35="W/L",IF(F43>0,OFFSET(Cox!A$1,($I$35+$E$37),M43),IF(E43="Y",($E$37+$I$35+1),0)))) -> 0 | P43: =($B$83/($B$84+C43)) -> 1.0204082 | Q43: =($B$83/($B$84+D43)) -> 1.0204082 | R43: =IF(F43>0,((F43-$K$36)*P43),IF(E43="Y",0.916665,"")) | S43: =IF(F43>0,((F43-$L$36)*Q43),IF(E43="Y",0.916665,"")) | T43: =IF(F43>0,(($B$82)/(F43-$K$36))/24,"")
A44: ='Boat Name'!A44 -> Gardian J | B44: ='Boat Name'!B44 -> J-109 | C44: ='Boat Name'!D44 -> 77 | D44: ='Boat Name'!E44 -> 72 | G44: =IF(F44>0,ABS(((C44-$C$1)*$B$82)/86400),"") | H44: =IF(F44>0,ABS(((D44-$C$1)*$B$82)/86400),"") | I44: =IF(C44>$C$1,"-","+") -> - | J44: =$J$36 -> 0 | K44: =IF(F44>0,IF(C44>$C$1,((F44-G44)+J44),(F44+G44+J44)),IF(E44="Y",0.916665,"")) | L44: =IF(F44>0,IF(D44>$C$1,((F44-H44)+J44),(F44+H44+J44)),IF(E44="Y",0.916665,"")) | M44: =IF(OR($E44="Y",$F44>0),RANK($R44,$R$39:$R$74,1),"") | N44: =IF(OR($E44="Y",$F44>0),RANK($S44,$S$39:$S$74,1),"") | O44: =IF($O$35="R/L",IF(F44>0,OFFSET(Cox!A$1,($I$35+$E$37),N44),IF(E44="Y",($E$37+$I$35+1),0)),IF($O$35="W/L",IF(F44>0,OFFSET(Cox!A$1,($I$35+$E$37),M44),IF(E44="Y",($E$37+$I$35+1),0)))) -> 0 | P44: =($B$83/($B$84+C44)) -> 1.0366826 | Q44: =($B$83/($B$84+D44)) -> 1.0450161 | R44: =IF(F44>0,((F44-$K$36)*P44),IF(E44="Y",0.916665,"")) | S44: =IF(F44>0,((F44-$L$36)*Q44),IF(E44="Y",0.916665,"")) | T44: =IF(F44>0,(($B$82)/(F44-$K$36))/24,"")
A45: ='Boat Name'!A45 -> Invicta | B45: ='Boat Name'!B45 -> Farr 400 | C45: ='Boat Name'!D45 -> -6 | D45: ='Boat Name'!E45 -> -12 | G45: =IF(F45>0,ABS(((C45-$C$1)*$B$82)/86400),"") | H45: =IF(F45>0,ABS(((D45-$C$1)*$B$82)/86400),"") | I45: =IF(C45>$C$1,"-","+") -> + | J45: =$J$36 -> 0 | K45: =IF(F45>0,IF(C45>$C$1,((F45-G45)+J45),(F45+G45+J45)),IF(E45="Y",0.916665,"")) | L45: =IF(F45>0,IF(D45>$C$1,((F45-H45)+J45),(F45+H45+J45)),IF(E45="Y",0.916665,"")) | M45: =IF(OR($E45="Y",$F45>0),RANK($R45,$R$39:$R$74,1),"") | N45: =IF(OR($E45="Y",$F45>0),RANK($S45,$S$39:$S$74,1),"") | O45: =IF($O$35="R/L",IF(F45>0,OFFSET(Cox!A$1,($I$35+$E$37),N45),IF(E45="Y",($E$37+$I$35+1),0)),IF($O$35="W/L",IF(F45>0,OFFSET(Cox!A$1,($I$35+$E$37),M45),IF(E45="Y",($E$37+$I$35+1),0)))) -> 0 | P45: =($B$83/($B$84+C45)) -> 1.1948529 | Q45: =($B$83/($B$84+D45)) -> 1.2081784 | R45: =IF(F45>0,((F45-$K$36)*P45),IF(E45="Y",0.916665,"")) | S45: =IF(F45>0,((F45-$L$36)*Q45),IF(E45="Y",0.916665,"")) | T45: =IF(F45>0,(($B$82)/(F45-$K$36))/24,"")
A46: ='Boat Name'!A46 -> Jesse Leigh | B46: ='Boat Name'!B46 -> J-35 | C46: ='Boat Name'!D46 -> 78 | D46: ='Boat Name'!E46 -> 77 | G46: =IF(F46>0,ABS(((C46-$C$1)*$B$82)/86400),"") | H46: =IF(F46>0,ABS(((D46-$C$1)*$B$82)/86400),"") | I46: =IF(C46>$C$1,"-","+") -> - | J46: =$J$36 -> 0 | K46: =IF(F46>0,IF(C46>$C$1,((F46-G46)+J46),(F46+G46+J46)),IF(E46="Y",0.916665,"")) | L46: =IF(F46>0,IF(D46>$C$1,((F46-H46)+J46),(F46+H46+J46)),IF(E46="Y",0.916665,"")) | M46: =IF(OR($E46="Y",$F46>0),RANK($R46,$R$39:$R$74,1),"") | N46: =IF(OR($E46="Y",$F46>0),RANK($S46,$S$39:$S$74,1),"") | O46: =IF($O$35="R/L",IF(F46>0,OFFSET(Cox!A$1,($I$35+$E$37),N46),IF(E46="Y",($E$37+$I$35+1),0)),IF($O$35="W/L",IF(F46>0,OFFSET(Cox!A$1,($I$35+$E$37),M46),IF(E46="Y",($E$37+$I$35+1),0)))) -> 0 | P46: =($B$83/($B$84+C46)) -> 1.0350318 | Q46: =($B$83/($B$84+D46)) -> 1.0366826 | R46: =IF(F46>0,((F46-$K$36)*P46),IF(E46="Y",0.916665,"")) | S46: =IF(F46>0,((F46-$L$36)*Q46),IF(E46="Y",0.916665,"")) | T46: =IF(F46>0,(($B$82)/(F46-$K$36))/24,"")
A47: ='Boat Name'!A47 -> Kestrel | B47: ='Boat Name'!B47 -> J97 | C47: ='Boat Name'!D47 -> 102 | D47: ='Boat Name'!E47 -> 98 | G47: =IF(F47>0,ABS(((C47-$C$1)*$B$82)/86400),"") | H47: =IF(F47>0,ABS(((D47-$C$1)*$B$82)/86400),"") | I47: =IF(C47>$C$1,"-","+") -> - | J47: =$J$36 -> 0 | K47: =IF(F47>0,IF(C47>$C$1,((F47-G47)+J47),(F47+G47+J47)),IF(E47="Y",0.916665,"")) | L47: =IF(F47>0,IF(D47>$C$1,((F47-H47)+J47),(F47+H47+J47)),IF(E47="Y",0.916665,"")) | M47: =IF(OR($E47="Y",$F47>0),RANK($R47,$R$39:$R$74,1),"") | N47: =IF(OR($E47="Y",$F47>0),RANK($S47,$S$39:$S$74,1),"") | O47: =IF($O$35="R/L",IF(F47>0,OFFSET(Cox!A$1,($I$35+$E$37),N47),IF(E47="Y",($E$37+$I$35+1),0)),IF($O$35="W/L",IF(F47>0,OFFSET(Cox!A$1,($I$35+$E$37),M47),IF(E47="Y",($E$37+$I$35+1),0)))) -> 0 | P47: =($B$83/($B$84+C47)) -> 0.99693252 | Q47: =($B$83/($B$84+D47)) -> 1.0030864 | R47: =IF(F47>0,((F47-$K$36)*P47),IF(E47="Y",0.916665,"")) | S47: =IF(F47>0,((F47-$L$36)*Q47),IF(E47="Y",0.916665,"")) | T47: =IF(F47>0,(($B$82)/(F47-$K$36))/24,"")
A48: ='Boat Name'!A48 -> Madcap | B48: ='Boat Name'!B48 -> J-105 | C48: ='Boat Name'!D48 -> 96 | D48: ='Boat Name'!E48 -> 90 | G48: =IF(F48>0,ABS(((C48-$C$1)*$B$82)/86400),"") | H48: =IF(F48>0,ABS(((D48-$C$1)*$B$82)/86400),"") | I48: =IF(C48>$C$1,"-","+") -> - | J48: =$J$36 -> 0 | K48: =IF(F48>0,IF(C48>$C$1,((F48-G48)+J48),(F48+G48+J48)),IF(E48="Y",0.916665,"")) | L48: =IF(F48>0,IF(D48>$C$1,((F48-H48)+J48),(F48+H48+J48)),IF(E48="Y",0.916665,"")) | M48: =IF(OR($E48="Y",$F48>0),RANK($R48,$R$39:$R$74,1),"") | N48: =IF(OR($E48="Y",$F48>0),RANK($S48,$S$39:$S$74,1),"") | O48: =IF($O$35="R/L",IF(F48>0,OFFSET(Cox!A$1,($I$35+$E$37),N48),IF(E48="Y",($E$37+$I$35+1),0)),IF($O$35="W/L",IF(F48>0,OFFSET(Cox!A$1,($I$35+$E$37),M48),IF(E48="Y",($E$37+$I$35+1),0)))) -> 0 | P48: =($B$83/($B$84+C48)) -> 1.006192 | Q48: =($B$83/($B$84+D48)) -> 1.015625 | R48: =IF(F48>0,((F48-$K$36)*P48),IF(E48="Y",0.916665,"")) | S48: =IF(F48>0,((F48-$L$36)*Q48),IF(E48="Y",0.916665,"")) | T48: =IF(F48>0,(($B$82)/(F48-$K$36))/24,"")
A49: ='Boat Name'!A49 -> Mademoiselle | B49: ='Boat Name'!B49 -> BENETEAU 44.7 SD RF | C49: ='Boat Name'!D49 -> 39 | D49: ='Boat Name'!E49 -> 39 | G49: =IF(F49>0,ABS(((C49-$C$1)*$B$82)/86400),"") | H49: =IF(F49>0,ABS(((D49-$C$1)*$B$82)/86400),"") | I49: =IF(C49>$C$1,"-","+") -> - | J49: =$J$36 -> 0 | K49: =IF(F49>0,IF(C49>$C$1,((F49-G49)+J49),(F49+G49+J49)),IF(E49="Y",0.916665,"")) | L49: =IF(F49>0,IF(D49>$C$1,((F49-H49)+J49),(F49+H49+J49)),IF(E49="Y",0.916665,"")) | M49: =IF(OR($E49="Y",$F49>0),RANK($R49,$R$39:$R$74,1),"") | N49: =IF(OR($E49="Y",$F49>0),RANK($S49,$S$39:$S$74,1),"") | O49: =IF($O$35="R/L",IF(F49>0,OFFSET(Cox!A$1,($I$35+$E$37),N49),IF(E49="Y",($E$37+$I$35+1),0)),IF($O$35="W/L",IF(F49>0,OFFSET(Cox!A$1,($I$35+$E$37),M49),IF(E49="Y",($E$37+$I$35+1),0)))) -> 0 | P49: =($B$83/($B$84+C49)) -> 1.1035654 | Q49: =($B$83/($B$84+D49)) -> 1.1035654 | R49: =IF(F49>0,((F49-$K$36)*P49),IF(E49="Y",0.916665,"")) | S49: =IF(F49>0,((F49-$L$36)*Q49),IF(E49="Y",0.916665,"")) | T49: =IF(F49>0,(($B$82)/(F49-$K$36))/24,"")
A50: ='Boat Name'!A50 -> Magan | B50: ='Boat Name'!B50 -> Olson 34 | C50: ='Boat Name'!D50 -> 121 | D50: ='Boat Name'!E50 -> 121 | G50: =IF(F50>0,ABS(((C50-$C$1)*$B$82)/86400),"") | H50: =IF(F50>0,ABS(((D50-$C$1)*$B$82)/86400),"") | I50: =IF(C50>$C$1,"-","+") -> - | J50: =$J$36 -> 0 | K50: =IF(F50>0,IF(C50>$C$1,((F50-G50)+J50),(F50+G50+J50)),IF(E50="Y",0.916665,"")) | L50: =IF(F50>0,IF(D50>$C$1,((F50-H50)+J50),(F50+H50+J50)),IF(E50="Y",0.916665,"")) | M50: =IF(OR($E50="Y",$F50>0),RANK($R50,$R$39:$R$74,1),"") | N50: =IF(OR($E50="Y",$F50>0),RANK($S50,$S$39:$S$74,1),"") | O50: =IF($O$35="R/L",IF(F50>0,OFFSET(Cox!A$1,($I$35+$E$37),N50),IF(E50="Y",($E$37+$I$35+1),0)),IF($O$35="W/L",IF(F50>0,OFFSET(Cox!A$1,($I$35+$E$37),M50),IF(E50="Y",($E$37+$I$35+1),0)))) -> 0 | P50: =($B$83/($B$84+C50)) -> 0.96870343 | Q50: =($B$83/($B$84+D50)) -> 0.96870343 | R50: =IF(F50>0,((F50-$K$36)*P50),IF(E50="Y",0.916665,"")) | S50: =IF(F50>0,((F50-$L$36)*Q50),IF(E50="Y",0.916665,"")) | T50: =IF(F50>0,(($B$82)/(F50-$K$36))/24,"")
A51: ='Boat Name'!A51 -> Mara | B51: ='Boat Name'!B51 -> X332 | C51: ='Boat Name'!D51 -> 111 | D51: ='Boat Name'!E51 -> 111 | G51: =IF(F51>0,ABS(((C51-$C$1)*$B$82)/86400),"") | H51: =IF(F51>0,ABS(((D51-$C$1)*$B$82)/86400),"") | I51: =IF(C51>$C$1,"-","+") -> - | J51: =$J$36 -> 0 | K51: =IF(F51>0,IF(C51>$C$1,((F51-G51)+J51),(F51+G51+J51)),IF(E51="Y",0.916665,"")) | L51: =IF(F51>0,IF(D51>$C$1,((F51-H51)+J51),(F51+H51+J51)),IF(E51="Y",0.916665,"")) | M51: =IF(OR($E51="Y",$F51>0),RANK($R51,$R$39:$R$74,1),"") | N51: =IF(OR($E51="Y",$F51>0),RANK($S51,$S$39:$S$74,1),"") | O51: =IF($O$35="R/L",IF(F51>0,OFFSET(Cox!A$1,($I$35+$E$37),N51),IF(E51="Y",($E$37+$I$35+1),0)),IF($O$35="W/L",IF(F51>0,OFFSET(Cox!A$1,($I$35+$E$37),M51),IF(E51="Y",($E$37+$I$35+1),0)))) -> 0 | P51: =($B$83/($B$84+C51)) -> 0.98335855 | Q51: =($B$83/($B$84+D51)) -> 0.98335855 | R51: =IF(F51>0,((F51-$K$36)*P51),IF(E51="Y",0.916665,"")) | S51: =IF(F51>0,((F51-$L$36)*Q51),IF(E51="Y",0.916665,"")) | T51: =IF(F51>0,(($B$82)/(F51-$K$36))/24,"")
A52: ='Boat Name'!A52 -> Meltemi | B52: ='Boat Name'!B52 -> X372 | C52: ='Boat Name'!D52 -> 103 | D52: ='Boat Name'!E52 -> 103 | G52: =IF(F52>0,ABS(((C52-$C$1)*$B$82)/86400),"") | H52: =IF(F52>0,ABS(((D52-$C$1)*$B$82)/86400),"") | I52: =IF(C52>$C$1,"-","+") -> - | J52: =$J$36 -> 0 | K52: =IF(F52>0,IF(C52>$C$1,((F52-G52)+J52),(F52+G52+J52)),IF(E52="Y",0.916665,"")) | L52: =IF(F52>0,IF(D52>$C$1,((F52-H52)+J52),(F52+H52+J52)),IF(E52="Y",0.916665,"")) | M52: =IF(OR($E52="Y",$F52>0),RANK($R52,$R$39:$R$74,1),"") | N52: =IF(OR($E52="Y",$F52>0),RANK($S52,$S$39:$S$74,1),"") | O52: =IF($O$35="R/L",IF(F52>0,OFFSET(Cox!A$1,($I$35+$E$37),N52),IF(E52="Y",($E$37+$I$35+1),0)),IF($O$35="W/L",IF(F52>0,OFFSET(Cox!A$1,($I$35+$E$37),M52),IF(E52="Y",($E$37+$I$35+1),0)))) -> 0 | P52: =($B$83/($B$84+C52)) -> 0.99540582 | Q52: =($B$83/($B$84+D52)) -> 0.99540582 | R52: =IF(F52>0,((F52-$K$36)*P52),IF(E52="Y",0.916665,"")) | S52: =IF(F52>0,((F52-$L$36)*Q52),IF(E52="Y",0.916665,"")) | T52: =IF(F52>0,(($B$82)/(F52-$K$36))/24,"")
A53: ='Boat Name'!A53 -> Pachyderm | B53: ='Boat Name'!B53 -> Frers 33 | C53: ='Boat Name'!D53 -> 108 | D53: ='Boat Name'!E53 -> 109 | F53: 0.8056713 | G53: =IF(F53>0,ABS(((C53-$C$1)*$B$82)/86400),"") -> 0.004625 | H53: =IF(F53>0,ABS(((D53-$C$1)*$B$82)/86400),"") -> 0.0046666667 | I53: =IF(C53>$C$1,"-","+") -> - | J53: =$J$36 -> 0 | K53: =IF(F53>0,IF(C53>$C$1,((F53-G53)+J53),(F53+G53+J53)),IF(E53="Y",0.916665,"")) -> 0.8010463 | L53: =IF(F53>0,IF(D53>$C$1,((F53-H53)+J53),(F53+H53+J53)),IF(E53="Y",0.916665,"")) -> 0.80100463 | M53: =IF(OR($E53="Y",$F53>0),RANK($R53,$R$39:$R$74,1),"") -> 1 | N53: =IF(OR($E53="Y",$F53>0),RANK($S53,$S$39:$S$74,1),"") -> 1 | O53: =IF($O$35="R/L",IF(F53>0,OFFSET(Cox!A$1,($I$35+$E$37),N53),IF(E53="Y",($E$37+$I$35+1),0)),IF($O$35="W/L",IF(F53>0,OFFSET(Cox!A$1,($I$35+$E$37),M53),IF(E53="Y",($E$37+$I$35+1),0)))) -> 94 | P53: =($B$83/($B$84+C53)) -> 0.98784195 | Q53: =($B$83/($B$84+D53)) -> 0.98634294 | R53: =IF(F53>0,((F53-$K$36)*P53),IF(E53="Y",0.916665,"")) -> 0.037844408 | S53: =IF(F53>0,((F53-$L$36)*Q53),IF(E53="Y",0.916665,"")) -> 0.037786981 | T53: =IF(F53>0,(($B$82)/(F53-$K$36))/24,"") -> 3.9154079
A54: ='Boat Name'!A54 -> Park Place | B54: ='Boat Name'!B54 -> O'Day 34 | C54: ='Boat Name'!D54 -> 147 | D54: ='Boat Name'!E54 -> 148 | F54: 0.809375 | G54: =IF(F54>0,ABS(((C54-$C$1)*$B$82)/86400),"") -> 0.00625 | H54: =IF(F54>0,ABS(((D54-$C$1)*$B$82)/86400),"") -> 0.0062916667 | I54: =IF(C54>$C$1,"-","+") -> - | J54: =$J$36 -> 0 | K54: =IF(F54>0,IF(C54>$C$1,((F54-G54)+J54),(F54+G54+J54)),IF(E54="Y",0.916665,"")) -> 0.803125 | L54: =IF(F54>0,IF(D54>$C$1,((F54-H54)+J54),(F54+H54+J54)),IF(E54="Y",0.916665,"")) -> 0.80308333 | M54: =IF(OR($E54="Y",$F54>0),RANK($R54,$R$39:$R$74,1),"") -> 2 | N54: =IF(OR($E54="Y",$F54>0),RANK($S54,$S$39:$S$74,1),"") -> 2 | O54: =IF($O$35="R/L",IF(F54>0,OFFSET(Cox!A$1,($I$35+$E$37),N54),IF(E54="Y",($E$37+$I$35+1),0)),IF($O$35="W/L",IF(F54>0,OFFSET(Cox!A$1,($I$35+$E$37),M54),IF(E54="Y",($E$37+$I$35+1),0)))) -> 88 | P54: =($B$83/($B$84+C54)) -> 0.93256815 | Q54: =($B$83/($B$84+D54)) -> 0.93123209 | R54: =IF(F54>0,((F54-$K$36)*P54),IF(E54="Y",0.916665,"")) -> 0.039180815 | S54: =IF(F54>0,((F54-$L$36)*Q54),IF(E54="Y",0.916665,"")) -> 0.039124682 | T54: =IF(F54>0,(($B$82)/(F54-$K$36))/24,"") -> 3.5702479
A55: ='Boat Name'!A55 -> Sagacious | B55: ='Boat Name'!B55 -> Express 34 | C55: ='Boat Name'!D55 -> 102 | D55: ='Boat Name'!E55 -> 102 | G55: =IF(F55>0,ABS(((C55-$C$1)*$B$82)/86400),"") | H55: =IF(F55>0,ABS(((D55-$C$1)*$B$82)/86400),"") | I55: =IF(C55>$C$1,"-","+") -> - | J55: =$J$36 -> 0 | K55: =IF(F55>0,IF(C55>$C$1,((F55-G55)+J55),(F55+G55+J55)),IF(E55="Y",0.916665,"")) | L55: =IF(F55>0,IF(D55>$C$1,((F55-H55)+J55),(F55+H55+J55)),IF(E55="Y",0.916665,"")) | M55: =IF(OR($E55="Y",$F55>0),RANK($R55,$R$39:$R$74,1),"") | N55: =IF(OR($E55="Y",$F55>0),RANK($S55,$S$39:$S$74,1),"") | O55: =IF($O$35="R/L",IF(F55>0,OFFSET(Cox!A$1,($I$35+$E$37),N55),IF(E55="Y",($E$37+$I$35+1),0)),IF($O$35="W/L",IF(F55>0,OFFSET(Cox!A$1,($I$35+$E$37),M55),IF(E55="Y",($E$37+$I$35+1),0)))) -> 0 | P55: =($B$83/($B$84+C55)) -> 0.99693252 | Q55: =($B$83/($B$84+D55)) -> 0.99693252 | R55: =IF(F55>0,((F55-$K$36)*P55),IF(E55="Y",0.916665,"")) | S55: =IF(F55>0,((F55-$L$36)*Q55),IF(E55="Y",0.916665,"")) | T55: =IF(F55>0,(($B$82)/(F55-$K$36))/24,"")
A56: ='Boat Name'!A56 -> Glow Boat | B56: ='Boat Name'!B56 -> F24 Trimeran | C56: ='Boat Name'!D56 -> 80 | D56: ='Boat Name'!E56 -> 80 | F56: 0.81340278 | G56: =IF(F56>0,ABS(((C56-$C$1)*$B$82)/86400),"") -> 0.0034583333 | H56: =IF(F56>0,ABS(((D56-$C$1)*$B$82)/86400),"") -> 0.0034583333 | I56: =IF(C56>$C$1,"-","+") -> - | J56: =$J$36 -> 0 | K56: =IF(F56>0,IF(C56>$C$1,((F56-G56)+J56),(F56+G56+J56)),IF(E56="Y",0.916665,"")) -> 0.80994444 | L56: =IF(F56>0,IF(D56>$C$1,((F56-H56)+J56),(F56+H56+J56)),IF(E56="Y",0.916665,"")) -> 0.80994444 | M56: =IF(OR($E56="Y",$F56>0),RANK($R56,$R$39:$R$74,1),"") -> 7 | N56: =IF(OR($E56="Y",$F56>0),RANK($S56,$S$39:$S$74,1),"") -> 7 | O56: =IF($O$35="R/L",IF(F56>0,OFFSET(Cox!A$1,($I$35+$E$37),N56),IF(E56="Y",($E$37+$I$35+1),0)),IF($O$35="W/L",IF(F56>0,OFFSET(Cox!A$1,($I$35+$E$37),M56),IF(E56="Y",($E$37+$I$35+1),0)))) -> 72 | P56: =($B$83/($B$84+C56)) -> 1.031746 | Q56: =($B$83/($B$84+D56)) -> 1.031746 | R56: =IF(F56>0,((F56-$K$36)*P56),IF(E56="Y",0.916665,"")) -> 0.047503307 | S56: =IF(F56>0,((F56-$L$36)*Q56),IF(E56="Y",0.916665,"")) -> 0.047503307 | T56: =IF(F56>0,(($B$82)/(F56-$K$36))/24,"") -> 3.2579186
